{"text_format":"1","workbook":"xlsx","n_sheets":6,"sheets":["Sheet1","最初にお読みください","Marksheet","Editor","Mark_Shape","Sheet4"],"not_rendered":{"charts":0,"images":7,"macros":1,"external_links":0,"defined_names":1,"comments":0,"pivot_tables":0},"unopened":[],"bounds":{"document_bytes":16777216,"sheet_cells":100000,"rows_first":2000,"rows_last":500,"rows_between":2000,"halvings":0,"cell_chars":16384,"cell_head_chars":4096},"cells_cut":0,"cells_raw":0,"read":"whole","date_system":"1900"}

{"sheet":"Sheet1","index":0,"n_rows":42,"n_cols":75,"rows_kept":42,"cut":false,"hidden":true,"merged":[]}
[]
[]
[]
[1,null,null,null,null,null,null,null,{"$f":"INDEX(Editor!$C$5:$W$40,Editor!DA6+1,Editor!DA$36)","v":{"$error":"#VALUE!"}},{"$f":"INDEX(Editor!$C$5:$W$40,Editor!DB6+1,Editor!DB$36)","v":{"$error":"#VALUE!"}},{"$f":"INDEX(Editor!$C$5:$W$40,Editor!DC6+1,Editor!DC$36)","v":{"$error":"#VALUE!"}},{"$f":"INDEX(Editor!$C$5:$W$40,Editor!DD6+1,Editor!DD$36)","v":{"$error":"#VALUE!"}},{"$f":"INDEX(Editor!$C$5:$W$40,Editor!DE6+1,Editor!DE$36)","v":{"$error":"#VALUE!"}},{"$f":"INDEX(Editor!$C$5:$W$40,Editor!DF6+1,Editor!DF$36)","v":{"$error":"#VALUE!"}},{"$f":"INDEX(Editor!$C$5:$W$40,Editor!DG6+1,Editor!DG$36)","v":{"$error":"#VALUE!"}},{"$f":"INDEX(Editor!$C$5:$W$40,Editor!DH6+1,Editor!DH$36)","v":{"$error":"#VALUE!"}},{"$f":"INDEX(Editor!$C$5:$W$40,Editor!DI6+1,Editor!DI$36)","v":{"$error":"#VALUE!"}},{"$f":"INDEX(Editor!$C$5:$W$40,Editor!DJ6+1,Editor!DJ$36)","v":{"$error":"#VALUE!"}},{"$f":"INDEX(Editor!$C$5:$W$40,Editor!DK6+1,Editor!DK$36)","v":{"$error":"#VALUE!"}},{"$f":"INDEX(Editor!$C$5:$W$40,Editor!DL6+1,Editor!DL$36)","v":{"$error":"#VALUE!"}},{"$f":"INDEX(Editor!$C$5:$W$40,Editor!DM6+1,Editor!DM$36)","v":{"$error":"#VALUE!"}},{"$f":"INDEX(Editor!$C$5:$W$40,Editor!DN6+1,Editor!DN$36)","v":{"$error":"#VALUE!"}},{"$f":"INDEX(Editor!$C$5:$W$40,Editor!DO6+1,Editor!DO$36)","v":{"$error":"#VALUE!"}},{"$f":"INDEX(Editor!$C$5:$W$40,Editor!DP6+1,Editor!DP$36)","v":{"$error":"#VALUE!"}},{"$f":"INDEX(Editor!$C$5:$W$40,Editor!DQ6+1,Editor!DQ$36)","v":{"$error":"#VALUE!"}},{"$f":"INDEX(Editor!$C$5:$W$40,Editor!DR6+1,Editor!DR$36)","v":{"$error":"#VALUE!"}},{"$f":"INDEX(Editor!$C$5:$W$40,Editor!DS6+1,Editor!DS$36)","v":{"$error":"#VALUE!"}},{"$f":"INDEX(Editor!$C$5:$W$40,Editor!DT6+1,Editor!DT$36)","v":{"$error":"#VALUE!"}},{"$f":"INDEX(Editor!$C$5:$W$40,Editor!DU6+1,Editor!DU$36)","v":{"$error":"#VALUE!"}},{"$f":"INDEX(Editor!$C$5:$W$40,Editor!DV6+1,Editor!DV$36)","v":{"$error":"#VALUE!"}},{"$f":"INDEX(Editor!$C$5:$W$40,Editor!DW6+1,Editor!DW$36)","v":{"$error":"#VALUE!"}},{"$f":"INDEX(Editor!$C$5:$W$40,Editor!DX6+1,Editor!DX$36)","v":{"$error":"#VALUE!"}},{"$f":"INDEX(Editor!$C$5:$W$40,Editor!DY6+1,Editor!DY$36)","v":{"$error":"#VALUE!"}},{"$f":"INDEX(Editor!$C$5:$W$40,Editor!DZ6+1,Editor!DZ$36)","v":{"$error":"#VALUE!"}},{"$f":"INDEX(Editor!$C$5:$W$40,Editor!EA6+1,Editor!EA$36)","v":{"$error":"#VALUE!"}},{"$f":"INDEX(Editor!$C$5:$W$40,Editor!EB6+1,Editor!EB$36)","v":{"$error":"#VALUE!"}},{"$f":"INDEX(Editor!$C$5:$W$40,Editor!EC6+1,Editor!EC$36)","v":{"$error":"#VALUE!"}},{"$f":"INDEX(Editor!$C$5:$W$40,Editor!ED6+1,Editor!ED$36)","v":{"$error":"#VALUE!"}},{"$f":"INDEX(Editor!$C$5:$W$40,Editor!EE6+1,Editor!EE$36)","v":{"$error":"#VALUE!"}},{"$f":"INDEX(Editor!$C$5:$W$40,Editor!EF6+1,Editor!EF$36)","v":{"$error":"#VALUE!"}},{"$f":"INDEX(Editor!$C$5:$W$40,Editor!EG6+1,Editor!EG$36)","v":{"$error":"#VALUE!"}},{"$f":"INDEX(Editor!$C$5:$W$40,Editor!EH6+1,Editor!EH$36)","v":{"$error":"#VALUE!"}},{"$f":"INDEX(Editor!$C$5:$W$40,Editor!EI6+1,Editor!EI$36)","v":{"$error":"#VALUE!"}},{"$f":"INDEX(Editor!$C$5:$W$40,Editor!EJ6+1,Editor!EJ$36)","v":{"$error":"#VALUE!"}},{"$f":"INDEX(Editor!$C$5:$W$40,Editor!EK6+1,Editor!EK$36)","v":{"$error":"#VALUE!"}},{"$f":"INDEX(Editor!$C$5:$W$40,Editor!EL6+1,Editor!EL$36)","v":{"$error":"#VALUE!"}},{"$f":"INDEX(Editor!$C$5:$W$40,Editor!EM6+1,Editor!EM$36)","v":{"$error":"#VALUE!"}},{"$f":"INDEX(Editor!$C$5:$W$40,Editor!EN6+1,Editor!EN$36)","v":{"$error":"#VALUE!"}},{"$f":"INDEX(Editor!$C$5:$W$40,Editor!EO6+1,Editor!EO$36)","v":{"$error":"#VALUE!"}},{"$f":"INDEX(Editor!$C$5:$W$40,Editor!EP6+1,Editor!EP$36)","v":{"$error":"#VALUE!"}},{"$f":"INDEX(Editor!$C$5:$W$40,Editor!EQ6+1,Editor!EQ$36)","v":{"$error":"#VALUE!"}},{"$f":"INDEX(Editor!$C$5:$W$40,Editor!ER6+1,Editor!ER$36)","v":{"$error":"#VALUE!"}},{"$f":"INDEX(Editor!$C$5:$W$40,Editor!ES6+1,Editor!ES$36)","v":{"$error":"#VALUE!"}},{"$f":"INDEX(Editor!$C$5:$W$40,Editor!ET6+1,Editor!ET$36)","v":{"$error":"#VALUE!"}},{"$f":"INDEX(Editor!$C$5:$W$40,Editor!EU6+1,Editor!EU$36)","v":{"$error":"#VALUE!"}},{"$f":"INDEX(Editor!$C$5:$W$40,Editor!EV6+1,Editor!EV$36)","v":{"$error":"#VALUE!"}},{"$f":"INDEX(Editor!$C$5:$W$40,Editor!EW6+1,Editor!EW$36)","v":{"$error":"#VALUE!"}},{"$f":"INDEX(Editor!$C$5:$W$40,Editor!EX6+1,Editor!EX$36)","v":{"$error":"#VALUE!"}},{"$f":"INDEX(Editor!$C$5:$W$40,Editor!EY6+1,Editor!EY$36)","v":{"$error":"#VALUE!"}},{"$f":"INDEX(Editor!$C$5:$W$40,Editor!EZ6+1,Editor!EZ$36)","v":{"$error":"#VALUE!"}},{"$f":"INDEX(Editor!$C$5:$W$40,Editor!FA6+1,Editor!FA$36)","v":{"$error":"#VALUE!"}},{"$f":"INDEX(Editor!$C$5:$W$40,Editor!FB6+1,Editor!FB$36)","v":{"$error":"#VALUE!"}},{"$f":"INDEX(Editor!$C$5:$W$40,Editor!FC6+1,Editor!FC$36)","v":{"$error":"#VALUE!"}},{"$f":"INDEX(Editor!$C$5:$W$40,Editor!FD6+1,Editor!FD$36)","v":{"$error":"#VALUE!"}},{"$f":"INDEX(Editor!$C$5:$W$40,Editor!FE6+1,Editor!FE$36)","v":{"$error":"#VALUE!"}},{"$f":"INDEX(Editor!$C$5:$W$40,Editor!FF6+1,Editor!FF$36)","v":{"$error":"#VALUE!"}},{"$f":"INDEX(Editor!$C$5:$W$40,Editor!FG6+1,Editor!FG$36)","v":{"$error":"#VALUE!"}},{"$f":"INDEX(Editor!$C$5:$W$40,Editor!FH6+1,Editor!FH$36)","v":{"$error":"#VALUE!"}},{"$f":"INDEX(Editor!$C$5:$W$40,Editor!FI6+1,Editor!FI$36)","v":{"$error":"#VALUE!"}},{"$f":"INDEX(Editor!$C$5:$W$40,Editor!FJ6+1,Editor!FJ$36)","v":{"$error":"#VALUE!"}},{"$f":"INDEX(Editor!$C$5:$W$40,Editor!FK6+1,Editor!FK$36)","v":{"$error":"#VALUE!"}},{"$f":"INDEX(Editor!$C$5:$W$40,Editor!FL6+1,Editor!FL$36)","v":{"$error":"#VALUE!"}},{"$f":"INDEX(Editor!$C$5:$W$40,Editor!FM6+1,Editor!FM$36)","v":{"$error":"#VALUE!"}},{"$f":"INDEX(Editor!$C$5:$W$40,Editor!FN6+1,Editor!FN$36)","v":{"$error":"#VALUE!"}},{"$f":"INDEX(Editor!$C$5:$W$40,Editor!FO6+1,Editor!FO$36)","v":{"$error":"#VALUE!"}}]
[2,0,0,0,0,0,null,null,{"$f":"INDEX(Editor!$C$5:$W$40,Editor!DA7+1,Editor!DA$36)","v":{"$error":"#VALUE!"}},{"$f":"INDEX(Editor!$C$5:$W$40,Editor!DB7+1,Editor!DB$36)","v":{"$error":"#VALUE!"}},{"$f":"INDEX(Editor!$C$5:$W$40,Editor!DC7+1,Editor!DC$36)","v":{"$error":"#VALUE!"}},{"$f":"INDEX(Editor!$C$5:$W$40,Editor!DD7+1,Editor!DD$36)","v":{"$error":"#VALUE!"}},{"$f":"INDEX(Editor!$C$5:$W$40,Editor!DE7+1,Editor!DE$36)","v":{"$error":"#VALUE!"}},{"$f":"INDEX(Editor!$C$5:$W$40,Editor!DF7+1,Editor!DF$36)","v":{"$error":"#VALUE!"}},{"$f":"INDEX(Editor!$C$5:$W$40,Editor!DG7+1,Editor!DG$36)","v":{"$error":"#VALUE!"}},{"$f":"INDEX(Editor!$C$5:$W$40,Editor!DH7+1,Editor!DH$36)","v":{"$error":"#VALUE!"}},{"$f":"INDEX(Editor!$C$5:$W$40,Editor!DI7+1,Editor!DI$36)","v":{"$error":"#VALUE!"}},{"$f":"INDEX(Editor!$C$5:$W$40,Editor!DJ7+1,Editor!DJ$36)","v":{"$error":"#VALUE!"}},{"$f":"INDEX(Editor!$C$5:$W$40,Editor!DK7+1,Editor!DK$36)","v":{"$error":"#VALUE!"}},{"$f":"INDEX(Editor!$C$5:$W$40,Editor!DL7+1,Editor!DL$36)","v":{"$error":"#VALUE!"}},{"$f":"INDEX(Editor!$C$5:$W$40,Editor!DM7+1,Editor!DM$36)","v":{"$error":"#VALUE!"}},{"$f":"INDEX(Editor!$C$5:$W$40,Editor!DN7+1,Editor!DN$36)","v":{"$error":"#VALUE!"}},{"$f":"INDEX(Editor!$C$5:$W$40,Editor!DO7+1,Editor!DO$36)","v":{"$error":"#VALUE!"}},{"$f":"INDEX(Editor!$C$5:$W$40,Editor!DP7+1,Editor!DP$36)","v":{"$error":"#VALUE!"}},{"$f":"INDEX(Editor!$C$5:$W$40,Editor!DQ7+1,Editor!DQ$36)","v":{"$error":"#VALUE!"}},{"$f":"INDEX(Editor!$C$5:$W$40,Editor!DR7+1,Editor!DR$36)","v":{"$error":"#VALUE!"}},{"$f":"INDEX(Editor!$C$5:$W$40,Editor!DS7+1,Editor!DS$36)","v":{"$error":"#VALUE!"}},{"$f":"INDEX(Editor!$C$5:$W$40,Editor!DT7+1,Editor!DT$36)","v":{"$error":"#VALUE!"}},{"$f":"INDEX(Editor!$C$5:$W$40,Editor!DU7+1,Editor!DU$36)","v":{"$error":"#VALUE!"}},{"$f":"INDEX(Editor!$C$5:$W$40,Editor!DV7+1,Editor!DV$36)","v":{"$error":"#VALUE!"}},{"$f":"INDEX(Editor!$C$5:$W$40,Editor!DW7+1,Editor!DW$36)","v":{"$error":"#VALUE!"}},{"$f":"INDEX(Editor!$C$5:$W$40,Editor!DX7+1,Editor!DX$36)","v":{"$error":"#VALUE!"}},{"$f":"INDEX(Editor!$C$5:$W$40,Editor!DY7+1,Editor!DY$36)","v":{"$error":"#VALUE!"}},{"$f":"INDEX(Editor!$C$5:$W$40,Editor!DZ7+1,Editor!DZ$36)","v":{"$error":"#VALUE!"}},{"$f":"INDEX(Editor!$C$5:$W$40,Editor!EA7+1,Editor!EA$36)","v":{"$error":"#VALUE!"}},{"$f":"INDEX(Editor!$C$5:$W$40,Editor!EB7+1,Editor!EB$36)","v":{"$error":"#VALUE!"}},{"$f":"INDEX(Editor!$C$5:$W$40,Editor!EC7+1,Editor!EC$36)","v":{"$error":"#VALUE!"}},{"$f":"INDEX(Editor!$C$5:$W$40,Editor!ED7+1,Editor!ED$36)","v":{"$error":"#VALUE!"}},{"$f":"INDEX(Editor!$C$5:$W$40,Editor!EE7+1,Editor!EE$36)","v":{"$error":"#VALUE!"}},{"$f":"INDEX(Editor!$C$5:$W$40,Editor!EF7+1,Editor!EF$36)","v":{"$error":"#VALUE!"}},{"$f":"INDEX(Editor!$C$5:$W$40,Editor!EG7+1,Editor!EG$36)","v":{"$error":"#VALUE!"}},{"$f":"INDEX(Editor!$C$5:$W$40,Editor!EH7+1,Editor!EH$36)","v":{"$error":"#VALUE!"}},{"$f":"INDEX(Editor!$C$5:$W$40,Editor!EI7+1,Editor!EI$36)","v":{"$error":"#VALUE!"}},{"$f":"INDEX(Editor!$C$5:$W$40,Editor!EJ7+1,Editor!EJ$36)","v":{"$error":"#VALUE!"}},{"$f":"INDEX(Editor!$C$5:$W$40,Editor!EK7+1,Editor!EK$36)","v":{"$error":"#VALUE!"}},{"$f":"INDEX(Editor!$C$5:$W$40,Editor!EL7+1,Editor!EL$36)","v":{"$error":"#VALUE!"}},{"$f":"INDEX(Editor!$C$5:$W$40,Editor!EM7+1,Editor!EM$36)","v":{"$error":"#VALUE!"}},{"$f":"INDEX(Editor!$C$5:$W$40,Editor!EN7+1,Editor!EN$36)","v":{"$error":"#VALUE!"}},{"$f":"INDEX(Editor!$C$5:$W$40,Editor!EO7+1,Editor!EO$36)","v":{"$error":"#VALUE!"}},{"$f":"INDEX(Editor!$C$5:$W$40,Editor!EP7+1,Editor!EP$36)","v":{"$error":"#VALUE!"}},{"$f":"INDEX(Editor!$C$5:$W$40,Editor!EQ7+1,Editor!EQ$36)","v":{"$error":"#VALUE!"}},{"$f":"INDEX(Editor!$C$5:$W$40,Editor!ER7+1,Editor!ER$36)","v":{"$error":"#VALUE!"}},{"$f":"INDEX(Editor!$C$5:$W$40,Editor!ES7+1,Editor!ES$36)","v":{"$error":"#VALUE!"}},{"$f":"INDEX(Editor!$C$5:$W$40,Editor!ET7+1,Editor!ET$36)","v":{"$error":"#VALUE!"}},{"$f":"INDEX(Editor!$C$5:$W$40,Editor!EU7+1,Editor!EU$36)","v":{"$error":"#VALUE!"}},{"$f":"INDEX(Editor!$C$5:$W$40,Editor!EV7+1,Editor!EV$36)","v":{"$error":"#VALUE!"}},{"$f":"INDEX(Editor!$C$5:$W$40,Editor!EW7+1,Editor!EW$36)","v":{"$error":"#VALUE!"}},{"$f":"INDEX(Editor!$C$5:$W$40,Editor!EX7+1,Editor!EX$36)","v":{"$error":"#VALUE!"}},{"$f":"INDEX(Editor!$C$5:$W$40,Editor!EY7+1,Editor!EY$36)","v":{"$error":"#VALUE!"}},{"$f":"INDEX(Editor!$C$5:$W$40,Editor!EZ7+1,Editor!EZ$36)","v":{"$error":"#VALUE!"}},{"$f":"INDEX(Editor!$C$5:$W$40,Editor!FA7+1,Editor!FA$36)","v":{"$error":"#VALUE!"}},{"$f":"INDEX(Editor!$C$5:$W$40,Editor!FB7+1,Editor!FB$36)","v":{"$error":"#VALUE!"}},{"$f":"INDEX(Editor!$C$5:$W$40,Editor!FC7+1,Editor!FC$36)","v":{"$error":"#VALUE!"}},{"$f":"INDEX(Editor!$C$5:$W$40,Editor!FD7+1,Editor!FD$36)","v":{"$error":"#VALUE!"}},{"$f":"INDEX(Editor!$C$5:$W$40,Editor!FE7+1,Editor!FE$36)","v":{"$error":"#VALUE!"}},{"$f":"INDEX(Editor!$C$5:$W$40,Editor!FF7+1,Editor!FF$36)","v":{"$error":"#VALUE!"}},{"$f":"INDEX(Editor!$C$5:$W$40,Editor!FG7+1,Editor!FG$36)","v":{"$error":"#VALUE!"}},{"$f":"INDEX(Editor!$C$5:$W$40,Editor!FH7+1,Editor!FH$36)","v":{"$error":"#VALUE!"}},{"$f":"INDEX(Editor!$C$5:$W$40,Editor!FI7+1,Editor!FI$36)","v":{"$error":"#VALUE!"}},{"$f":"INDEX(Editor!$C$5:$W$40,Editor!FJ7+1,Editor!FJ$36)","v":{"$error":"#VALUE!"}},{"$f":"INDEX(Editor!$C$5:$W$40,Editor!FK7+1,Editor!FK$36)","v":{"$error":"#VALUE!"}},{"$f":"INDEX(Editor!$C$5:$W$40,Editor!FL7+1,Editor!FL$36)","v":{"$error":"#VALUE!"}},{"$f":"INDEX(Editor!$C$5:$W$40,Editor!FM7+1,Editor!FM$36)","v":{"$error":"#VALUE!"}},{"$f":"INDEX(Editor!$C$5:$W$40,Editor!FN7+1,Editor!FN$36)","v":{"$error":"#VALUE!"}},{"$f":"INDEX(Editor!$C$5:$W$40,Editor!FO7+1,Editor!FO$36)","v":{"$error":"#VALUE!"}}]
[3,1,1,1,1,1,null,null,{"$f":"INDEX(Editor!$C$5:$W$40,Editor!DA8+1,Editor!DA$36)","v":{"$error":"#VALUE!"}},{"$f":"INDEX(Editor!$C$5:$W$40,Editor!DB8+1,Editor!DB$36)","v":{"$error":"#VALUE!"}},{"$f":"INDEX(Editor!$C$5:$W$40,Editor!DC8+1,Editor!DC$36)","v":{"$error":"#VALUE!"}},{"$f":"INDEX(Editor!$C$5:$W$40,Editor!DD8+1,Editor!DD$36)","v":{"$error":"#VALUE!"}},{"$f":"INDEX(Editor!$C$5:$W$40,Editor!DE8+1,Editor!DE$36)","v":{"$error":"#VALUE!"}},{"$f":"INDEX(Editor!$C$5:$W$40,Editor!DF8+1,Editor!DF$36)","v":{"$error":"#VALUE!"}},{"$f":"INDEX(Editor!$C$5:$W$40,Editor!DG8+1,Editor!DG$36)","v":{"$error":"#VALUE!"}},{"$f":"INDEX(Editor!$C$5:$W$40,Editor!DH8+1,Editor!DH$36)","v":{"$error":"#VALUE!"}},{"$f":"INDEX(Editor!$C$5:$W$40,Editor!DI8+1,Editor!DI$36)","v":{"$error":"#VALUE!"}},{"$f":"INDEX(Editor!$C$5:$W$40,Editor!DJ8+1,Editor!DJ$36)","v":{"$error":"#VALUE!"}},{"$f":"INDEX(Editor!$C$5:$W$40,Editor!DK8+1,Editor!DK$36)","v":{"$error":"#VALUE!"}},{"$f":"INDEX(Editor!$C$5:$W$40,Editor!DL8+1,Editor!DL$36)","v":{"$error":"#VALUE!"}},{"$f":"INDEX(Editor!$C$5:$W$40,Editor!DM8+1,Editor!DM$36)","v":{"$error":"#VALUE!"}},{"$f":"INDEX(Editor!$C$5:$W$40,Editor!DN8+1,Editor!DN$36)","v":{"$error":"#VALUE!"}},{"$f":"INDEX(Editor!$C$5:$W$40,Editor!DO8+1,Editor!DO$36)","v":{"$error":"#VALUE!"}},{"$f":"INDEX(Editor!$C$5:$W$40,Editor!DP8+1,Editor!DP$36)","v":{"$error":"#VALUE!"}},{"$f":"INDEX(Editor!$C$5:$W$40,Editor!DQ8+1,Editor!DQ$36)","v":{"$error":"#VALUE!"}},{"$f":"INDEX(Editor!$C$5:$W$40,Editor!DR8+1,Editor!DR$36)","v":{"$error":"#VALUE!"}},{"$f":"INDEX(Editor!$C$5:$W$40,Editor!DS8+1,Editor!DS$36)","v":{"$error":"#VALUE!"}},{"$f":"INDEX(Editor!$C$5:$W$40,Editor!DT8+1,Editor!DT$36)","v":{"$error":"#VALUE!"}},{"$f":"INDEX(Editor!$C$5:$W$40,Editor!DU8+1,Editor!DU$36)","v":{"$error":"#VALUE!"}},{"$f":"INDEX(Editor!$C$5:$W$40,Editor!DV8+1,Editor!DV$36)","v":{"$error":"#VALUE!"}},{"$f":"INDEX(Editor!$C$5:$W$40,Editor!DW8+1,Editor!DW$36)","v":{"$error":"#VALUE!"}},{"$f":"INDEX(Editor!$C$5:$W$40,Editor!DX8+1,Editor!DX$36)","v":{"$error":"#VALUE!"}},{"$f":"INDEX(Editor!$C$5:$W$40,Editor!DY8+1,Editor!DY$36)","v":{"$error":"#VALUE!"}},{"$f":"INDEX(Editor!$C$5:$W$40,Editor!DZ8+1,Editor!DZ$36)","v":{"$error":"#VALUE!"}},{"$f":"INDEX(Editor!$C$5:$W$40,Editor!EA8+1,Editor!EA$36)","v":{"$error":"#VALUE!"}},{"$f":"INDEX(Editor!$C$5:$W$40,Editor!EB8+1,Editor!EB$36)","v":{"$error":"#VALUE!"}},{"$f":"INDEX(Editor!$C$5:$W$40,Editor!EC8+1,Editor!EC$36)","v":{"$error":"#VALUE!"}},{"$f":"INDEX(Editor!$C$5:$W$40,Editor!ED8+1,Editor!ED$36)","v":{"$error":"#VALUE!"}},{"$f":"INDEX(Editor!$C$5:$W$40,Editor!EE8+1,Editor!EE$36)","v":{"$error":"#VALUE!"}},{"$f":"INDEX(Editor!$C$5:$W$40,Editor!EF8+1,Editor!EF$36)","v":{"$error":"#VALUE!"}},{"$f":"INDEX(Editor!$C$5:$W$40,Editor!EG8+1,Editor!EG$36)","v":{"$error":"#VALUE!"}},{"$f":"INDEX(Editor!$C$5:$W$40,Editor!EH8+1,Editor!EH$36)","v":{"$error":"#VALUE!"}},{"$f":"INDEX(Editor!$C$5:$W$40,Editor!EI8+1,Editor!EI$36)","v":{"$error":"#VALUE!"}},{"$f":"INDEX(Editor!$C$5:$W$40,Editor!EJ8+1,Editor!EJ$36)","v":{"$error":"#VALUE!"}},{"$f":"INDEX(Editor!$C$5:$W$40,Editor!EK8+1,Editor!EK$36)","v":{"$error":"#VALUE!"}},{"$f":"INDEX(Editor!$C$5:$W$40,Editor!EL8+1,Editor!EL$36)","v":{"$error":"#VALUE!"}},{"$f":"INDEX(Editor!$C$5:$W$40,Editor!EM8+1,Editor!EM$36)","v":{"$error":"#VALUE!"}},{"$f":"INDEX(Editor!$C$5:$W$40,Editor!EN8+1,Editor!EN$36)","v":{"$error":"#VALUE!"}},{"$f":"INDEX(Editor!$C$5:$W$40,Editor!EO8+1,Editor!EO$36)","v":{"$error":"#VALUE!"}},{"$f":"INDEX(Editor!$C$5:$W$40,Editor!EP8+1,Editor!EP$36)","v":{"$error":"#VALUE!"}},{"$f":"INDEX(Editor!$C$5:$W$40,Editor!EQ8+1,Editor!EQ$36)","v":{"$error":"#VALUE!"}},{"$f":"INDEX(Editor!$C$5:$W$40,Editor!ER8+1,Editor!ER$36)","v":{"$error":"#VALUE!"}},{"$f":"INDEX(Editor!$C$5:$W$40,Editor!ES8+1,Editor!ES$36)","v":{"$error":"#VALUE!"}},{"$f":"INDEX(Editor!$C$5:$W$40,Editor!ET8+1,Editor!ET$36)","v":{"$error":"#VALUE!"}},{"$f":"INDEX(Editor!$C$5:$W$40,Editor!EU8+1,Editor!EU$36)","v":{"$error":"#VALUE!"}},{"$f":"INDEX(Editor!$C$5:$W$40,Editor!EV8+1,Editor!EV$36)","v":{"$error":"#VALUE!"}},{"$f":"INDEX(Editor!$C$5:$W$40,Editor!EW8+1,Editor!EW$36)","v":{"$error":"#VALUE!"}},{"$f":"INDEX(Editor!$C$5:$W$40,Editor!EX8+1,Editor!EX$36)","v":{"$error":"#VALUE!"}},{"$f":"INDEX(Editor!$C$5:$W$40,Editor!EY8+1,Editor!EY$36)","v":{"$error":"#VALUE!"}},{"$f":"INDEX(Editor!$C$5:$W$40,Editor!EZ8+1,Editor!EZ$36)","v":{"$error":"#VALUE!"}},{"$f":"INDEX(Editor!$C$5:$W$40,Editor!FA8+1,Editor!FA$36)","v":{"$error":"#VALUE!"}},{"$f":"INDEX(Editor!$C$5:$W$40,Editor!FB8+1,Editor!FB$36)","v":{"$error":"#VALUE!"}},{"$f":"INDEX(Editor!$C$5:$W$40,Editor!FC8+1,Editor!FC$36)","v":{"$error":"#VALUE!"}},{"$f":"INDEX(Editor!$C$5:$W$40,Editor!FD8+1,Editor!FD$36)","v":{"$error":"#VALUE!"}},{"$f":"INDEX(Editor!$C$5:$W$40,Editor!FE8+1,Editor!FE$36)","v":{"$error":"#VALUE!"}},{"$f":"INDEX(Editor!$C$5:$W$40,Editor!FF8+1,Editor!FF$36)","v":{"$error":"#VALUE!"}},{"$f":"INDEX(Editor!$C$5:$W$40,Editor!FG8+1,Editor!FG$36)","v":{"$error":"#VALUE!"}},{"$f":"INDEX(Editor!$C$5:$W$40,Editor!FH8+1,Editor!FH$36)","v":{"$error":"#VALUE!"}},{"$f":"INDEX(Editor!$C$5:$W$40,Editor!FI8+1,Editor!FI$36)","v":{"$error":"#VALUE!"}},{"$f":"INDEX(Editor!$C$5:$W$40,Editor!FJ8+1,Editor!FJ$36)","v":{"$error":"#VALUE!"}},{"$f":"INDEX(Editor!$C$5:$W$40,Editor!FK8+1,Editor!FK$36)","v":{"$error":"#VALUE!"}},{"$f":"INDEX(Editor!$C$5:$W$40,Editor!FL8+1,Editor!FL$36)","v":{"$error":"#VALUE!"}},{"$f":"INDEX(Editor!$C$5:$W$40,Editor!FM8+1,Editor!FM$36)","v":{"$error":"#VALUE!"}},{"$f":"INDEX(Editor!$C$5:$W$40,Editor!FN8+1,Editor!FN$36)","v":{"$error":"#VALUE!"}},{"$f":"INDEX(Editor!$C$5:$W$40,Editor!FO8+1,Editor!FO$36)","v":{"$error":"#VALUE!"}}]
[4,2,2,2,2,2,null,null,{"$f":"INDEX(Editor!$C$5:$W$40,Editor!DA9+1,Editor!DA$36)","v":{"$error":"#VALUE!"}},{"$f":"INDEX(Editor!$C$5:$W$40,Editor!DB9+1,Editor!DB$36)","v":{"$error":"#VALUE!"}},{"$f":"INDEX(Editor!$C$5:$W$40,Editor!DC9+1,Editor!DC$36)","v":{"$error":"#VALUE!"}},{"$f":"INDEX(Editor!$C$5:$W$40,Editor!DD9+1,Editor!DD$36)","v":{"$error":"#VALUE!"}},{"$f":"INDEX(Editor!$C$5:$W$40,Editor!DE9+1,Editor!DE$36)","v":{"$error":"#VALUE!"}},{"$f":"INDEX(Editor!$C$5:$W$40,Editor!DF9+1,Editor!DF$36)","v":{"$error":"#VALUE!"}},{"$f":"INDEX(Editor!$C$5:$W$40,Editor!DG9+1,Editor!DG$36)","v":{"$error":"#VALUE!"}},{"$f":"INDEX(Editor!$C$5:$W$40,Editor!DH9+1,Editor!DH$36)","v":{"$error":"#VALUE!"}},{"$f":"INDEX(Editor!$C$5:$W$40,Editor!DI9+1,Editor!DI$36)","v":{"$error":"#VALUE!"}},{"$f":"INDEX(Editor!$C$5:$W$40,Editor!DJ9+1,Editor!DJ$36)","v":{"$error":"#VALUE!"}},{"$f":"INDEX(Editor!$C$5:$W$40,Editor!DK9+1,Editor!DK$36)","v":{"$error":"#VALUE!"}},{"$f":"INDEX(Editor!$C$5:$W$40,Editor!DL9+1,Editor!DL$36)","v":{"$error":"#VALUE!"}},{"$f":"INDEX(Editor!$C$5:$W$40,Editor!DM9+1,Editor!DM$36)","v":{"$error":"#VALUE!"}},{"$f":"INDEX(Editor!$C$5:$W$40,Editor!DN9+1,Editor!DN$36)","v":{"$error":"#VALUE!"}},{"$f":"INDEX(Editor!$C$5:$W$40,Editor!DO9+1,Editor!DO$36)","v":{"$error":"#VALUE!"}},{"$f":"INDEX(Editor!$C$5:$W$40,Editor!DP9+1,Editor!DP$36)","v":{"$error":"#VALUE!"}},{"$f":"INDEX(Editor!$C$5:$W$40,Editor!DQ9+1,Editor!DQ$36)","v":{"$error":"#VALUE!"}},{"$f":"INDEX(Editor!$C$5:$W$40,Editor!DR9+1,Editor!DR$36)","v":{"$error":"#VALUE!"}},{"$f":"INDEX(Editor!$C$5:$W$40,Editor!DS9+1,Editor!DS$36)","v":{"$error":"#VALUE!"}},{"$f":"INDEX(Editor!$C$5:$W$40,Editor!DT9+1,Editor!DT$36)","v":{"$error":"#VALUE!"}},{"$f":"INDEX(Editor!$C$5:$W$40,Editor!DU9+1,Editor!DU$36)","v":{"$error":"#VALUE!"}},{"$f":"INDEX(Editor!$C$5:$W$40,Editor!DV9+1,Editor!DV$36)","v":{"$error":"#VALUE!"}},{"$f":"INDEX(Editor!$C$5:$W$40,Editor!DW9+1,Editor!DW$36)","v":{"$error":"#VALUE!"}},{"$f":"INDEX(Editor!$C$5:$W$40,Editor!DX9+1,Editor!DX$36)","v":{"$error":"#VALUE!"}},{"$f":"INDEX(Editor!$C$5:$W$40,Editor!DY9+1,Editor!DY$36)","v":{"$error":"#VALUE!"}},{"$f":"INDEX(Editor!$C$5:$W$40,Editor!DZ9+1,Editor!DZ$36)","v":{"$error":"#VALUE!"}},{"$f":"INDEX(Editor!$C$5:$W$40,Editor!EA9+1,Editor!EA$36)","v":{"$error":"#VALUE!"}},{"$f":"INDEX(Editor!$C$5:$W$40,Editor!EB9+1,Editor!EB$36)","v":{"$error":"#VALUE!"}},{"$f":"INDEX(Editor!$C$5:$W$40,Editor!EC9+1,Editor!EC$36)","v":{"$error":"#VALUE!"}},{"$f":"INDEX(Editor!$C$5:$W$40,Editor!ED9+1,Editor!ED$36)","v":{"$error":"#VALUE!"}},{"$f":"INDEX(Editor!$C$5:$W$40,Editor!EE9+1,Editor!EE$36)","v":{"$error":"#VALUE!"}},{"$f":"INDEX(Editor!$C$5:$W$40,Editor!EF9+1,Editor!EF$36)","v":{"$error":"#VALUE!"}},{"$f":"INDEX(Editor!$C$5:$W$40,Editor!EG9+1,Editor!EG$36)","v":{"$error":"#VALUE!"}},{"$f":"INDEX(Editor!$C$5:$W$40,Editor!EH9+1,Editor!EH$36)","v":{"$error":"#VALUE!"}},{"$f":"INDEX(Editor!$C$5:$W$40,Editor!EI9+1,Editor!EI$36)","v":{"$error":"#VALUE!"}},{"$f":"INDEX(Editor!$C$5:$W$40,Editor!EJ9+1,Editor!EJ$36)","v":{"$error":"#VALUE!"}},{"$f":"INDEX(Editor!$C$5:$W$40,Editor!EK9+1,Editor!EK$36)","v":{"$error":"#VALUE!"}},{"$f":"INDEX(Editor!$C$5:$W$40,Editor!EL9+1,Editor!EL$36)","v":{"$error":"#VALUE!"}},{"$f":"INDEX(Editor!$C$5:$W$40,Editor!EM9+1,Editor!EM$36)","v":{"$error":"#VALUE!"}},{"$f":"INDEX(Editor!$C$5:$W$40,Editor!EN9+1,Editor!EN$36)","v":{"$error":"#VALUE!"}},{"$f":"INDEX(Editor!$C$5:$W$40,Editor!EO9+1,Editor!EO$36)","v":{"$error":"#VALUE!"}},{"$f":"INDEX(Editor!$C$5:$W$40,Editor!EP9+1,Editor!EP$36)","v":{"$error":"#VALUE!"}},{"$f":"INDEX(Editor!$C$5:$W$40,Editor!EQ9+1,Editor!EQ$36)","v":{"$error":"#VALUE!"}},{"$f":"INDEX(Editor!$C$5:$W$40,Editor!ER9+1,Editor!ER$36)","v":{"$error":"#VALUE!"}},{"$f":"INDEX(Editor!$C$5:$W$40,Editor!ES9+1,Editor!ES$36)","v":{"$error":"#VALUE!"}},{"$f":"INDEX(Editor!$C$5:$W$40,Editor!ET9+1,Editor!ET$36)","v":{"$error":"#VALUE!"}},{"$f":"INDEX(Editor!$C$5:$W$40,Editor!EU9+1,Editor!EU$36)","v":{"$error":"#VALUE!"}},{"$f":"INDEX(Editor!$C$5:$W$40,Editor!EV9+1,Editor!EV$36)","v":{"$error":"#VALUE!"}},{"$f":"INDEX(Editor!$C$5:$W$40,Editor!EW9+1,Editor!EW$36)","v":{"$error":"#VALUE!"}},{"$f":"INDEX(Editor!$C$5:$W$40,Editor!EX9+1,Editor!EX$36)","v":{"$error":"#VALUE!"}},{"$f":"INDEX(Editor!$C$5:$W$40,Editor!EY9+1,Editor!EY$36)","v":{"$error":"#VALUE!"}},{"$f":"INDEX(Editor!$C$5:$W$40,Editor!EZ9+1,Editor!EZ$36)","v":{"$error":"#VALUE!"}},{"$f":"INDEX(Editor!$C$5:$W$40,Editor!FA9+1,Editor!FA$36)","v":{"$error":"#VALUE!"}},{"$f":"INDEX(Editor!$C$5:$W$40,Editor!FB9+1,Editor!FB$36)","v":{"$error":"#VALUE!"}},{"$f":"INDEX(Editor!$C$5:$W$40,Editor!FC9+1,Editor!FC$36)","v":{"$error":"#VALUE!"}},{"$f":"INDEX(Editor!$C$5:$W$40,Editor!FD9+1,Editor!FD$36)","v":{"$error":"#VALUE!"}},{"$f":"INDEX(Editor!$C$5:$W$40,Editor!FE9+1,Editor!FE$36)","v":{"$error":"#VALUE!"}},{"$f":"INDEX(Editor!$C$5:$W$40,Editor!FF9+1,Editor!FF$36)","v":{"$error":"#VALUE!"}},{"$f":"INDEX(Editor!$C$5:$W$40,Editor!FG9+1,Editor!FG$36)","v":{"$error":"#VALUE!"}},{"$f":"INDEX(Editor!$C$5:$W$40,Editor!FH9+1,Editor!FH$36)","v":{"$error":"#VALUE!"}},{"$f":"INDEX(Editor!$C$5:$W$40,Editor!FI9+1,Editor!FI$36)","v":{"$error":"#VALUE!"}},{"$f":"INDEX(Editor!$C$5:$W$40,Editor!FJ9+1,Editor!FJ$36)","v":{"$error":"#VALUE!"}},{"$f":"INDEX(Editor!$C$5:$W$40,Editor!FK9+1,Editor!FK$36)","v":{"$error":"#VALUE!"}},{"$f":"INDEX(Editor!$C$5:$W$40,Editor!FL9+1,Editor!FL$36)","v":{"$error":"#VALUE!"}},{"$f":"INDEX(Editor!$C$5:$W$40,Editor!FM9+1,Editor!FM$36)","v":{"$error":"#VALUE!"}},{"$f":"INDEX(Editor!$C$5:$W$40,Editor!FN9+1,Editor!FN$36)","v":{"$error":"#VALUE!"}},{"$f":"INDEX(Editor!$C$5:$W$40,Editor!FO9+1,Editor!FO$36)","v":{"$error":"#VALUE!"}}]
[5,3,3,3,3,3,null,null,{"$f":"INDEX(Editor!$C$5:$W$40,Editor!DA10+1,Editor!DA$36)","v":{"$error":"#VALUE!"}},{"$f":"INDEX(Editor!$C$5:$W$40,Editor!DB10+1,Editor!DB$36)","v":{"$error":"#VALUE!"}},{"$f":"INDEX(Editor!$C$5:$W$40,Editor!DC10+1,Editor!DC$36)","v":{"$error":"#VALUE!"}},{"$f":"INDEX(Editor!$C$5:$W$40,Editor!DD10+1,Editor!DD$36)","v":{"$error":"#VALUE!"}},{"$f":"INDEX(Editor!$C$5:$W$40,Editor!DE10+1,Editor!DE$36)","v":{"$error":"#VALUE!"}},{"$f":"INDEX(Editor!$C$5:$W$40,Editor!DF10+1,Editor!DF$36)","v":{"$error":"#VALUE!"}},{"$f":"INDEX(Editor!$C$5:$W$40,Editor!DG10+1,Editor!DG$36)","v":{"$error":"#VALUE!"}},{"$f":"INDEX(Editor!$C$5:$W$40,Editor!DH10+1,Editor!DH$36)","v":{"$error":"#VALUE!"}},{"$f":"INDEX(Editor!$C$5:$W$40,Editor!DI10+1,Editor!DI$36)","v":{"$error":"#VALUE!"}},{"$f":"INDEX(Editor!$C$5:$W$40,Editor!DJ10+1,Editor!DJ$36)","v":{"$error":"#VALUE!"}},{"$f":"INDEX(Editor!$C$5:$W$40,Editor!DK10+1,Editor!DK$36)","v":{"$error":"#VALUE!"}},{"$f":"INDEX(Editor!$C$5:$W$40,Editor!DL10+1,Editor!DL$36)","v":{"$error":"#VALUE!"}},{"$f":"INDEX(Editor!$C$5:$W$40,Editor!DM10+1,Editor!DM$36)","v":{"$error":"#VALUE!"}},{"$f":"INDEX(Editor!$C$5:$W$40,Editor!DN10+1,Editor!DN$36)","v":{"$error":"#VALUE!"}},{"$f":"INDEX(Editor!$C$5:$W$40,Editor!DO10+1,Editor!DO$36)","v":{"$error":"#VALUE!"}},{"$f":"INDEX(Editor!$C$5:$W$40,Editor!DP10+1,Editor!DP$36)","v":{"$error":"#VALUE!"}},{"$f":"INDEX(Editor!$C$5:$W$40,Editor!DQ10+1,Editor!DQ$36)","v":{"$error":"#VALUE!"}},{"$f":"INDEX(Editor!$C$5:$W$40,Editor!DR10+1,Editor!DR$36)","v":{"$error":"#VALUE!"}},{"$f":"INDEX(Editor!$C$5:$W$40,Editor!DS10+1,Editor!DS$36)","v":{"$error":"#VALUE!"}},{"$f":"INDEX(Editor!$C$5:$W$40,Editor!DT10+1,Editor!DT$36)","v":{"$error":"#VALUE!"}},{"$f":"INDEX(Editor!$C$5:$W$40,Editor!DU10+1,Editor!DU$36)","v":{"$error":"#VALUE!"}},{"$f":"INDEX(Editor!$C$5:$W$40,Editor!DV10+1,Editor!DV$36)","v":{"$error":"#VALUE!"}},{"$f":"INDEX(Editor!$C$5:$W$40,Editor!DW10+1,Editor!DW$36)","v":{"$error":"#VALUE!"}},{"$f":"INDEX(Editor!$C$5:$W$40,Editor!DX10+1,Editor!DX$36)","v":{"$error":"#VALUE!"}},{"$f":"INDEX(Editor!$C$5:$W$40,Editor!DY10+1,Editor!DY$36)","v":{"$error":"#VALUE!"}},{"$f":"INDEX(Editor!$C$5:$W$40,Editor!DZ10+1,Editor!DZ$36)","v":{"$error":"#VALUE!"}},{"$f":"INDEX(Editor!$C$5:$W$40,Editor!EA10+1,Editor!EA$36)","v":{"$error":"#VALUE!"}},{"$f":"INDEX(Editor!$C$5:$W$40,Editor!EB10+1,Editor!EB$36)","v":{"$error":"#VALUE!"}},{"$f":"INDEX(Editor!$C$5:$W$40,Editor!EC10+1,Editor!EC$36)","v":{"$error":"#VALUE!"}},{"$f":"INDEX(Editor!$C$5:$W$40,Editor!ED10+1,Editor!ED$36)","v":{"$error":"#VALUE!"}},{"$f":"INDEX(Editor!$C$5:$W$40,Editor!EE10+1,Editor!EE$36)","v":{"$error":"#VALUE!"}},{"$f":"INDEX(Editor!$C$5:$W$40,Editor!EF10+1,Editor!EF$36)","v":{"$error":"#VALUE!"}},{"$f":"INDEX(Editor!$C$5:$W$40,Editor!EG10+1,Editor!EG$36)","v":{"$error":"#VALUE!"}},{"$f":"INDEX(Editor!$C$5:$W$40,Editor!EH10+1,Editor!EH$36)","v":{"$error":"#VALUE!"}},{"$f":"INDEX(Editor!$C$5:$W$40,Editor!EI10+1,Editor!EI$36)","v":{"$error":"#VALUE!"}},{"$f":"INDEX(Editor!$C$5:$W$40,Editor!EJ10+1,Editor!EJ$36)","v":{"$error":"#VALUE!"}},{"$f":"INDEX(Editor!$C$5:$W$40,Editor!EK10+1,Editor!EK$36)","v":{"$error":"#VALUE!"}},{"$f":"INDEX(Editor!$C$5:$W$40,Editor!EL10+1,Editor!EL$36)","v":{"$error":"#VALUE!"}},{"$f":"INDEX(Editor!$C$5:$W$40,Editor!EM10+1,Editor!EM$36)","v":{"$error":"#VALUE!"}},{"$f":"INDEX(Editor!$C$5:$W$40,Editor!EN10+1,Editor!EN$36)","v":{"$error":"#VALUE!"}},{"$f":"INDEX(Editor!$C$5:$W$40,Editor!EO10+1,Editor!EO$36)","v":{"$error":"#VALUE!"}},{"$f":"INDEX(Editor!$C$5:$W$40,Editor!EP10+1,Editor!EP$36)","v":{"$error":"#VALUE!"}},{"$f":"INDEX(Editor!$C$5:$W$40,Editor!EQ10+1,Editor!EQ$36)","v":{"$error":"#VALUE!"}},{"$f":"INDEX(Editor!$C$5:$W$40,Editor!ER10+1,Editor!ER$36)","v":{"$error":"#VALUE!"}},{"$f":"INDEX(Editor!$C$5:$W$40,Editor!ES10+1,Editor!ES$36)","v":{"$error":"#VALUE!"}},{"$f":"INDEX(Editor!$C$5:$W$40,Editor!ET10+1,Editor!ET$36)","v":{"$error":"#VALUE!"}},{"$f":"INDEX(Editor!$C$5:$W$40,Editor!EU10+1,Editor!EU$36)","v":{"$error":"#VALUE!"}},{"$f":"INDEX(Editor!$C$5:$W$40,Editor!EV10+1,Editor!EV$36)","v":{"$error":"#VALUE!"}},{"$f":"INDEX(Editor!$C$5:$W$40,Editor!EW10+1,Editor!EW$36)","v":{"$error":"#VALUE!"}},{"$f":"INDEX(Editor!$C$5:$W$40,Editor!EX10+1,Editor!EX$36)","v":{"$error":"#VALUE!"}},{"$f":"INDEX(Editor!$C$5:$W$40,Editor!EY10+1,Editor!EY$36)","v":{"$error":"#VALUE!"}},{"$f":"INDEX(Editor!$C$5:$W$40,Editor!EZ10+1,Editor!EZ$36)","v":{"$error":"#VALUE!"}},{"$f":"INDEX(Editor!$C$5:$W$40,Editor!FA10+1,Editor!FA$36)","v":{"$error":"#VALUE!"}},{"$f":"INDEX(Editor!$C$5:$W$40,Editor!FB10+1,Editor!FB$36)","v":{"$error":"#VALUE!"}},{"$f":"INDEX(Editor!$C$5:$W$40,Editor!FC10+1,Editor!FC$36)","v":{"$error":"#VALUE!"}},{"$f":"INDEX(Editor!$C$5:$W$40,Editor!FD10+1,Editor!FD$36)","v":{"$error":"#VALUE!"}},{"$f":"INDEX(Editor!$C$5:$W$40,Editor!FE10+1,Editor!FE$36)","v":{"$error":"#VALUE!"}},{"$f":"INDEX(Editor!$C$5:$W$40,Editor!FF10+1,Editor!FF$36)","v":{"$error":"#VALUE!"}},{"$f":"INDEX(Editor!$C$5:$W$40,Editor!FG10+1,Editor!FG$36)","v":{"$error":"#VALUE!"}},{"$f":"INDEX(Editor!$C$5:$W$40,Editor!FH10+1,Editor!FH$36)","v":{"$error":"#VALUE!"}},{"$f":"INDEX(Editor!$C$5:$W$40,Editor!FI10+1,Editor!FI$36)","v":{"$error":"#VALUE!"}},{"$f":"INDEX(Editor!$C$5:$W$40,Editor!FJ10+1,Editor!FJ$36)","v":{"$error":"#VALUE!"}},{"$f":"INDEX(Editor!$C$5:$W$40,Editor!FK10+1,Editor!FK$36)","v":{"$error":"#VALUE!"}},{"$f":"INDEX(Editor!$C$5:$W$40,Editor!FL10+1,Editor!FL$36)","v":{"$error":"#VALUE!"}},{"$f":"INDEX(Editor!$C$5:$W$40,Editor!FM10+1,Editor!FM$36)","v":{"$error":"#VALUE!"}},{"$f":"INDEX(Editor!$C$5:$W$40,Editor!FN10+1,Editor!FN$36)","v":{"$error":"#VALUE!"}},{"$f":"INDEX(Editor!$C$5:$W$40,Editor!FO10+1,Editor!FO$36)","v":{"$error":"#VALUE!"}}]
[6,4,4,4,4,4,null,null,{"$f":"INDEX(Editor!$C$5:$W$40,Editor!DA11+1,Editor!DA$36)","v":{"$error":"#VALUE!"}},{"$f":"INDEX(Editor!$C$5:$W$40,Editor!DB11+1,Editor!DB$36)","v":{"$error":"#VALUE!"}},{"$f":"INDEX(Editor!$C$5:$W$40,Editor!DC11+1,Editor!DC$36)","v":{"$error":"#VALUE!"}},{"$f":"INDEX(Editor!$C$5:$W$40,Editor!DD11+1,Editor!DD$36)","v":{"$error":"#VALUE!"}},{"$f":"INDEX(Editor!$C$5:$W$40,Editor!DE11+1,Editor!DE$36)","v":{"$error":"#VALUE!"}},{"$f":"INDEX(Editor!$C$5:$W$40,Editor!DF11+1,Editor!DF$36)","v":{"$error":"#VALUE!"}},{"$f":"INDEX(Editor!$C$5:$W$40,Editor!DG11+1,Editor!DG$36)","v":{"$error":"#VALUE!"}},{"$f":"INDEX(Editor!$C$5:$W$40,Editor!DH11+1,Editor!DH$36)","v":{"$error":"#VALUE!"}},{"$f":"INDEX(Editor!$C$5:$W$40,Editor!DI11+1,Editor!DI$36)","v":{"$error":"#VALUE!"}},{"$f":"INDEX(Editor!$C$5:$W$40,Editor!DJ11+1,Editor!DJ$36)","v":{"$error":"#VALUE!"}},{"$f":"INDEX(Editor!$C$5:$W$40,Editor!DK11+1,Editor!DK$36)","v":{"$error":"#VALUE!"}},{"$f":"INDEX(Editor!$C$5:$W$40,Editor!DL11+1,Editor!DL$36)","v":{"$error":"#VALUE!"}},{"$f":"INDEX(Editor!$C$5:$W$40,Editor!DM11+1,Editor!DM$36)","v":{"$error":"#VALUE!"}},{"$f":"INDEX(Editor!$C$5:$W$40,Editor!DN11+1,Editor!DN$36)","v":{"$error":"#VALUE!"}},{"$f":"INDEX(Editor!$C$5:$W$40,Editor!DO11+1,Editor!DO$36)","v":{"$error":"#VALUE!"}},{"$f":"INDEX(Editor!$C$5:$W$40,Editor!DP11+1,Editor!DP$36)","v":{"$error":"#VALUE!"}},{"$f":"INDEX(Editor!$C$5:$W$40,Editor!DQ11+1,Editor!DQ$36)","v":{"$error":"#VALUE!"}},{"$f":"INDEX(Editor!$C$5:$W$40,Editor!DR11+1,Editor!DR$36)","v":{"$error":"#VALUE!"}},{"$f":"INDEX(Editor!$C$5:$W$40,Editor!DS11+1,Editor!DS$36)","v":{"$error":"#VALUE!"}},{"$f":"INDEX(Editor!$C$5:$W$40,Editor!DT11+1,Editor!DT$36)","v":{"$error":"#VALUE!"}},{"$f":"INDEX(Editor!$C$5:$W$40,Editor!DU11+1,Editor!DU$36)","v":{"$error":"#VALUE!"}},{"$f":"INDEX(Editor!$C$5:$W$40,Editor!DV11+1,Editor!DV$36)","v":{"$error":"#VALUE!"}},{"$f":"INDEX(Editor!$C$5:$W$40,Editor!DW11+1,Editor!DW$36)","v":{"$error":"#VALUE!"}},{"$f":"INDEX(Editor!$C$5:$W$40,Editor!DX11+1,Editor!DX$36)","v":{"$error":"#VALUE!"}},{"$f":"INDEX(Editor!$C$5:$W$40,Editor!DY11+1,Editor!DY$36)","v":{"$error":"#VALUE!"}},{"$f":"INDEX(Editor!$C$5:$W$40,Editor!DZ11+1,Editor!DZ$36)","v":{"$error":"#VALUE!"}},{"$f":"INDEX(Editor!$C$5:$W$40,Editor!EA11+1,Editor!EA$36)","v":{"$error":"#VALUE!"}},{"$f":"INDEX(Editor!$C$5:$W$40,Editor!EB11+1,Editor!EB$36)","v":{"$error":"#VALUE!"}},{"$f":"INDEX(Editor!$C$5:$W$40,Editor!EC11+1,Editor!EC$36)","v":{"$error":"#VALUE!"}},{"$f":"INDEX(Editor!$C$5:$W$40,Editor!ED11+1,Editor!ED$36)","v":{"$error":"#VALUE!"}},{"$f":"INDEX(Editor!$C$5:$W$40,Editor!EE11+1,Editor!EE$36)","v":{"$error":"#VALUE!"}},{"$f":"INDEX(Editor!$C$5:$W$40,Editor!EF11+1,Editor!EF$36)","v":{"$error":"#VALUE!"}},{"$f":"INDEX(Editor!$C$5:$W$40,Editor!EG11+1,Editor!EG$36)","v":{"$error":"#VALUE!"}},{"$f":"INDEX(Editor!$C$5:$W$40,Editor!EH11+1,Editor!EH$36)","v":{"$error":"#VALUE!"}},{"$f":"INDEX(Editor!$C$5:$W$40,Editor!EI11+1,Editor!EI$36)","v":{"$error":"#VALUE!"}},{"$f":"INDEX(Editor!$C$5:$W$40,Editor!EJ11+1,Editor!EJ$36)","v":{"$error":"#VALUE!"}},{"$f":"INDEX(Editor!$C$5:$W$40,Editor!EK11+1,Editor!EK$36)","v":{"$error":"#VALUE!"}},{"$f":"INDEX(Editor!$C$5:$W$40,Editor!EL11+1,Editor!EL$36)","v":{"$error":"#VALUE!"}},{"$f":"INDEX(Editor!$C$5:$W$40,Editor!EM11+1,Editor!EM$36)","v":{"$error":"#VALUE!"}},{"$f":"INDEX(Editor!$C$5:$W$40,Editor!EN11+1,Editor!EN$36)","v":{"$error":"#VALUE!"}},{"$f":"INDEX(Editor!$C$5:$W$40,Editor!EO11+1,Editor!EO$36)","v":{"$error":"#VALUE!"}},{"$f":"INDEX(Editor!$C$5:$W$40,Editor!EP11+1,Editor!EP$36)","v":{"$error":"#VALUE!"}},{"$f":"INDEX(Editor!$C$5:$W$40,Editor!EQ11+1,Editor!EQ$36)","v":{"$error":"#VALUE!"}},{"$f":"INDEX(Editor!$C$5:$W$40,Editor!ER11+1,Editor!ER$36)","v":{"$error":"#VALUE!"}},{"$f":"INDEX(Editor!$C$5:$W$40,Editor!ES11+1,Editor!ES$36)","v":{"$error":"#VALUE!"}},{"$f":"INDEX(Editor!$C$5:$W$40,Editor!ET11+1,Editor!ET$36)","v":{"$error":"#VALUE!"}},{"$f":"INDEX(Editor!$C$5:$W$40,Editor!EU11+1,Editor!EU$36)","v":{"$error":"#VALUE!"}},{"$f":"INDEX(Editor!$C$5:$W$40,Editor!EV11+1,Editor!EV$36)","v":{"$error":"#VALUE!"}},{"$f":"INDEX(Editor!$C$5:$W$40,Editor!EW11+1,Editor!EW$36)","v":{"$error":"#VALUE!"}},{"$f":"INDEX(Editor!$C$5:$W$40,Editor!EX11+1,Editor!EX$36)","v":{"$error":"#VALUE!"}},{"$f":"INDEX(Editor!$C$5:$W$40,Editor!EY11+1,Editor!EY$36)","v":{"$error":"#VALUE!"}},{"$f":"INDEX(Editor!$C$5:$W$40,Editor!EZ11+1,Editor!EZ$36)","v":{"$error":"#VALUE!"}},{"$f":"INDEX(Editor!$C$5:$W$40,Editor!FA11+1,Editor!FA$36)","v":{"$error":"#VALUE!"}},{"$f":"INDEX(Editor!$C$5:$W$40,Editor!FB11+1,Editor!FB$36)","v":{"$error":"#VALUE!"}},{"$f":"INDEX(Editor!$C$5:$W$40,Editor!FC11+1,Editor!FC$36)","v":{"$error":"#VALUE!"}},{"$f":"INDEX(Editor!$C$5:$W$40,Editor!FD11+1,Editor!FD$36)","v":{"$error":"#VALUE!"}},{"$f":"INDEX(Editor!$C$5:$W$40,Editor!FE11+1,Editor!FE$36)","v":{"$error":"#VALUE!"}},{"$f":"INDEX(Editor!$C$5:$W$40,Editor!FF11+1,Editor!FF$36)","v":{"$error":"#VALUE!"}},{"$f":"INDEX(Editor!$C$5:$W$40,Editor!FG11+1,Editor!FG$36)","v":{"$error":"#VALUE!"}},{"$f":"INDEX(Editor!$C$5:$W$40,Editor!FH11+1,Editor!FH$36)","v":{"$error":"#VALUE!"}},{"$f":"INDEX(Editor!$C$5:$W$40,Editor!FI11+1,Editor!FI$36)","v":{"$error":"#VALUE!"}},{"$f":"INDEX(Editor!$C$5:$W$40,Editor!FJ11+1,Editor!FJ$36)","v":{"$error":"#VALUE!"}},{"$f":"INDEX(Editor!$C$5:$W$40,Editor!FK11+1,Editor!FK$36)","v":{"$error":"#VALUE!"}},{"$f":"INDEX(Editor!$C$5:$W$40,Editor!FL11+1,Editor!FL$36)","v":{"$error":"#VALUE!"}},{"$f":"INDEX(Editor!$C$5:$W$40,Editor!FM11+1,Editor!FM$36)","v":{"$error":"#VALUE!"}},{"$f":"INDEX(Editor!$C$5:$W$40,Editor!FN11+1,Editor!FN$36)","v":{"$error":"#VALUE!"}},{"$f":"INDEX(Editor!$C$5:$W$40,Editor!FO11+1,Editor!FO$36)","v":{"$error":"#VALUE!"}}]
[7,5,5,5,5,5,null,null,{"$f":"INDEX(Editor!$C$5:$W$40,Editor!DA12+1,Editor!DA$36)","v":{"$error":"#VALUE!"}},{"$f":"INDEX(Editor!$C$5:$W$40,Editor!DB12+1,Editor!DB$36)","v":{"$error":"#VALUE!"}},{"$f":"INDEX(Editor!$C$5:$W$40,Editor!DC12+1,Editor!DC$36)","v":{"$error":"#VALUE!"}},{"$f":"INDEX(Editor!$C$5:$W$40,Editor!DD12+1,Editor!DD$36)","v":{"$error":"#VALUE!"}},{"$f":"INDEX(Editor!$C$5:$W$40,Editor!DE12+1,Editor!DE$36)","v":{"$error":"#VALUE!"}},{"$f":"INDEX(Editor!$C$5:$W$40,Editor!DF12+1,Editor!DF$36)","v":{"$error":"#VALUE!"}},{"$f":"INDEX(Editor!$C$5:$W$40,Editor!DG12+1,Editor!DG$36)","v":{"$error":"#VALUE!"}},{"$f":"INDEX(Editor!$C$5:$W$40,Editor!DH12+1,Editor!DH$36)","v":{"$error":"#VALUE!"}},{"$f":"INDEX(Editor!$C$5:$W$40,Editor!DI12+1,Editor!DI$36)","v":{"$error":"#VALUE!"}},{"$f":"INDEX(Editor!$C$5:$W$40,Editor!DJ12+1,Editor!DJ$36)","v":{"$error":"#VALUE!"}},{"$f":"INDEX(Editor!$C$5:$W$40,Editor!DK12+1,Editor!DK$36)","v":{"$error":"#VALUE!"}},{"$f":"INDEX(Editor!$C$5:$W$40,Editor!DL12+1,Editor!DL$36)","v":{"$error":"#VALUE!"}},{"$f":"INDEX(Editor!$C$5:$W$40,Editor!DM12+1,Editor!DM$36)","v":{"$error":"#VALUE!"}},{"$f":"INDEX(Editor!$C$5:$W$40,Editor!DN12+1,Editor!DN$36)","v":{"$error":"#VALUE!"}},{"$f":"INDEX(Editor!$C$5:$W$40,Editor!DO12+1,Editor!DO$36)","v":{"$error":"#VALUE!"}},{"$f":"INDEX(Editor!$C$5:$W$40,Editor!DP12+1,Editor!DP$36)","v":{"$error":"#VALUE!"}},{"$f":"INDEX(Editor!$C$5:$W$40,Editor!DQ12+1,Editor!DQ$36)","v":{"$error":"#VALUE!"}},{"$f":"INDEX(Editor!$C$5:$W$40,Editor!DR12+1,Editor!DR$36)","v":{"$error":"#VALUE!"}},{"$f":"INDEX(Editor!$C$5:$W$40,Editor!DS12+1,Editor!DS$36)","v":{"$error":"#VALUE!"}},{"$f":"INDEX(Editor!$C$5:$W$40,Editor!DT12+1,Editor!DT$36)","v":{"$error":"#VALUE!"}},{"$f":"INDEX(Editor!$C$5:$W$40,Editor!DU12+1,Editor!DU$36)","v":{"$error":"#VALUE!"}},{"$f":"INDEX(Editor!$C$5:$W$40,Editor!DV12+1,Editor!DV$36)","v":{"$error":"#VALUE!"}},{"$f":"INDEX(Editor!$C$5:$W$40,Editor!DW12+1,Editor!DW$36)","v":{"$error":"#VALUE!"}},{"$f":"INDEX(Editor!$C$5:$W$40,Editor!DX12+1,Editor!DX$36)","v":{"$error":"#VALUE!"}},{"$f":"INDEX(Editor!$C$5:$W$40,Editor!DY12+1,Editor!DY$36)","v":{"$error":"#VALUE!"}},{"$f":"INDEX(Editor!$C$5:$W$40,Editor!DZ12+1,Editor!DZ$36)","v":{"$error":"#VALUE!"}},{"$f":"INDEX(Editor!$C$5:$W$40,Editor!EA12+1,Editor!EA$36)","v":{"$error":"#VALUE!"}},{"$f":"INDEX(Editor!$C$5:$W$40,Editor!EB12+1,Editor!EB$36)","v":{"$error":"#VALUE!"}},{"$f":"INDEX(Editor!$C$5:$W$40,Editor!EC12+1,Editor!EC$36)","v":{"$error":"#VALUE!"}},{"$f":"INDEX(Editor!$C$5:$W$40,Editor!ED12+1,Editor!ED$36)","v":{"$error":"#VALUE!"}},{"$f":"INDEX(Editor!$C$5:$W$40,Editor!EE12+1,Editor!EE$36)","v":{"$error":"#VALUE!"}},{"$f":"INDEX(Editor!$C$5:$W$40,Editor!EF12+1,Editor!EF$36)","v":{"$error":"#VALUE!"}},{"$f":"INDEX(Editor!$C$5:$W$40,Editor!EG12+1,Editor!EG$36)","v":{"$error":"#VALUE!"}},{"$f":"INDEX(Editor!$C$5:$W$40,Editor!EH12+1,Editor!EH$36)","v":{"$error":"#VALUE!"}},{"$f":"INDEX(Editor!$C$5:$W$40,Editor!EI12+1,Editor!EI$36)","v":{"$error":"#VALUE!"}},{"$f":"INDEX(Editor!$C$5:$W$40,Editor!EJ12+1,Editor!EJ$36)","v":{"$error":"#VALUE!"}},{"$f":"INDEX(Editor!$C$5:$W$40,Editor!EK12+1,Editor!EK$36)","v":{"$error":"#VALUE!"}},{"$f":"INDEX(Editor!$C$5:$W$40,Editor!EL12+1,Editor!EL$36)","v":{"$error":"#VALUE!"}},{"$f":"INDEX(Editor!$C$5:$W$40,Editor!EM12+1,Editor!EM$36)","v":{"$error":"#VALUE!"}},{"$f":"INDEX(Editor!$C$5:$W$40,Editor!EN12+1,Editor!EN$36)","v":{"$error":"#VALUE!"}},{"$f":"INDEX(Editor!$C$5:$W$40,Editor!EO12+1,Editor!EO$36)","v":{"$error":"#VALUE!"}},{"$f":"INDEX(Editor!$C$5:$W$40,Editor!EP12+1,Editor!EP$36)","v":{"$error":"#VALUE!"}},{"$f":"INDEX(Editor!$C$5:$W$40,Editor!EQ12+1,Editor!EQ$36)","v":{"$error":"#VALUE!"}},{"$f":"INDEX(Editor!$C$5:$W$40,Editor!ER12+1,Editor!ER$36)","v":{"$error":"#VALUE!"}},{"$f":"INDEX(Editor!$C$5:$W$40,Editor!ES12+1,Editor!ES$36)","v":{"$error":"#VALUE!"}},{"$f":"INDEX(Editor!$C$5:$W$40,Editor!ET12+1,Editor!ET$36)","v":{"$error":"#VALUE!"}},{"$f":"INDEX(Editor!$C$5:$W$40,Editor!EU12+1,Editor!EU$36)","v":{"$error":"#VALUE!"}},{"$f":"INDEX(Editor!$C$5:$W$40,Editor!EV12+1,Editor!EV$36)","v":{"$error":"#VALUE!"}},{"$f":"INDEX(Editor!$C$5:$W$40,Editor!EW12+1,Editor!EW$36)","v":{"$error":"#VALUE!"}},{"$f":"INDEX(Editor!$C$5:$W$40,Editor!EX12+1,Editor!EX$36)","v":{"$error":"#VALUE!"}},{"$f":"INDEX(Editor!$C$5:$W$40,Editor!EY12+1,Editor!EY$36)","v":{"$error":"#VALUE!"}},{"$f":"INDEX(Editor!$C$5:$W$40,Editor!EZ12+1,Editor!EZ$36)","v":{"$error":"#VALUE!"}},{"$f":"INDEX(Editor!$C$5:$W$40,Editor!FA12+1,Editor!FA$36)","v":{"$error":"#VALUE!"}},{"$f":"INDEX(Editor!$C$5:$W$40,Editor!FB12+1,Editor!FB$36)","v":{"$error":"#VALUE!"}},{"$f":"INDEX(Editor!$C$5:$W$40,Editor!FC12+1,Editor!FC$36)","v":{"$error":"#VALUE!"}},{"$f":"INDEX(Editor!$C$5:$W$40,Editor!FD12+1,Editor!FD$36)","v":{"$error":"#VALUE!"}},{"$f":"INDEX(Editor!$C$5:$W$40,Editor!FE12+1,Editor!FE$36)","v":{"$error":"#VALUE!"}},{"$f":"INDEX(Editor!$C$5:$W$40,Editor!FF12+1,Editor!FF$36)","v":{"$error":"#VALUE!"}},{"$f":"INDEX(Editor!$C$5:$W$40,Editor!FG12+1,Editor!FG$36)","v":{"$error":"#VALUE!"}},{"$f":"INDEX(Editor!$C$5:$W$40,Editor!FH12+1,Editor!FH$36)","v":{"$error":"#VALUE!"}},{"$f":"INDEX(Editor!$C$5:$W$40,Editor!FI12+1,Editor!FI$36)","v":{"$error":"#VALUE!"}},{"$f":"INDEX(Editor!$C$5:$W$40,Editor!FJ12+1,Editor!FJ$36)","v":{"$error":"#VALUE!"}},{"$f":"INDEX(Editor!$C$5:$W$40,Editor!FK12+1,Editor!FK$36)","v":{"$error":"#VALUE!"}},{"$f":"INDEX(Editor!$C$5:$W$40,Editor!FL12+1,Editor!FL$36)","v":{"$error":"#VALUE!"}},{"$f":"INDEX(Editor!$C$5:$W$40,Editor!FM12+1,Editor!FM$36)","v":{"$error":"#VALUE!"}},{"$f":"INDEX(Editor!$C$5:$W$40,Editor!FN12+1,Editor!FN$36)","v":{"$error":"#VALUE!"}},{"$f":"INDEX(Editor!$C$5:$W$40,Editor!FO12+1,Editor!FO$36)","v":{"$error":"#VALUE!"}}]
[8,6,6,6,6,6,null,null,{"$f":"INDEX(Editor!$C$5:$W$40,Editor!DA13+1,Editor!DA$36)","v":{"$error":"#VALUE!"}},{"$f":"INDEX(Editor!$C$5:$W$40,Editor!DB13+1,Editor!DB$36)","v":{"$error":"#VALUE!"}},{"$f":"INDEX(Editor!$C$5:$W$40,Editor!DC13+1,Editor!DC$36)","v":{"$error":"#VALUE!"}},{"$f":"INDEX(Editor!$C$5:$W$40,Editor!DD13+1,Editor!DD$36)","v":{"$error":"#VALUE!"}},{"$f":"INDEX(Editor!$C$5:$W$40,Editor!DE13+1,Editor!DE$36)","v":{"$error":"#VALUE!"}},{"$f":"INDEX(Editor!$C$5:$W$40,Editor!DF13+1,Editor!DF$36)","v":{"$error":"#VALUE!"}},{"$f":"INDEX(Editor!$C$5:$W$40,Editor!DG13+1,Editor!DG$36)","v":{"$error":"#VALUE!"}},{"$f":"INDEX(Editor!$C$5:$W$40,Editor!DH13+1,Editor!DH$36)","v":{"$error":"#VALUE!"}},{"$f":"INDEX(Editor!$C$5:$W$40,Editor!DI13+1,Editor!DI$36)","v":{"$error":"#VALUE!"}},{"$f":"INDEX(Editor!$C$5:$W$40,Editor!DJ13+1,Editor!DJ$36)","v":{"$error":"#VALUE!"}},{"$f":"INDEX(Editor!$C$5:$W$40,Editor!DK13+1,Editor!DK$36)","v":{"$error":"#VALUE!"}},{"$f":"INDEX(Editor!$C$5:$W$40,Editor!DL13+1,Editor!DL$36)","v":{"$error":"#VALUE!"}},{"$f":"INDEX(Editor!$C$5:$W$40,Editor!DM13+1,Editor!DM$36)","v":{"$error":"#VALUE!"}},{"$f":"INDEX(Editor!$C$5:$W$40,Editor!DN13+1,Editor!DN$36)","v":{"$error":"#VALUE!"}},{"$f":"INDEX(Editor!$C$5:$W$40,Editor!DO13+1,Editor!DO$36)","v":{"$error":"#VALUE!"}},{"$f":"INDEX(Editor!$C$5:$W$40,Editor!DP13+1,Editor!DP$36)","v":{"$error":"#VALUE!"}},{"$f":"INDEX(Editor!$C$5:$W$40,Editor!DQ13+1,Editor!DQ$36)","v":{"$error":"#VALUE!"}},{"$f":"INDEX(Editor!$C$5:$W$40,Editor!DR13+1,Editor!DR$36)","v":{"$error":"#VALUE!"}},{"$f":"INDEX(Editor!$C$5:$W$40,Editor!DS13+1,Editor!DS$36)","v":{"$error":"#VALUE!"}},{"$f":"INDEX(Editor!$C$5:$W$40,Editor!DT13+1,Editor!DT$36)","v":{"$error":"#VALUE!"}},{"$f":"INDEX(Editor!$C$5:$W$40,Editor!DU13+1,Editor!DU$36)","v":{"$error":"#VALUE!"}},{"$f":"INDEX(Editor!$C$5:$W$40,Editor!DV13+1,Editor!DV$36)","v":{"$error":"#VALUE!"}},{"$f":"INDEX(Editor!$C$5:$W$40,Editor!DW13+1,Editor!DW$36)","v":{"$error":"#VALUE!"}},{"$f":"INDEX(Editor!$C$5:$W$40,Editor!DX13+1,Editor!DX$36)","v":{"$error":"#VALUE!"}},{"$f":"INDEX(Editor!$C$5:$W$40,Editor!DY13+1,Editor!DY$36)","v":{"$error":"#VALUE!"}},{"$f":"INDEX(Editor!$C$5:$W$40,Editor!DZ13+1,Editor!DZ$36)","v":{"$error":"#VALUE!"}},{"$f":"INDEX(Editor!$C$5:$W$40,Editor!EA13+1,Editor!EA$36)","v":{"$error":"#VALUE!"}},{"$f":"INDEX(Editor!$C$5:$W$40,Editor!EB13+1,Editor!EB$36)","v":{"$error":"#VALUE!"}},{"$f":"INDEX(Editor!$C$5:$W$40,Editor!EC13+1,Editor!EC$36)","v":{"$error":"#VALUE!"}},{"$f":"INDEX(Editor!$C$5:$W$40,Editor!ED13+1,Editor!ED$36)","v":{"$error":"#VALUE!"}},{"$f":"INDEX(Editor!$C$5:$W$40,Editor!EE13+1,Editor!EE$36)","v":{"$error":"#VALUE!"}},{"$f":"INDEX(Editor!$C$5:$W$40,Editor!EF13+1,Editor!EF$36)","v":{"$error":"#VALUE!"}},{"$f":"INDEX(Editor!$C$5:$W$40,Editor!EG13+1,Editor!EG$36)","v":{"$error":"#VALUE!"}},{"$f":"INDEX(Editor!$C$5:$W$40,Editor!EH13+1,Editor!EH$36)","v":{"$error":"#VALUE!"}},{"$f":"INDEX(Editor!$C$5:$W$40,Editor!EI13+1,Editor!EI$36)","v":{"$error":"#VALUE!"}},{"$f":"INDEX(Editor!$C$5:$W$40,Editor!EJ13+1,Editor!EJ$36)","v":{"$error":"#VALUE!"}},{"$f":"INDEX(Editor!$C$5:$W$40,Editor!EK13+1,Editor!EK$36)","v":{"$error":"#VALUE!"}},{"$f":"INDEX(Editor!$C$5:$W$40,Editor!EL13+1,Editor!EL$36)","v":{"$error":"#VALUE!"}},{"$f":"INDEX(Editor!$C$5:$W$40,Editor!EM13+1,Editor!EM$36)","v":{"$error":"#VALUE!"}},{"$f":"INDEX(Editor!$C$5:$W$40,Editor!EN13+1,Editor!EN$36)","v":{"$error":"#VALUE!"}},{"$f":"INDEX(Editor!$C$5:$W$40,Editor!EO13+1,Editor!EO$36)","v":{"$error":"#VALUE!"}},{"$f":"INDEX(Editor!$C$5:$W$40,Editor!EP13+1,Editor!EP$36)","v":{"$error":"#VALUE!"}},{"$f":"INDEX(Editor!$C$5:$W$40,Editor!EQ13+1,Editor!EQ$36)","v":{"$error":"#VALUE!"}},{"$f":"INDEX(Editor!$C$5:$W$40,Editor!ER13+1,Editor!ER$36)","v":{"$error":"#VALUE!"}},{"$f":"INDEX(Editor!$C$5:$W$40,Editor!ES13+1,Editor!ES$36)","v":{"$error":"#VALUE!"}},{"$f":"INDEX(Editor!$C$5:$W$40,Editor!ET13+1,Editor!ET$36)","v":{"$error":"#VALUE!"}},{"$f":"INDEX(Editor!$C$5:$W$40,Editor!EU13+1,Editor!EU$36)","v":{"$error":"#VALUE!"}},{"$f":"INDEX(Editor!$C$5:$W$40,Editor!EV13+1,Editor!EV$36)","v":{"$error":"#VALUE!"}},{"$f":"INDEX(Editor!$C$5:$W$40,Editor!EW13+1,Editor!EW$36)","v":{"$error":"#VALUE!"}},{"$f":"INDEX(Editor!$C$5:$W$40,Editor!EX13+1,Editor!EX$36)","v":{"$error":"#VALUE!"}},{"$f":"INDEX(Editor!$C$5:$W$40,Editor!EY13+1,Editor!EY$36)","v":{"$error":"#VALUE!"}},{"$f":"INDEX(Editor!$C$5:$W$40,Editor!EZ13+1,Editor!EZ$36)","v":{"$error":"#VALUE!"}},{"$f":"INDEX(Editor!$C$5:$W$40,Editor!FA13+1,Editor!FA$36)","v":{"$error":"#VALUE!"}},{"$f":"INDEX(Editor!$C$5:$W$40,Editor!FB13+1,Editor!FB$36)","v":{"$error":"#VALUE!"}},{"$f":"INDEX(Editor!$C$5:$W$40,Editor!FC13+1,Editor!FC$36)","v":{"$error":"#VALUE!"}},{"$f":"INDEX(Editor!$C$5:$W$40,Editor!FD13+1,Editor!FD$36)","v":{"$error":"#VALUE!"}},{"$f":"INDEX(Editor!$C$5:$W$40,Editor!FE13+1,Editor!FE$36)","v":{"$error":"#VALUE!"}},{"$f":"INDEX(Editor!$C$5:$W$40,Editor!FF13+1,Editor!FF$36)","v":{"$error":"#VALUE!"}},{"$f":"INDEX(Editor!$C$5:$W$40,Editor!FG13+1,Editor!FG$36)","v":{"$error":"#VALUE!"}},{"$f":"INDEX(Editor!$C$5:$W$40,Editor!FH13+1,Editor!FH$36)","v":{"$error":"#VALUE!"}},{"$f":"INDEX(Editor!$C$5:$W$40,Editor!FI13+1,Editor!FI$36)","v":{"$error":"#VALUE!"}},{"$f":"INDEX(Editor!$C$5:$W$40,Editor!FJ13+1,Editor!FJ$36)","v":{"$error":"#VALUE!"}},{"$f":"INDEX(Editor!$C$5:$W$40,Editor!FK13+1,Editor!FK$36)","v":{"$error":"#VALUE!"}},{"$f":"INDEX(Editor!$C$5:$W$40,Editor!FL13+1,Editor!FL$36)","v":{"$error":"#VALUE!"}},{"$f":"INDEX(Editor!$C$5:$W$40,Editor!FM13+1,Editor!FM$36)","v":{"$error":"#VALUE!"}},{"$f":"INDEX(Editor!$C$5:$W$40,Editor!FN13+1,Editor!FN$36)","v":{"$error":"#VALUE!"}},{"$f":"INDEX(Editor!$C$5:$W$40,Editor!FO13+1,Editor!FO$36)","v":{"$error":"#VALUE!"}}]
[9,7,7,7,7,7,null,null,{"$f":"INDEX(Editor!$C$5:$W$40,Editor!DA14+1,Editor!DA$36)","v":{"$error":"#VALUE!"}},{"$f":"INDEX(Editor!$C$5:$W$40,Editor!DB14+1,Editor!DB$36)","v":{"$error":"#VALUE!"}},{"$f":"INDEX(Editor!$C$5:$W$40,Editor!DC14+1,Editor!DC$36)","v":{"$error":"#VALUE!"}},{"$f":"INDEX(Editor!$C$5:$W$40,Editor!DD14+1,Editor!DD$36)","v":{"$error":"#VALUE!"}},{"$f":"INDEX(Editor!$C$5:$W$40,Editor!DE14+1,Editor!DE$36)","v":{"$error":"#VALUE!"}},{"$f":"INDEX(Editor!$C$5:$W$40,Editor!DF14+1,Editor!DF$36)","v":{"$error":"#VALUE!"}},{"$f":"INDEX(Editor!$C$5:$W$40,Editor!DG14+1,Editor!DG$36)","v":{"$error":"#VALUE!"}},{"$f":"INDEX(Editor!$C$5:$W$40,Editor!DH14+1,Editor!DH$36)","v":{"$error":"#VALUE!"}},{"$f":"INDEX(Editor!$C$5:$W$40,Editor!DI14+1,Editor!DI$36)","v":{"$error":"#VALUE!"}},{"$f":"INDEX(Editor!$C$5:$W$40,Editor!DJ14+1,Editor!DJ$36)","v":{"$error":"#VALUE!"}},{"$f":"INDEX(Editor!$C$5:$W$40,Editor!DK14+1,Editor!DK$36)","v":{"$error":"#VALUE!"}},{"$f":"INDEX(Editor!$C$5:$W$40,Editor!DL14+1,Editor!DL$36)","v":{"$error":"#VALUE!"}},{"$f":"INDEX(Editor!$C$5:$W$40,Editor!DM14+1,Editor!DM$36)","v":{"$error":"#VALUE!"}},{"$f":"INDEX(Editor!$C$5:$W$40,Editor!DN14+1,Editor!DN$36)","v":{"$error":"#VALUE!"}},{"$f":"INDEX(Editor!$C$5:$W$40,Editor!DO14+1,Editor!DO$36)","v":{"$error":"#VALUE!"}},{"$f":"INDEX(Editor!$C$5:$W$40,Editor!DP14+1,Editor!DP$36)","v":{"$error":"#VALUE!"}},{"$f":"INDEX(Editor!$C$5:$W$40,Editor!DQ14+1,Editor!DQ$36)","v":{"$error":"#VALUE!"}},{"$f":"INDEX(Editor!$C$5:$W$40,Editor!DR14+1,Editor!DR$36)","v":{"$error":"#VALUE!"}},{"$f":"INDEX(Editor!$C$5:$W$40,Editor!DS14+1,Editor!DS$36)","v":{"$error":"#VALUE!"}},{"$f":"INDEX(Editor!$C$5:$W$40,Editor!DT14+1,Editor!DT$36)","v":{"$error":"#VALUE!"}},{"$f":"INDEX(Editor!$C$5:$W$40,Editor!DU14+1,Editor!DU$36)","v":{"$error":"#VALUE!"}},{"$f":"INDEX(Editor!$C$5:$W$40,Editor!DV14+1,Editor!DV$36)","v":{"$error":"#VALUE!"}},{"$f":"INDEX(Editor!$C$5:$W$40,Editor!DW14+1,Editor!DW$36)","v":{"$error":"#VALUE!"}},{"$f":"INDEX(Editor!$C$5:$W$40,Editor!DX14+1,Editor!DX$36)","v":{"$error":"#VALUE!"}},{"$f":"INDEX(Editor!$C$5:$W$40,Editor!DY14+1,Editor!DY$36)","v":{"$error":"#VALUE!"}},{"$f":"INDEX(Editor!$C$5:$W$40,Editor!DZ14+1,Editor!DZ$36)","v":{"$error":"#VALUE!"}},{"$f":"INDEX(Editor!$C$5:$W$40,Editor!EA14+1,Editor!EA$36)","v":{"$error":"#VALUE!"}},{"$f":"INDEX(Editor!$C$5:$W$40,Editor!EB14+1,Editor!EB$36)","v":{"$error":"#VALUE!"}},{"$f":"INDEX(Editor!$C$5:$W$40,Editor!EC14+1,Editor!EC$36)","v":{"$error":"#VALUE!"}},{"$f":"INDEX(Editor!$C$5:$W$40,Editor!ED14+1,Editor!ED$36)","v":{"$error":"#VALUE!"}},{"$f":"INDEX(Editor!$C$5:$W$40,Editor!EE14+1,Editor!EE$36)","v":{"$error":"#VALUE!"}},{"$f":"INDEX(Editor!$C$5:$W$40,Editor!EF14+1,Editor!EF$36)","v":{"$error":"#VALUE!"}},{"$f":"INDEX(Editor!$C$5:$W$40,Editor!EG14+1,Editor!EG$36)","v":{"$error":"#VALUE!"}},{"$f":"INDEX(Editor!$C$5:$W$40,Editor!EH14+1,Editor!EH$36)","v":{"$error":"#VALUE!"}},{"$f":"INDEX(Editor!$C$5:$W$40,Editor!EI14+1,Editor!EI$36)","v":{"$error":"#VALUE!"}},{"$f":"INDEX(Editor!$C$5:$W$40,Editor!EJ14+1,Editor!EJ$36)","v":{"$error":"#VALUE!"}},{"$f":"INDEX(Editor!$C$5:$W$40,Editor!EK14+1,Editor!EK$36)","v":{"$error":"#VALUE!"}},{"$f":"INDEX(Editor!$C$5:$W$40,Editor!EL14+1,Editor!EL$36)","v":{"$error":"#VALUE!"}},{"$f":"INDEX(Editor!$C$5:$W$40,Editor!EM14+1,Editor!EM$36)","v":{"$error":"#VALUE!"}},{"$f":"INDEX(Editor!$C$5:$W$40,Editor!EN14+1,Editor!EN$36)","v":{"$error":"#VALUE!"}},{"$f":"INDEX(Editor!$C$5:$W$40,Editor!EO14+1,Editor!EO$36)","v":{"$error":"#VALUE!"}},{"$f":"INDEX(Editor!$C$5:$W$40,Editor!EP14+1,Editor!EP$36)","v":{"$error":"#VALUE!"}},{"$f":"INDEX(Editor!$C$5:$W$40,Editor!EQ14+1,Editor!EQ$36)","v":{"$error":"#VALUE!"}},{"$f":"INDEX(Editor!$C$5:$W$40,Editor!ER14+1,Editor!ER$36)","v":{"$error":"#VALUE!"}},{"$f":"INDEX(Editor!$C$5:$W$40,Editor!ES14+1,Editor!ES$36)","v":{"$error":"#VALUE!"}},{"$f":"INDEX(Editor!$C$5:$W$40,Editor!ET14+1,Editor!ET$36)","v":{"$error":"#VALUE!"}},{"$f":"INDEX(Editor!$C$5:$W$40,Editor!EU14+1,Editor!EU$36)","v":{"$error":"#VALUE!"}},{"$f":"INDEX(Editor!$C$5:$W$40,Editor!EV14+1,Editor!EV$36)","v":{"$error":"#VALUE!"}},{"$f":"INDEX(Editor!$C$5:$W$40,Editor!EW14+1,Editor!EW$36)","v":{"$error":"#VALUE!"}},{"$f":"INDEX(Editor!$C$5:$W$40,Editor!EX14+1,Editor!EX$36)","v":{"$error":"#VALUE!"}},{"$f":"INDEX(Editor!$C$5:$W$40,Editor!EY14+1,Editor!EY$36)","v":{"$error":"#VALUE!"}},{"$f":"INDEX(Editor!$C$5:$W$40,Editor!EZ14+1,Editor!EZ$36)","v":{"$error":"#VALUE!"}},{"$f":"INDEX(Editor!$C$5:$W$40,Editor!FA14+1,Editor!FA$36)","v":{"$error":"#VALUE!"}},{"$f":"INDEX(Editor!$C$5:$W$40,Editor!FB14+1,Editor!FB$36)","v":{"$error":"#VALUE!"}},{"$f":"INDEX(Editor!$C$5:$W$40,Editor!FC14+1,Editor!FC$36)","v":{"$error":"#VALUE!"}},{"$f":"INDEX(Editor!$C$5:$W$40,Editor!FD14+1,Editor!FD$36)","v":{"$error":"#VALUE!"}},{"$f":"INDEX(Editor!$C$5:$W$40,Editor!FE14+1,Editor!FE$36)","v":{"$error":"#VALUE!"}},{"$f":"INDEX(Editor!$C$5:$W$40,Editor!FF14+1,Editor!FF$36)","v":{"$error":"#VALUE!"}},{"$f":"INDEX(Editor!$C$5:$W$40,Editor!FG14+1,Editor!FG$36)","v":{"$error":"#VALUE!"}},{"$f":"INDEX(Editor!$C$5:$W$40,Editor!FH14+1,Editor!FH$36)","v":{"$error":"#VALUE!"}},{"$f":"INDEX(Editor!$C$5:$W$40,Editor!FI14+1,Editor!FI$36)","v":{"$error":"#VALUE!"}},{"$f":"INDEX(Editor!$C$5:$W$40,Editor!FJ14+1,Editor!FJ$36)","v":{"$error":"#VALUE!"}},{"$f":"INDEX(Editor!$C$5:$W$40,Editor!FK14+1,Editor!FK$36)","v":{"$error":"#VALUE!"}},{"$f":"INDEX(Editor!$C$5:$W$40,Editor!FL14+1,Editor!FL$36)","v":{"$error":"#VALUE!"}},{"$f":"INDEX(Editor!$C$5:$W$40,Editor!FM14+1,Editor!FM$36)","v":{"$error":"#VALUE!"}},{"$f":"INDEX(Editor!$C$5:$W$40,Editor!FN14+1,Editor!FN$36)","v":{"$error":"#VALUE!"}},{"$f":"INDEX(Editor!$C$5:$W$40,Editor!FO14+1,Editor!FO$36)","v":{"$error":"#VALUE!"}}]
[10,8,8,8,8,8,null,null,{"$f":"INDEX(Editor!$C$5:$W$40,Editor!DA15+1,Editor!DA$36)","v":{"$error":"#VALUE!"}},{"$f":"INDEX(Editor!$C$5:$W$40,Editor!DB15+1,Editor!DB$36)","v":{"$error":"#VALUE!"}},{"$f":"INDEX(Editor!$C$5:$W$40,Editor!DC15+1,Editor!DC$36)","v":{"$error":"#VALUE!"}},{"$f":"INDEX(Editor!$C$5:$W$40,Editor!DD15+1,Editor!DD$36)","v":{"$error":"#VALUE!"}},{"$f":"INDEX(Editor!$C$5:$W$40,Editor!DE15+1,Editor!DE$36)","v":{"$error":"#VALUE!"}},{"$f":"INDEX(Editor!$C$5:$W$40,Editor!DF15+1,Editor!DF$36)","v":{"$error":"#VALUE!"}},{"$f":"INDEX(Editor!$C$5:$W$40,Editor!DG15+1,Editor!DG$36)","v":{"$error":"#VALUE!"}},{"$f":"INDEX(Editor!$C$5:$W$40,Editor!DH15+1,Editor!DH$36)","v":{"$error":"#VALUE!"}},{"$f":"INDEX(Editor!$C$5:$W$40,Editor!DI15+1,Editor!DI$36)","v":{"$error":"#VALUE!"}},{"$f":"INDEX(Editor!$C$5:$W$40,Editor!DJ15+1,Editor!DJ$36)","v":{"$error":"#VALUE!"}},{"$f":"INDEX(Editor!$C$5:$W$40,Editor!DK15+1,Editor!DK$36)","v":{"$error":"#VALUE!"}},{"$f":"INDEX(Editor!$C$5:$W$40,Editor!DL15+1,Editor!DL$36)","v":{"$error":"#VALUE!"}},{"$f":"INDEX(Editor!$C$5:$W$40,Editor!DM15+1,Editor!DM$36)","v":{"$error":"#VALUE!"}},{"$f":"INDEX(Editor!$C$5:$W$40,Editor!DN15+1,Editor!DN$36)","v":{"$error":"#VALUE!"}},{"$f":"INDEX(Editor!$C$5:$W$40,Editor!DO15+1,Editor!DO$36)","v":{"$error":"#VALUE!"}},{"$f":"INDEX(Editor!$C$5:$W$40,Editor!DP15+1,Editor!DP$36)","v":{"$error":"#VALUE!"}},{"$f":"INDEX(Editor!$C$5:$W$40,Editor!DQ15+1,Editor!DQ$36)","v":{"$error":"#VALUE!"}},{"$f":"INDEX(Editor!$C$5:$W$40,Editor!DR15+1,Editor!DR$36)","v":{"$error":"#VALUE!"}},{"$f":"INDEX(Editor!$C$5:$W$40,Editor!DS15+1,Editor!DS$36)","v":{"$error":"#VALUE!"}},{"$f":"INDEX(Editor!$C$5:$W$40,Editor!DT15+1,Editor!DT$36)","v":{"$error":"#VALUE!"}},{"$f":"INDEX(Editor!$C$5:$W$40,Editor!DU15+1,Editor!DU$36)","v":{"$error":"#VALUE!"}},{"$f":"INDEX(Editor!$C$5:$W$40,Editor!DV15+1,Editor!DV$36)","v":{"$error":"#VALUE!"}},{"$f":"INDEX(Editor!$C$5:$W$40,Editor!DW15+1,Editor!DW$36)","v":{"$error":"#VALUE!"}},{"$f":"INDEX(Editor!$C$5:$W$40,Editor!DX15+1,Editor!DX$36)","v":{"$error":"#VALUE!"}},{"$f":"INDEX(Editor!$C$5:$W$40,Editor!DY15+1,Editor!DY$36)","v":{"$error":"#VALUE!"}},{"$f":"INDEX(Editor!$C$5:$W$40,Editor!DZ15+1,Editor!DZ$36)","v":{"$error":"#VALUE!"}},{"$f":"INDEX(Editor!$C$5:$W$40,Editor!EA15+1,Editor!EA$36)","v":{"$error":"#VALUE!"}},{"$f":"INDEX(Editor!$C$5:$W$40,Editor!EB15+1,Editor!EB$36)","v":{"$error":"#VALUE!"}},{"$f":"INDEX(Editor!$C$5:$W$40,Editor!EC15+1,Editor!EC$36)","v":{"$error":"#VALUE!"}},{"$f":"INDEX(Editor!$C$5:$W$40,Editor!ED15+1,Editor!ED$36)","v":{"$error":"#VALUE!"}},{"$f":"INDEX(Editor!$C$5:$W$40,Editor!EE15+1,Editor!EE$36)","v":{"$error":"#VALUE!"}},{"$f":"INDEX(Editor!$C$5:$W$40,Editor!EF15+1,Editor!EF$36)","v":{"$error":"#VALUE!"}},{"$f":"INDEX(Editor!$C$5:$W$40,Editor!EG15+1,Editor!EG$36)","v":{"$error":"#VALUE!"}},{"$f":"INDEX(Editor!$C$5:$W$40,Editor!EH15+1,Editor!EH$36)","v":{"$error":"#VALUE!"}},{"$f":"INDEX(Editor!$C$5:$W$40,Editor!EI15+1,Editor!EI$36)","v":{"$error":"#VALUE!"}},{"$f":"INDEX(Editor!$C$5:$W$40,Editor!EJ15+1,Editor!EJ$36)","v":{"$error":"#VALUE!"}},{"$f":"INDEX(Editor!$C$5:$W$40,Editor!EK15+1,Editor!EK$36)","v":{"$error":"#VALUE!"}},{"$f":"INDEX(Editor!$C$5:$W$40,Editor!EL15+1,Editor!EL$36)","v":{"$error":"#VALUE!"}},{"$f":"INDEX(Editor!$C$5:$W$40,Editor!EM15+1,Editor!EM$36)","v":{"$error":"#VALUE!"}},{"$f":"INDEX(Editor!$C$5:$W$40,Editor!EN15+1,Editor!EN$36)","v":{"$error":"#VALUE!"}},{"$f":"INDEX(Editor!$C$5:$W$40,Editor!EO15+1,Editor!EO$36)","v":{"$error":"#VALUE!"}},{"$f":"INDEX(Editor!$C$5:$W$40,Editor!EP15+1,Editor!EP$36)","v":{"$error":"#VALUE!"}},{"$f":"INDEX(Editor!$C$5:$W$40,Editor!EQ15+1,Editor!EQ$36)","v":{"$error":"#VALUE!"}},{"$f":"INDEX(Editor!$C$5:$W$40,Editor!ER15+1,Editor!ER$36)","v":{"$error":"#VALUE!"}},{"$f":"INDEX(Editor!$C$5:$W$40,Editor!ES15+1,Editor!ES$36)","v":{"$error":"#VALUE!"}},{"$f":"INDEX(Editor!$C$5:$W$40,Editor!ET15+1,Editor!ET$36)","v":{"$error":"#VALUE!"}},{"$f":"INDEX(Editor!$C$5:$W$40,Editor!EU15+1,Editor!EU$36)","v":{"$error":"#VALUE!"}},{"$f":"INDEX(Editor!$C$5:$W$40,Editor!EV15+1,Editor!EV$36)","v":{"$error":"#VALUE!"}},{"$f":"INDEX(Editor!$C$5:$W$40,Editor!EW15+1,Editor!EW$36)","v":{"$error":"#VALUE!"}},{"$f":"INDEX(Editor!$C$5:$W$40,Editor!EX15+1,Editor!EX$36)","v":{"$error":"#VALUE!"}},{"$f":"INDEX(Editor!$C$5:$W$40,Editor!EY15+1,Editor!EY$36)","v":{"$error":"#VALUE!"}},{"$f":"INDEX(Editor!$C$5:$W$40,Editor!EZ15+1,Editor!EZ$36)","v":{"$error":"#VALUE!"}},{"$f":"INDEX(Editor!$C$5:$W$40,Editor!FA15+1,Editor!FA$36)","v":{"$error":"#VALUE!"}},{"$f":"INDEX(Editor!$C$5:$W$40,Editor!FB15+1,Editor!FB$36)","v":{"$error":"#VALUE!"}},{"$f":"INDEX(Editor!$C$5:$W$40,Editor!FC15+1,Editor!FC$36)","v":{"$error":"#VALUE!"}},{"$f":"INDEX(Editor!$C$5:$W$40,Editor!FD15+1,Editor!FD$36)","v":{"$error":"#VALUE!"}},{"$f":"INDEX(Editor!$C$5:$W$40,Editor!FE15+1,Editor!FE$36)","v":{"$error":"#VALUE!"}},{"$f":"INDEX(Editor!$C$5:$W$40,Editor!FF15+1,Editor!FF$36)","v":{"$error":"#VALUE!"}},{"$f":"INDEX(Editor!$C$5:$W$40,Editor!FG15+1,Editor!FG$36)","v":{"$error":"#VALUE!"}},{"$f":"INDEX(Editor!$C$5:$W$40,Editor!FH15+1,Editor!FH$36)","v":{"$error":"#VALUE!"}},{"$f":"INDEX(Editor!$C$5:$W$40,Editor!FI15+1,Editor!FI$36)","v":{"$error":"#VALUE!"}},{"$f":"INDEX(Editor!$C$5:$W$40,Editor!FJ15+1,Editor!FJ$36)","v":{"$error":"#VALUE!"}},{"$f":"INDEX(Editor!$C$5:$W$40,Editor!FK15+1,Editor!FK$36)","v":{"$error":"#VALUE!"}},{"$f":"INDEX(Editor!$C$5:$W$40,Editor!FL15+1,Editor!FL$36)","v":{"$error":"#VALUE!"}},{"$f":"INDEX(Editor!$C$5:$W$40,Editor!FM15+1,Editor!FM$36)","v":{"$error":"#VALUE!"}},{"$f":"INDEX(Editor!$C$5:$W$40,Editor!FN15+1,Editor!FN$36)","v":{"$error":"#VALUE!"}},{"$f":"INDEX(Editor!$C$5:$W$40,Editor!FO15+1,Editor!FO$36)","v":{"$error":"#VALUE!"}}]
[11,9,9,9,9,9,null,null,{"$f":"INDEX(Editor!$C$5:$W$40,Editor!DA16+1,Editor!DA$36)","v":{"$error":"#VALUE!"}},{"$f":"INDEX(Editor!$C$5:$W$40,Editor!DB16+1,Editor!DB$36)","v":{"$error":"#VALUE!"}},{"$f":"INDEX(Editor!$C$5:$W$40,Editor!DC16+1,Editor!DC$36)","v":{"$error":"#VALUE!"}},{"$f":"INDEX(Editor!$C$5:$W$40,Editor!DD16+1,Editor!DD$36)","v":{"$error":"#VALUE!"}},{"$f":"INDEX(Editor!$C$5:$W$40,Editor!DE16+1,Editor!DE$36)","v":{"$error":"#VALUE!"}},{"$f":"INDEX(Editor!$C$5:$W$40,Editor!DF16+1,Editor!DF$36)","v":{"$error":"#VALUE!"}},{"$f":"INDEX(Editor!$C$5:$W$40,Editor!DG16+1,Editor!DG$36)","v":{"$error":"#VALUE!"}},{"$f":"INDEX(Editor!$C$5:$W$40,Editor!DH16+1,Editor!DH$36)","v":{"$error":"#VALUE!"}},{"$f":"INDEX(Editor!$C$5:$W$40,Editor!DI16+1,Editor!DI$36)","v":{"$error":"#VALUE!"}},{"$f":"INDEX(Editor!$C$5:$W$40,Editor!DJ16+1,Editor!DJ$36)","v":{"$error":"#VALUE!"}},{"$f":"INDEX(Editor!$C$5:$W$40,Editor!DK16+1,Editor!DK$36)","v":{"$error":"#VALUE!"}},{"$f":"INDEX(Editor!$C$5:$W$40,Editor!DL16+1,Editor!DL$36)","v":{"$error":"#VALUE!"}},{"$f":"INDEX(Editor!$C$5:$W$40,Editor!DM16+1,Editor!DM$36)","v":{"$error":"#VALUE!"}},{"$f":"INDEX(Editor!$C$5:$W$40,Editor!DN16+1,Editor!DN$36)","v":{"$error":"#VALUE!"}},{"$f":"INDEX(Editor!$C$5:$W$40,Editor!DO16+1,Editor!DO$36)","v":{"$error":"#VALUE!"}},{"$f":"INDEX(Editor!$C$5:$W$40,Editor!DP16+1,Editor!DP$36)","v":{"$error":"#VALUE!"}},{"$f":"INDEX(Editor!$C$5:$W$40,Editor!DQ16+1,Editor!DQ$36)","v":{"$error":"#VALUE!"}},{"$f":"INDEX(Editor!$C$5:$W$40,Editor!DR16+1,Editor!DR$36)","v":{"$error":"#VALUE!"}},{"$f":"INDEX(Editor!$C$5:$W$40,Editor!DS16+1,Editor!DS$36)","v":{"$error":"#VALUE!"}},{"$f":"INDEX(Editor!$C$5:$W$40,Editor!DT16+1,Editor!DT$36)","v":{"$error":"#VALUE!"}},{"$f":"INDEX(Editor!$C$5:$W$40,Editor!DU16+1,Editor!DU$36)","v":{"$error":"#VALUE!"}},{"$f":"INDEX(Editor!$C$5:$W$40,Editor!DV16+1,Editor!DV$36)","v":{"$error":"#VALUE!"}},{"$f":"INDEX(Editor!$C$5:$W$40,Editor!DW16+1,Editor!DW$36)","v":{"$error":"#VALUE!"}},{"$f":"INDEX(Editor!$C$5:$W$40,Editor!DX16+1,Editor!DX$36)","v":{"$error":"#VALUE!"}},{"$f":"INDEX(Editor!$C$5:$W$40,Editor!DY16+1,Editor!DY$36)","v":{"$error":"#VALUE!"}},{"$f":"INDEX(Editor!$C$5:$W$40,Editor!DZ16+1,Editor!DZ$36)","v":{"$error":"#VALUE!"}},{"$f":"INDEX(Editor!$C$5:$W$40,Editor!EA16+1,Editor!EA$36)","v":{"$error":"#VALUE!"}},{"$f":"INDEX(Editor!$C$5:$W$40,Editor!EB16+1,Editor!EB$36)","v":{"$error":"#VALUE!"}},{"$f":"INDEX(Editor!$C$5:$W$40,Editor!EC16+1,Editor!EC$36)","v":{"$error":"#VALUE!"}},{"$f":"INDEX(Editor!$C$5:$W$40,Editor!ED16+1,Editor!ED$36)","v":{"$error":"#VALUE!"}},{"$f":"INDEX(Editor!$C$5:$W$40,Editor!EE16+1,Editor!EE$36)","v":{"$error":"#VALUE!"}},{"$f":"INDEX(Editor!$C$5:$W$40,Editor!EF16+1,Editor!EF$36)","v":{"$error":"#VALUE!"}},{"$f":"INDEX(Editor!$C$5:$W$40,Editor!EG16+1,Editor!EG$36)","v":{"$error":"#VALUE!"}},{"$f":"INDEX(Editor!$C$5:$W$40,Editor!EH16+1,Editor!EH$36)","v":{"$error":"#VALUE!"}},{"$f":"INDEX(Editor!$C$5:$W$40,Editor!EI16+1,Editor!EI$36)","v":{"$error":"#VALUE!"}},{"$f":"INDEX(Editor!$C$5:$W$40,Editor!EJ16+1,Editor!EJ$36)","v":{"$error":"#VALUE!"}},{"$f":"INDEX(Editor!$C$5:$W$40,Editor!EK16+1,Editor!EK$36)","v":{"$error":"#VALUE!"}},{"$f":"INDEX(Editor!$C$5:$W$40,Editor!EL16+1,Editor!EL$36)","v":{"$error":"#VALUE!"}},{"$f":"INDEX(Editor!$C$5:$W$40,Editor!EM16+1,Editor!EM$36)","v":{"$error":"#VALUE!"}},{"$f":"INDEX(Editor!$C$5:$W$40,Editor!EN16+1,Editor!EN$36)","v":{"$error":"#VALUE!"}},{"$f":"INDEX(Editor!$C$5:$W$40,Editor!EO16+1,Editor!EO$36)","v":{"$error":"#VALUE!"}},{"$f":"INDEX(Editor!$C$5:$W$40,Editor!EP16+1,Editor!EP$36)","v":{"$error":"#VALUE!"}},{"$f":"INDEX(Editor!$C$5:$W$40,Editor!EQ16+1,Editor!EQ$36)","v":{"$error":"#VALUE!"}},{"$f":"INDEX(Editor!$C$5:$W$40,Editor!ER16+1,Editor!ER$36)","v":{"$error":"#VALUE!"}},{"$f":"INDEX(Editor!$C$5:$W$40,Editor!ES16+1,Editor!ES$36)","v":{"$error":"#VALUE!"}},{"$f":"INDEX(Editor!$C$5:$W$40,Editor!ET16+1,Editor!ET$36)","v":{"$error":"#VALUE!"}},{"$f":"INDEX(Editor!$C$5:$W$40,Editor!EU16+1,Editor!EU$36)","v":{"$error":"#VALUE!"}},{"$f":"INDEX(Editor!$C$5:$W$40,Editor!EV16+1,Editor!EV$36)","v":{"$error":"#VALUE!"}},{"$f":"INDEX(Editor!$C$5:$W$40,Editor!EW16+1,Editor!EW$36)","v":{"$error":"#VALUE!"}},{"$f":"INDEX(Editor!$C$5:$W$40,Editor!EX16+1,Editor!EX$36)","v":{"$error":"#VALUE!"}},{"$f":"INDEX(Editor!$C$5:$W$40,Editor!EY16+1,Editor!EY$36)","v":{"$error":"#VALUE!"}},{"$f":"INDEX(Editor!$C$5:$W$40,Editor!EZ16+1,Editor!EZ$36)","v":{"$error":"#VALUE!"}},{"$f":"INDEX(Editor!$C$5:$W$40,Editor!FA16+1,Editor!FA$36)","v":{"$error":"#VALUE!"}},{"$f":"INDEX(Editor!$C$5:$W$40,Editor!FB16+1,Editor!FB$36)","v":{"$error":"#VALUE!"}},{"$f":"INDEX(Editor!$C$5:$W$40,Editor!FC16+1,Editor!FC$36)","v":{"$error":"#VALUE!"}},{"$f":"INDEX(Editor!$C$5:$W$40,Editor!FD16+1,Editor!FD$36)","v":{"$error":"#VALUE!"}},{"$f":"INDEX(Editor!$C$5:$W$40,Editor!FE16+1,Editor!FE$36)","v":{"$error":"#VALUE!"}},{"$f":"INDEX(Editor!$C$5:$W$40,Editor!FF16+1,Editor!FF$36)","v":{"$error":"#VALUE!"}},{"$f":"INDEX(Editor!$C$5:$W$40,Editor!FG16+1,Editor!FG$36)","v":{"$error":"#VALUE!"}},{"$f":"INDEX(Editor!$C$5:$W$40,Editor!FH16+1,Editor!FH$36)","v":{"$error":"#VALUE!"}},{"$f":"INDEX(Editor!$C$5:$W$40,Editor!FI16+1,Editor!FI$36)","v":{"$error":"#VALUE!"}},{"$f":"INDEX(Editor!$C$5:$W$40,Editor!FJ16+1,Editor!FJ$36)","v":{"$error":"#VALUE!"}},{"$f":"INDEX(Editor!$C$5:$W$40,Editor!FK16+1,Editor!FK$36)","v":{"$error":"#VALUE!"}},{"$f":"INDEX(Editor!$C$5:$W$40,Editor!FL16+1,Editor!FL$36)","v":{"$error":"#VALUE!"}},{"$f":"INDEX(Editor!$C$5:$W$40,Editor!FM16+1,Editor!FM$36)","v":{"$error":"#VALUE!"}},{"$f":"INDEX(Editor!$C$5:$W$40,Editor!FN16+1,Editor!FN$36)","v":{"$error":"#VALUE!"}},{"$f":"INDEX(Editor!$C$5:$W$40,Editor!FO16+1,Editor!FO$36)","v":{"$error":"#VALUE!"}}]
[12,null,null,null,null,null,null,null,{"$f":"INDEX(Editor!$C$5:$W$40,Editor!DA17+1,Editor!DA$36)","v":{"$error":"#VALUE!"}},{"$f":"INDEX(Editor!$C$5:$W$40,Editor!DB17+1,Editor!DB$36)","v":{"$error":"#VALUE!"}},{"$f":"INDEX(Editor!$C$5:$W$40,Editor!DC17+1,Editor!DC$36)","v":{"$error":"#VALUE!"}},{"$f":"INDEX(Editor!$C$5:$W$40,Editor!DD17+1,Editor!DD$36)","v":{"$error":"#VALUE!"}},{"$f":"INDEX(Editor!$C$5:$W$40,Editor!DE17+1,Editor!DE$36)","v":{"$error":"#VALUE!"}},{"$f":"INDEX(Editor!$C$5:$W$40,Editor!DF17+1,Editor!DF$36)","v":{"$error":"#VALUE!"}},{"$f":"INDEX(Editor!$C$5:$W$40,Editor!DG17+1,Editor!DG$36)","v":{"$error":"#VALUE!"}},{"$f":"INDEX(Editor!$C$5:$W$40,Editor!DH17+1,Editor!DH$36)","v":{"$error":"#VALUE!"}},{"$f":"INDEX(Editor!$C$5:$W$40,Editor!DI17+1,Editor!DI$36)","v":{"$error":"#VALUE!"}},{"$f":"INDEX(Editor!$C$5:$W$40,Editor!DJ17+1,Editor!DJ$36)","v":{"$error":"#VALUE!"}},{"$f":"INDEX(Editor!$C$5:$W$40,Editor!DK17+1,Editor!DK$36)","v":{"$error":"#VALUE!"}},{"$f":"INDEX(Editor!$C$5:$W$40,Editor!DL17+1,Editor!DL$36)","v":{"$error":"#VALUE!"}},{"$f":"INDEX(Editor!$C$5:$W$40,Editor!DM17+1,Editor!DM$36)","v":{"$error":"#VALUE!"}},{"$f":"INDEX(Editor!$C$5:$W$40,Editor!DN17+1,Editor!DN$36)","v":{"$error":"#VALUE!"}},{"$f":"INDEX(Editor!$C$5:$W$40,Editor!DO17+1,Editor!DO$36)","v":{"$error":"#VALUE!"}},{"$f":"INDEX(Editor!$C$5:$W$40,Editor!DP17+1,Editor!DP$36)","v":{"$error":"#VALUE!"}},{"$f":"INDEX(Editor!$C$5:$W$40,Editor!DQ17+1,Editor!DQ$36)","v":{"$error":"#VALUE!"}},{"$f":"INDEX(Editor!$C$5:$W$40,Editor!DR17+1,Editor!DR$36)","v":{"$error":"#VALUE!"}},{"$f":"INDEX(Editor!$C$5:$W$40,Editor!DS17+1,Editor!DS$36)","v":{"$error":"#VALUE!"}},{"$f":"INDEX(Editor!$C$5:$W$40,Editor!DT17+1,Editor!DT$36)","v":{"$error":"#VALUE!"}},{"$f":"INDEX(Editor!$C$5:$W$40,Editor!DU17+1,Editor!DU$36)","v":{"$error":"#VALUE!"}},{"$f":"INDEX(Editor!$C$5:$W$40,Editor!DV17+1,Editor!DV$36)","v":{"$error":"#VALUE!"}},{"$f":"INDEX(Editor!$C$5:$W$40,Editor!DW17+1,Editor!DW$36)","v":{"$error":"#VALUE!"}},{"$f":"INDEX(Editor!$C$5:$W$40,Editor!DX17+1,Editor!DX$36)","v":{"$error":"#VALUE!"}},{"$f":"INDEX(Editor!$C$5:$W$40,Editor!DY17+1,Editor!DY$36)","v":{"$error":"#VALUE!"}},{"$f":"INDEX(Editor!$C$5:$W$40,Editor!DZ17+1,Editor!DZ$36)","v":{"$error":"#VALUE!"}},{"$f":"INDEX(Editor!$C$5:$W$40,Editor!EA17+1,Editor!EA$36)","v":{"$error":"#VALUE!"}},{"$f":"INDEX(Editor!$C$5:$W$40,Editor!EB17+1,Editor!EB$36)","v":{"$error":"#VALUE!"}},{"$f":"INDEX(Editor!$C$5:$W$40,Editor!EC17+1,Editor!EC$36)","v":{"$error":"#VALUE!"}},{"$f":"INDEX(Editor!$C$5:$W$40,Editor!ED17+1,Editor!ED$36)","v":{"$error":"#VALUE!"}},{"$f":"INDEX(Editor!$C$5:$W$40,Editor!EE17+1,Editor!EE$36)","v":{"$error":"#VALUE!"}},{"$f":"INDEX(Editor!$C$5:$W$40,Editor!EF17+1,Editor!EF$36)","v":{"$error":"#VALUE!"}},{"$f":"INDEX(Editor!$C$5:$W$40,Editor!EG17+1,Editor!EG$36)","v":{"$error":"#VALUE!"}},{"$f":"INDEX(Editor!$C$5:$W$40,Editor!EH17+1,Editor!EH$36)","v":{"$error":"#VALUE!"}},{"$f":"INDEX(Editor!$C$5:$W$40,Editor!EI17+1,Editor!EI$36)","v":{"$error":"#VALUE!"}},{"$f":"INDEX(Editor!$C$5:$W$40,Editor!EJ17+1,Editor!EJ$36)","v":{"$error":"#VALUE!"}},{"$f":"INDEX(Editor!$C$5:$W$40,Editor!EK17+1,Editor!EK$36)","v":{"$error":"#VALUE!"}},{"$f":"INDEX(Editor!$C$5:$W$40,Editor!EL17+1,Editor!EL$36)","v":{"$error":"#VALUE!"}},{"$f":"INDEX(Editor!$C$5:$W$40,Editor!EM17+1,Editor!EM$36)","v":{"$error":"#VALUE!"}},{"$f":"INDEX(Editor!$C$5:$W$40,Editor!EN17+1,Editor!EN$36)","v":{"$error":"#VALUE!"}},{"$f":"INDEX(Editor!$C$5:$W$40,Editor!EO17+1,Editor!EO$36)","v":{"$error":"#VALUE!"}},{"$f":"INDEX(Editor!$C$5:$W$40,Editor!EP17+1,Editor!EP$36)","v":{"$error":"#VALUE!"}},{"$f":"INDEX(Editor!$C$5:$W$40,Editor!EQ17+1,Editor!EQ$36)","v":{"$error":"#VALUE!"}},{"$f":"INDEX(Editor!$C$5:$W$40,Editor!ER17+1,Editor!ER$36)","v":{"$error":"#VALUE!"}},{"$f":"INDEX(Editor!$C$5:$W$40,Editor!ES17+1,Editor!ES$36)","v":{"$error":"#VALUE!"}},{"$f":"INDEX(Editor!$C$5:$W$40,Editor!ET17+1,Editor!ET$36)","v":{"$error":"#VALUE!"}},{"$f":"INDEX(Editor!$C$5:$W$40,Editor!EU17+1,Editor!EU$36)","v":{"$error":"#VALUE!"}},{"$f":"INDEX(Editor!$C$5:$W$40,Editor!EV17+1,Editor!EV$36)","v":{"$error":"#VALUE!"}},{"$f":"INDEX(Editor!$C$5:$W$40,Editor!EW17+1,Editor!EW$36)","v":{"$error":"#VALUE!"}},{"$f":"INDEX(Editor!$C$5:$W$40,Editor!EX17+1,Editor!EX$36)","v":{"$error":"#VALUE!"}},{"$f":"INDEX(Editor!$C$5:$W$40,Editor!EY17+1,Editor!EY$36)","v":{"$error":"#VALUE!"}},{"$f":"INDEX(Editor!$C$5:$W$40,Editor!EZ17+1,Editor!EZ$36)","v":{"$error":"#VALUE!"}},{"$f":"INDEX(Editor!$C$5:$W$40,Editor!FA17+1,Editor!FA$36)","v":{"$error":"#VALUE!"}},{"$f":"INDEX(Editor!$C$5:$W$40,Editor!FB17+1,Editor!FB$36)","v":{"$error":"#VALUE!"}},{"$f":"INDEX(Editor!$C$5:$W$40,Editor!FC17+1,Editor!FC$36)","v":{"$error":"#VALUE!"}},{"$f":"INDEX(Editor!$C$5:$W$40,Editor!FD17+1,Editor!FD$36)","v":{"$error":"#VALUE!"}},{"$f":"INDEX(Editor!$C$5:$W$40,Editor!FE17+1,Editor!FE$36)","v":{"$error":"#VALUE!"}},{"$f":"INDEX(Editor!$C$5:$W$40,Editor!FF17+1,Editor!FF$36)","v":{"$error":"#VALUE!"}},{"$f":"INDEX(Editor!$C$5:$W$40,Editor!FG17+1,Editor!FG$36)","v":{"$error":"#VALUE!"}},{"$f":"INDEX(Editor!$C$5:$W$40,Editor!FH17+1,Editor!FH$36)","v":{"$error":"#VALUE!"}},{"$f":"INDEX(Editor!$C$5:$W$40,Editor!FI17+1,Editor!FI$36)","v":{"$error":"#VALUE!"}},{"$f":"INDEX(Editor!$C$5:$W$40,Editor!FJ17+1,Editor!FJ$36)","v":{"$error":"#VALUE!"}},{"$f":"INDEX(Editor!$C$5:$W$40,Editor!FK17+1,Editor!FK$36)","v":{"$error":"#VALUE!"}},{"$f":"INDEX(Editor!$C$5:$W$40,Editor!FL17+1,Editor!FL$36)","v":{"$error":"#VALUE!"}},{"$f":"INDEX(Editor!$C$5:$W$40,Editor!FM17+1,Editor!FM$36)","v":{"$error":"#VALUE!"}},{"$f":"INDEX(Editor!$C$5:$W$40,Editor!FN17+1,Editor!FN$36)","v":{"$error":"#VALUE!"}},{"$f":"INDEX(Editor!$C$5:$W$40,Editor!FO17+1,Editor!FO$36)","v":{"$error":"#VALUE!"}}]
[13,null,null,null,null,null,null,null,{"$f":"INDEX(Editor!$C$5:$W$40,Editor!DA18+1,Editor!DA$36)","v":{"$error":"#VALUE!"}},{"$f":"INDEX(Editor!$C$5:$W$40,Editor!DB18+1,Editor!DB$36)","v":{"$error":"#VALUE!"}},{"$f":"INDEX(Editor!$C$5:$W$40,Editor!DC18+1,Editor!DC$36)","v":{"$error":"#VALUE!"}},{"$f":"INDEX(Editor!$C$5:$W$40,Editor!DD18+1,Editor!DD$36)","v":{"$error":"#VALUE!"}},{"$f":"INDEX(Editor!$C$5:$W$40,Editor!DE18+1,Editor!DE$36)","v":{"$error":"#VALUE!"}},{"$f":"INDEX(Editor!$C$5:$W$40,Editor!DF18+1,Editor!DF$36)","v":{"$error":"#VALUE!"}},{"$f":"INDEX(Editor!$C$5:$W$40,Editor!DG18+1,Editor!DG$36)","v":{"$error":"#VALUE!"}},{"$f":"INDEX(Editor!$C$5:$W$40,Editor!DH18+1,Editor!DH$36)","v":{"$error":"#VALUE!"}},{"$f":"INDEX(Editor!$C$5:$W$40,Editor!DI18+1,Editor!DI$36)","v":{"$error":"#VALUE!"}},{"$f":"INDEX(Editor!$C$5:$W$40,Editor!DJ18+1,Editor!DJ$36)","v":{"$error":"#VALUE!"}},{"$f":"INDEX(Editor!$C$5:$W$40,Editor!DK18+1,Editor!DK$36)","v":{"$error":"#VALUE!"}},{"$f":"INDEX(Editor!$C$5:$W$40,Editor!DL18+1,Editor!DL$36)","v":{"$error":"#VALUE!"}},{"$f":"INDEX(Editor!$C$5:$W$40,Editor!DM18+1,Editor!DM$36)","v":{"$error":"#VALUE!"}},{"$f":"INDEX(Editor!$C$5:$W$40,Editor!DN18+1,Editor!DN$36)","v":{"$error":"#VALUE!"}},{"$f":"INDEX(Editor!$C$5:$W$40,Editor!DO18+1,Editor!DO$36)","v":{"$error":"#VALUE!"}},{"$f":"INDEX(Editor!$C$5:$W$40,Editor!DP18+1,Editor!DP$36)","v":{"$error":"#VALUE!"}},{"$f":"INDEX(Editor!$C$5:$W$40,Editor!DQ18+1,Editor!DQ$36)","v":{"$error":"#VALUE!"}},{"$f":"INDEX(Editor!$C$5:$W$40,Editor!DR18+1,Editor!DR$36)","v":{"$error":"#VALUE!"}},{"$f":"INDEX(Editor!$C$5:$W$40,Editor!DS18+1,Editor!DS$36)","v":{"$error":"#VALUE!"}},{"$f":"INDEX(Editor!$C$5:$W$40,Editor!DT18+1,Editor!DT$36)","v":{"$error":"#VALUE!"}},{"$f":"INDEX(Editor!$C$5:$W$40,Editor!DU18+1,Editor!DU$36)","v":{"$error":"#VALUE!"}},{"$f":"INDEX(Editor!$C$5:$W$40,Editor!DV18+1,Editor!DV$36)","v":{"$error":"#VALUE!"}},{"$f":"INDEX(Editor!$C$5:$W$40,Editor!DW18+1,Editor!DW$36)","v":{"$error":"#VALUE!"}},{"$f":"INDEX(Editor!$C$5:$W$40,Editor!DX18+1,Editor!DX$36)","v":{"$error":"#VALUE!"}},{"$f":"INDEX(Editor!$C$5:$W$40,Editor!DY18+1,Editor!DY$36)","v":{"$error":"#VALUE!"}},{"$f":"INDEX(Editor!$C$5:$W$40,Editor!DZ18+1,Editor!DZ$36)","v":{"$error":"#VALUE!"}},{"$f":"INDEX(Editor!$C$5:$W$40,Editor!EA18+1,Editor!EA$36)","v":{"$error":"#VALUE!"}},{"$f":"INDEX(Editor!$C$5:$W$40,Editor!EB18+1,Editor!EB$36)","v":{"$error":"#VALUE!"}},{"$f":"INDEX(Editor!$C$5:$W$40,Editor!EC18+1,Editor!EC$36)","v":{"$error":"#VALUE!"}},{"$f":"INDEX(Editor!$C$5:$W$40,Editor!ED18+1,Editor!ED$36)","v":{"$error":"#VALUE!"}},{"$f":"INDEX(Editor!$C$5:$W$40,Editor!EE18+1,Editor!EE$36)","v":{"$error":"#VALUE!"}},{"$f":"INDEX(Editor!$C$5:$W$40,Editor!EF18+1,Editor!EF$36)","v":{"$error":"#VALUE!"}},{"$f":"INDEX(Editor!$C$5:$W$40,Editor!EG18+1,Editor!EG$36)","v":{"$error":"#VALUE!"}},{"$f":"INDEX(Editor!$C$5:$W$40,Editor!EH18+1,Editor!EH$36)","v":{"$error":"#VALUE!"}},{"$f":"INDEX(Editor!$C$5:$W$40,Editor!EI18+1,Editor!EI$36)","v":{"$error":"#VALUE!"}},{"$f":"INDEX(Editor!$C$5:$W$40,Editor!EJ18+1,Editor!EJ$36)","v":{"$error":"#VALUE!"}},{"$f":"INDEX(Editor!$C$5:$W$40,Editor!EK18+1,Editor!EK$36)","v":{"$error":"#VALUE!"}},{"$f":"INDEX(Editor!$C$5:$W$40,Editor!EL18+1,Editor!EL$36)","v":{"$error":"#VALUE!"}},{"$f":"INDEX(Editor!$C$5:$W$40,Editor!EM18+1,Editor!EM$36)","v":{"$error":"#VALUE!"}},{"$f":"INDEX(Editor!$C$5:$W$40,Editor!EN18+1,Editor!EN$36)","v":{"$error":"#VALUE!"}},{"$f":"INDEX(Editor!$C$5:$W$40,Editor!EO18+1,Editor!EO$36)","v":{"$error":"#VALUE!"}},{"$f":"INDEX(Editor!$C$5:$W$40,Editor!EP18+1,Editor!EP$36)","v":{"$error":"#VALUE!"}},{"$f":"INDEX(Editor!$C$5:$W$40,Editor!EQ18+1,Editor!EQ$36)","v":{"$error":"#VALUE!"}},{"$f":"INDEX(Editor!$C$5:$W$40,Editor!ER18+1,Editor!ER$36)","v":{"$error":"#VALUE!"}},{"$f":"INDEX(Editor!$C$5:$W$40,Editor!ES18+1,Editor!ES$36)","v":{"$error":"#VALUE!"}},{"$f":"INDEX(Editor!$C$5:$W$40,Editor!ET18+1,Editor!ET$36)","v":{"$error":"#VALUE!"}},{"$f":"INDEX(Editor!$C$5:$W$40,Editor!EU18+1,Editor!EU$36)","v":{"$error":"#VALUE!"}},{"$f":"INDEX(Editor!$C$5:$W$40,Editor!EV18+1,Editor!EV$36)","v":{"$error":"#VALUE!"}},{"$f":"INDEX(Editor!$C$5:$W$40,Editor!EW18+1,Editor!EW$36)","v":{"$error":"#VALUE!"}},{"$f":"INDEX(Editor!$C$5:$W$40,Editor!EX18+1,Editor!EX$36)","v":{"$error":"#VALUE!"}},{"$f":"INDEX(Editor!$C$5:$W$40,Editor!EY18+1,Editor!EY$36)","v":{"$error":"#VALUE!"}},{"$f":"INDEX(Editor!$C$5:$W$40,Editor!EZ18+1,Editor!EZ$36)","v":{"$error":"#VALUE!"}},{"$f":"INDEX(Editor!$C$5:$W$40,Editor!FA18+1,Editor!FA$36)","v":{"$error":"#VALUE!"}},{"$f":"INDEX(Editor!$C$5:$W$40,Editor!FB18+1,Editor!FB$36)","v":{"$error":"#VALUE!"}},{"$f":"INDEX(Editor!$C$5:$W$40,Editor!FC18+1,Editor!FC$36)","v":{"$error":"#VALUE!"}},{"$f":"INDEX(Editor!$C$5:$W$40,Editor!FD18+1,Editor!FD$36)","v":{"$error":"#VALUE!"}},{"$f":"INDEX(Editor!$C$5:$W$40,Editor!FE18+1,Editor!FE$36)","v":{"$error":"#VALUE!"}},{"$f":"INDEX(Editor!$C$5:$W$40,Editor!FF18+1,Editor!FF$36)","v":{"$error":"#VALUE!"}},{"$f":"INDEX(Editor!$C$5:$W$40,Editor!FG18+1,Editor!FG$36)","v":{"$error":"#VALUE!"}},{"$f":"INDEX(Editor!$C$5:$W$40,Editor!FH18+1,Editor!FH$36)","v":{"$error":"#VALUE!"}},{"$f":"INDEX(Editor!$C$5:$W$40,Editor!FI18+1,Editor!FI$36)","v":{"$error":"#VALUE!"}},{"$f":"INDEX(Editor!$C$5:$W$40,Editor!FJ18+1,Editor!FJ$36)","v":{"$error":"#VALUE!"}},{"$f":"INDEX(Editor!$C$5:$W$40,Editor!FK18+1,Editor!FK$36)","v":{"$error":"#VALUE!"}},{"$f":"INDEX(Editor!$C$5:$W$40,Editor!FL18+1,Editor!FL$36)","v":{"$error":"#VALUE!"}},{"$f":"INDEX(Editor!$C$5:$W$40,Editor!FM18+1,Editor!FM$36)","v":{"$error":"#VALUE!"}},{"$f":"INDEX(Editor!$C$5:$W$40,Editor!FN18+1,Editor!FN$36)","v":{"$error":"#VALUE!"}},{"$f":"INDEX(Editor!$C$5:$W$40,Editor!FO18+1,Editor!FO$36)","v":{"$error":"#VALUE!"}}]
[14,null,null,null,null,null,null,null,{"$f":"INDEX(Editor!$C$5:$W$40,Editor!DA19+1,Editor!DA$36)","v":{"$error":"#VALUE!"}},{"$f":"INDEX(Editor!$C$5:$W$40,Editor!DB19+1,Editor!DB$36)","v":{"$error":"#VALUE!"}},{"$f":"INDEX(Editor!$C$5:$W$40,Editor!DC19+1,Editor!DC$36)","v":{"$error":"#VALUE!"}},{"$f":"INDEX(Editor!$C$5:$W$40,Editor!DD19+1,Editor!DD$36)","v":{"$error":"#VALUE!"}},{"$f":"INDEX(Editor!$C$5:$W$40,Editor!DE19+1,Editor!DE$36)","v":{"$error":"#VALUE!"}},{"$f":"INDEX(Editor!$C$5:$W$40,Editor!DF19+1,Editor!DF$36)","v":{"$error":"#VALUE!"}},{"$f":"INDEX(Editor!$C$5:$W$40,Editor!DG19+1,Editor!DG$36)","v":{"$error":"#VALUE!"}},{"$f":"INDEX(Editor!$C$5:$W$40,Editor!DH19+1,Editor!DH$36)","v":{"$error":"#VALUE!"}},{"$f":"INDEX(Editor!$C$5:$W$40,Editor!DI19+1,Editor!DI$36)","v":{"$error":"#VALUE!"}},{"$f":"INDEX(Editor!$C$5:$W$40,Editor!DJ19+1,Editor!DJ$36)","v":{"$error":"#VALUE!"}},{"$f":"INDEX(Editor!$C$5:$W$40,Editor!DK19+1,Editor!DK$36)","v":{"$error":"#VALUE!"}},{"$f":"INDEX(Editor!$C$5:$W$40,Editor!DL19+1,Editor!DL$36)","v":{"$error":"#VALUE!"}},{"$f":"INDEX(Editor!$C$5:$W$40,Editor!DM19+1,Editor!DM$36)","v":{"$error":"#VALUE!"}},{"$f":"INDEX(Editor!$C$5:$W$40,Editor!DN19+1,Editor!DN$36)","v":{"$error":"#VALUE!"}},{"$f":"INDEX(Editor!$C$5:$W$40,Editor!DO19+1,Editor!DO$36)","v":{"$error":"#VALUE!"}},{"$f":"INDEX(Editor!$C$5:$W$40,Editor!DP19+1,Editor!DP$36)","v":{"$error":"#VALUE!"}},{"$f":"INDEX(Editor!$C$5:$W$40,Editor!DQ19+1,Editor!DQ$36)","v":{"$error":"#VALUE!"}},{"$f":"INDEX(Editor!$C$5:$W$40,Editor!DR19+1,Editor!DR$36)","v":{"$error":"#VALUE!"}},{"$f":"INDEX(Editor!$C$5:$W$40,Editor!DS19+1,Editor!DS$36)","v":{"$error":"#VALUE!"}},{"$f":"INDEX(Editor!$C$5:$W$40,Editor!DT19+1,Editor!DT$36)","v":{"$error":"#VALUE!"}},{"$f":"INDEX(Editor!$C$5:$W$40,Editor!DU19+1,Editor!DU$36)","v":{"$error":"#VALUE!"}},{"$f":"INDEX(Editor!$C$5:$W$40,Editor!DV19+1,Editor!DV$36)","v":{"$error":"#VALUE!"}},{"$f":"INDEX(Editor!$C$5:$W$40,Editor!DW19+1,Editor!DW$36)","v":{"$error":"#VALUE!"}},{"$f":"INDEX(Editor!$C$5:$W$40,Editor!DX19+1,Editor!DX$36)","v":{"$error":"#VALUE!"}},{"$f":"INDEX(Editor!$C$5:$W$40,Editor!DY19+1,Editor!DY$36)","v":{"$error":"#VALUE!"}},{"$f":"INDEX(Editor!$C$5:$W$40,Editor!DZ19+1,Editor!DZ$36)","v":{"$error":"#VALUE!"}},{"$f":"INDEX(Editor!$C$5:$W$40,Editor!EA19+1,Editor!EA$36)","v":{"$error":"#VALUE!"}},{"$f":"INDEX(Editor!$C$5:$W$40,Editor!EB19+1,Editor!EB$36)","v":{"$error":"#VALUE!"}},{"$f":"INDEX(Editor!$C$5:$W$40,Editor!EC19+1,Editor!EC$36)","v":{"$error":"#VALUE!"}},{"$f":"INDEX(Editor!$C$5:$W$40,Editor!ED19+1,Editor!ED$36)","v":{"$error":"#VALUE!"}},{"$f":"INDEX(Editor!$C$5:$W$40,Editor!EE19+1,Editor!EE$36)","v":{"$error":"#VALUE!"}},{"$f":"INDEX(Editor!$C$5:$W$40,Editor!EF19+1,Editor!EF$36)","v":{"$error":"#VALUE!"}},{"$f":"INDEX(Editor!$C$5:$W$40,Editor!EG19+1,Editor!EG$36)","v":{"$error":"#VALUE!"}},{"$f":"INDEX(Editor!$C$5:$W$40,Editor!EH19+1,Editor!EH$36)","v":{"$error":"#VALUE!"}},{"$f":"INDEX(Editor!$C$5:$W$40,Editor!EI19+1,Editor!EI$36)","v":{"$error":"#VALUE!"}},{"$f":"INDEX(Editor!$C$5:$W$40,Editor!EJ19+1,Editor!EJ$36)","v":{"$error":"#VALUE!"}},{"$f":"INDEX(Editor!$C$5:$W$40,Editor!EK19+1,Editor!EK$36)","v":{"$error":"#VALUE!"}},{"$f":"INDEX(Editor!$C$5:$W$40,Editor!EL19+1,Editor!EL$36)","v":{"$error":"#VALUE!"}},{"$f":"INDEX(Editor!$C$5:$W$40,Editor!EM19+1,Editor!EM$36)","v":{"$error":"#VALUE!"}},{"$f":"INDEX(Editor!$C$5:$W$40,Editor!EN19+1,Editor!EN$36)","v":{"$error":"#VALUE!"}},{"$f":"INDEX(Editor!$C$5:$W$40,Editor!EO19+1,Editor!EO$36)","v":{"$error":"#VALUE!"}},{"$f":"INDEX(Editor!$C$5:$W$40,Editor!EP19+1,Editor!EP$36)","v":{"$error":"#VALUE!"}},{"$f":"INDEX(Editor!$C$5:$W$40,Editor!EQ19+1,Editor!EQ$36)","v":{"$error":"#VALUE!"}},{"$f":"INDEX(Editor!$C$5:$W$40,Editor!ER19+1,Editor!ER$36)","v":{"$error":"#VALUE!"}},{"$f":"INDEX(Editor!$C$5:$W$40,Editor!ES19+1,Editor!ES$36)","v":{"$error":"#VALUE!"}},{"$f":"INDEX(Editor!$C$5:$W$40,Editor!ET19+1,Editor!ET$36)","v":{"$error":"#VALUE!"}},{"$f":"INDEX(Editor!$C$5:$W$40,Editor!EU19+1,Editor!EU$36)","v":{"$error":"#VALUE!"}},{"$f":"INDEX(Editor!$C$5:$W$40,Editor!EV19+1,Editor!EV$36)","v":{"$error":"#VALUE!"}},{"$f":"INDEX(Editor!$C$5:$W$40,Editor!EW19+1,Editor!EW$36)","v":{"$error":"#VALUE!"}},{"$f":"INDEX(Editor!$C$5:$W$40,Editor!EX19+1,Editor!EX$36)","v":{"$error":"#VALUE!"}},{"$f":"INDEX(Editor!$C$5:$W$40,Editor!EY19+1,Editor!EY$36)","v":{"$error":"#VALUE!"}},{"$f":"INDEX(Editor!$C$5:$W$40,Editor!EZ19+1,Editor!EZ$36)","v":{"$error":"#VALUE!"}},{"$f":"INDEX(Editor!$C$5:$W$40,Editor!FA19+1,Editor!FA$36)","v":{"$error":"#VALUE!"}},{"$f":"INDEX(Editor!$C$5:$W$40,Editor!FB19+1,Editor!FB$36)","v":{"$error":"#VALUE!"}},{"$f":"INDEX(Editor!$C$5:$W$40,Editor!FC19+1,Editor!FC$36)","v":{"$error":"#VALUE!"}},{"$f":"INDEX(Editor!$C$5:$W$40,Editor!FD19+1,Editor!FD$36)","v":{"$error":"#VALUE!"}},{"$f":"INDEX(Editor!$C$5:$W$40,Editor!FE19+1,Editor!FE$36)","v":{"$error":"#VALUE!"}},{"$f":"INDEX(Editor!$C$5:$W$40,Editor!FF19+1,Editor!FF$36)","v":{"$error":"#VALUE!"}},{"$f":"INDEX(Editor!$C$5:$W$40,Editor!FG19+1,Editor!FG$36)","v":{"$error":"#VALUE!"}},{"$f":"INDEX(Editor!$C$5:$W$40,Editor!FH19+1,Editor!FH$36)","v":{"$error":"#VALUE!"}},{"$f":"INDEX(Editor!$C$5:$W$40,Editor!FI19+1,Editor!FI$36)","v":{"$error":"#VALUE!"}},{"$f":"INDEX(Editor!$C$5:$W$40,Editor!FJ19+1,Editor!FJ$36)","v":{"$error":"#VALUE!"}},{"$f":"INDEX(Editor!$C$5:$W$40,Editor!FK19+1,Editor!FK$36)","v":{"$error":"#VALUE!"}},{"$f":"INDEX(Editor!$C$5:$W$40,Editor!FL19+1,Editor!FL$36)","v":{"$error":"#VALUE!"}},{"$f":"INDEX(Editor!$C$5:$W$40,Editor!FM19+1,Editor!FM$36)","v":{"$error":"#VALUE!"}},{"$f":"INDEX(Editor!$C$5:$W$40,Editor!FN19+1,Editor!FN$36)","v":{"$error":"#VALUE!"}},{"$f":"INDEX(Editor!$C$5:$W$40,Editor!FO19+1,Editor!FO$36)","v":{"$error":"#VALUE!"}}]
[15,null,null,null,null,null,null,null,{"$f":"INDEX(Editor!$C$5:$W$40,Editor!DA20+1,Editor!DA$36)","v":{"$error":"#VALUE!"}},{"$f":"INDEX(Editor!$C$5:$W$40,Editor!DB20+1,Editor!DB$36)","v":{"$error":"#VALUE!"}},{"$f":"INDEX(Editor!$C$5:$W$40,Editor!DC20+1,Editor!DC$36)","v":{"$error":"#VALUE!"}},{"$f":"INDEX(Editor!$C$5:$W$40,Editor!DD20+1,Editor!DD$36)","v":{"$error":"#VALUE!"}},{"$f":"INDEX(Editor!$C$5:$W$40,Editor!DE20+1,Editor!DE$36)","v":{"$error":"#VALUE!"}},{"$f":"INDEX(Editor!$C$5:$W$40,Editor!DF20+1,Editor!DF$36)","v":{"$error":"#VALUE!"}},{"$f":"INDEX(Editor!$C$5:$W$40,Editor!DG20+1,Editor!DG$36)","v":{"$error":"#VALUE!"}},{"$f":"INDEX(Editor!$C$5:$W$40,Editor!DH20+1,Editor!DH$36)","v":{"$error":"#VALUE!"}},{"$f":"INDEX(Editor!$C$5:$W$40,Editor!DI20+1,Editor!DI$36)","v":{"$error":"#VALUE!"}},{"$f":"INDEX(Editor!$C$5:$W$40,Editor!DJ20+1,Editor!DJ$36)","v":{"$error":"#VALUE!"}},{"$f":"INDEX(Editor!$C$5:$W$40,Editor!DK20+1,Editor!DK$36)","v":{"$error":"#VALUE!"}},{"$f":"INDEX(Editor!$C$5:$W$40,Editor!DL20+1,Editor!DL$36)","v":{"$error":"#VALUE!"}},{"$f":"INDEX(Editor!$C$5:$W$40,Editor!DM20+1,Editor!DM$36)","v":{"$error":"#VALUE!"}},{"$f":"INDEX(Editor!$C$5:$W$40,Editor!DN20+1,Editor!DN$36)","v":{"$error":"#VALUE!"}},{"$f":"INDEX(Editor!$C$5:$W$40,Editor!DO20+1,Editor!DO$36)","v":{"$error":"#VALUE!"}},{"$f":"INDEX(Editor!$C$5:$W$40,Editor!DP20+1,Editor!DP$36)","v":{"$error":"#VALUE!"}},{"$f":"INDEX(Editor!$C$5:$W$40,Editor!DQ20+1,Editor!DQ$36)","v":{"$error":"#VALUE!"}},{"$f":"INDEX(Editor!$C$5:$W$40,Editor!DR20+1,Editor!DR$36)","v":{"$error":"#VALUE!"}},{"$f":"INDEX(Editor!$C$5:$W$40,Editor!DS20+1,Editor!DS$36)","v":{"$error":"#VALUE!"}},{"$f":"INDEX(Editor!$C$5:$W$40,Editor!DT20+1,Editor!DT$36)","v":{"$error":"#VALUE!"}},{"$f":"INDEX(Editor!$C$5:$W$40,Editor!DU20+1,Editor!DU$36)","v":{"$error":"#VALUE!"}},{"$f":"INDEX(Editor!$C$5:$W$40,Editor!DV20+1,Editor!DV$36)","v":{"$error":"#VALUE!"}},{"$f":"INDEX(Editor!$C$5:$W$40,Editor!DW20+1,Editor!DW$36)","v":{"$error":"#VALUE!"}},{"$f":"INDEX(Editor!$C$5:$W$40,Editor!DX20+1,Editor!DX$36)","v":{"$error":"#VALUE!"}},{"$f":"INDEX(Editor!$C$5:$W$40,Editor!DY20+1,Editor!DY$36)","v":{"$error":"#VALUE!"}},{"$f":"INDEX(Editor!$C$5:$W$40,Editor!DZ20+1,Editor!DZ$36)","v":{"$error":"#VALUE!"}},{"$f":"INDEX(Editor!$C$5:$W$40,Editor!EA20+1,Editor!EA$36)","v":{"$error":"#VALUE!"}},{"$f":"INDEX(Editor!$C$5:$W$40,Editor!EB20+1,Editor!EB$36)","v":{"$error":"#VALUE!"}},{"$f":"INDEX(Editor!$C$5:$W$40,Editor!EC20+1,Editor!EC$36)","v":{"$error":"#VALUE!"}},{"$f":"INDEX(Editor!$C$5:$W$40,Editor!ED20+1,Editor!ED$36)","v":{"$error":"#VALUE!"}},{"$f":"INDEX(Editor!$C$5:$W$40,Editor!EE20+1,Editor!EE$36)","v":{"$error":"#VALUE!"}},{"$f":"INDEX(Editor!$C$5:$W$40,Editor!EF20+1,Editor!EF$36)","v":{"$error":"#VALUE!"}},{"$f":"INDEX(Editor!$C$5:$W$40,Editor!EG20+1,Editor!EG$36)","v":{"$error":"#VALUE!"}},{"$f":"INDEX(Editor!$C$5:$W$40,Editor!EH20+1,Editor!EH$36)","v":{"$error":"#VALUE!"}},{"$f":"INDEX(Editor!$C$5:$W$40,Editor!EI20+1,Editor!EI$36)","v":{"$error":"#VALUE!"}},{"$f":"INDEX(Editor!$C$5:$W$40,Editor!EJ20+1,Editor!EJ$36)","v":{"$error":"#VALUE!"}},{"$f":"INDEX(Editor!$C$5:$W$40,Editor!EK20+1,Editor!EK$36)","v":{"$error":"#VALUE!"}},{"$f":"INDEX(Editor!$C$5:$W$40,Editor!EL20+1,Editor!EL$36)","v":{"$error":"#VALUE!"}},{"$f":"INDEX(Editor!$C$5:$W$40,Editor!EM20+1,Editor!EM$36)","v":{"$error":"#VALUE!"}},{"$f":"INDEX(Editor!$C$5:$W$40,Editor!EN20+1,Editor!EN$36)","v":{"$error":"#VALUE!"}},{"$f":"INDEX(Editor!$C$5:$W$40,Editor!EO20+1,Editor!EO$36)","v":{"$error":"#VALUE!"}},{"$f":"INDEX(Editor!$C$5:$W$40,Editor!EP20+1,Editor!EP$36)","v":{"$error":"#VALUE!"}},{"$f":"INDEX(Editor!$C$5:$W$40,Editor!EQ20+1,Editor!EQ$36)","v":{"$error":"#VALUE!"}},{"$f":"INDEX(Editor!$C$5:$W$40,Editor!ER20+1,Editor!ER$36)","v":{"$error":"#VALUE!"}},{"$f":"INDEX(Editor!$C$5:$W$40,Editor!ES20+1,Editor!ES$36)","v":{"$error":"#VALUE!"}},{"$f":"INDEX(Editor!$C$5:$W$40,Editor!ET20+1,Editor!ET$36)","v":{"$error":"#VALUE!"}},{"$f":"INDEX(Editor!$C$5:$W$40,Editor!EU20+1,Editor!EU$36)","v":{"$error":"#VALUE!"}},{"$f":"INDEX(Editor!$C$5:$W$40,Editor!EV20+1,Editor!EV$36)","v":{"$error":"#VALUE!"}},{"$f":"INDEX(Editor!$C$5:$W$40,Editor!EW20+1,Editor!EW$36)","v":{"$error":"#VALUE!"}},{"$f":"INDEX(Editor!$C$5:$W$40,Editor!EX20+1,Editor!EX$36)","v":{"$error":"#VALUE!"}},{"$f":"INDEX(Editor!$C$5:$W$40,Editor!EY20+1,Editor!EY$36)","v":{"$error":"#VALUE!"}},{"$f":"INDEX(Editor!$C$5:$W$40,Editor!EZ20+1,Editor!EZ$36)","v":{"$error":"#VALUE!"}},{"$f":"INDEX(Editor!$C$5:$W$40,Editor!FA20+1,Editor!FA$36)","v":{"$error":"#VALUE!"}},{"$f":"INDEX(Editor!$C$5:$W$40,Editor!FB20+1,Editor!FB$36)","v":{"$error":"#VALUE!"}},{"$f":"INDEX(Editor!$C$5:$W$40,Editor!FC20+1,Editor!FC$36)","v":{"$error":"#VALUE!"}},{"$f":"INDEX(Editor!$C$5:$W$40,Editor!FD20+1,Editor!FD$36)","v":{"$error":"#VALUE!"}},{"$f":"INDEX(Editor!$C$5:$W$40,Editor!FE20+1,Editor!FE$36)","v":{"$error":"#VALUE!"}},{"$f":"INDEX(Editor!$C$5:$W$40,Editor!FF20+1,Editor!FF$36)","v":{"$error":"#VALUE!"}},{"$f":"INDEX(Editor!$C$5:$W$40,Editor!FG20+1,Editor!FG$36)","v":{"$error":"#VALUE!"}},{"$f":"INDEX(Editor!$C$5:$W$40,Editor!FH20+1,Editor!FH$36)","v":{"$error":"#VALUE!"}},{"$f":"INDEX(Editor!$C$5:$W$40,Editor!FI20+1,Editor!FI$36)","v":{"$error":"#VALUE!"}},{"$f":"INDEX(Editor!$C$5:$W$40,Editor!FJ20+1,Editor!FJ$36)","v":{"$error":"#VALUE!"}},{"$f":"INDEX(Editor!$C$5:$W$40,Editor!FK20+1,Editor!FK$36)","v":{"$error":"#VALUE!"}},{"$f":"INDEX(Editor!$C$5:$W$40,Editor!FL20+1,Editor!FL$36)","v":{"$error":"#VALUE!"}},{"$f":"INDEX(Editor!$C$5:$W$40,Editor!FM20+1,Editor!FM$36)","v":{"$error":"#VALUE!"}},{"$f":"INDEX(Editor!$C$5:$W$40,Editor!FN20+1,Editor!FN$36)","v":{"$error":"#VALUE!"}},{"$f":"INDEX(Editor!$C$5:$W$40,Editor!FO20+1,Editor!FO$36)","v":{"$error":"#VALUE!"}}]
[16,null,null,null,null,null,null,null,{"$f":"INDEX(Editor!$C$5:$W$40,Editor!DA21+1,Editor!DA$36)","v":{"$error":"#VALUE!"}},{"$f":"INDEX(Editor!$C$5:$W$40,Editor!DB21+1,Editor!DB$36)","v":{"$error":"#VALUE!"}},{"$f":"INDEX(Editor!$C$5:$W$40,Editor!DC21+1,Editor!DC$36)","v":{"$error":"#VALUE!"}},{"$f":"INDEX(Editor!$C$5:$W$40,Editor!DD21+1,Editor!DD$36)","v":{"$error":"#VALUE!"}},{"$f":"INDEX(Editor!$C$5:$W$40,Editor!DE21+1,Editor!DE$36)","v":{"$error":"#VALUE!"}},{"$f":"INDEX(Editor!$C$5:$W$40,Editor!DF21+1,Editor!DF$36)","v":{"$error":"#VALUE!"}},{"$f":"INDEX(Editor!$C$5:$W$40,Editor!DG21+1,Editor!DG$36)","v":{"$error":"#VALUE!"}},{"$f":"INDEX(Editor!$C$5:$W$40,Editor!DH21+1,Editor!DH$36)","v":{"$error":"#VALUE!"}},{"$f":"INDEX(Editor!$C$5:$W$40,Editor!DI21+1,Editor!DI$36)","v":{"$error":"#VALUE!"}},{"$f":"INDEX(Editor!$C$5:$W$40,Editor!DJ21+1,Editor!DJ$36)","v":{"$error":"#VALUE!"}},{"$f":"INDEX(Editor!$C$5:$W$40,Editor!DK21+1,Editor!DK$36)","v":{"$error":"#VALUE!"}},{"$f":"INDEX(Editor!$C$5:$W$40,Editor!DL21+1,Editor!DL$36)","v":{"$error":"#VALUE!"}},{"$f":"INDEX(Editor!$C$5:$W$40,Editor!DM21+1,Editor!DM$36)","v":{"$error":"#VALUE!"}},{"$f":"INDEX(Editor!$C$5:$W$40,Editor!DN21+1,Editor!DN$36)","v":{"$error":"#VALUE!"}},{"$f":"INDEX(Editor!$C$5:$W$40,Editor!DO21+1,Editor!DO$36)","v":{"$error":"#VALUE!"}},{"$f":"INDEX(Editor!$C$5:$W$40,Editor!DP21+1,Editor!DP$36)","v":{"$error":"#VALUE!"}},{"$f":"INDEX(Editor!$C$5:$W$40,Editor!DQ21+1,Editor!DQ$36)","v":{"$error":"#VALUE!"}},{"$f":"INDEX(Editor!$C$5:$W$40,Editor!DR21+1,Editor!DR$36)","v":{"$error":"#VALUE!"}},{"$f":"INDEX(Editor!$C$5:$W$40,Editor!DS21+1,Editor!DS$36)","v":{"$error":"#VALUE!"}},{"$f":"INDEX(Editor!$C$5:$W$40,Editor!DT21+1,Editor!DT$36)","v":{"$error":"#VALUE!"}},{"$f":"INDEX(Editor!$C$5:$W$40,Editor!DU21+1,Editor!DU$36)","v":{"$error":"#VALUE!"}},{"$f":"INDEX(Editor!$C$5:$W$40,Editor!DV21+1,Editor!DV$36)","v":{"$error":"#VALUE!"}},{"$f":"INDEX(Editor!$C$5:$W$40,Editor!DW21+1,Editor!DW$36)","v":{"$error":"#VALUE!"}},{"$f":"INDEX(Editor!$C$5:$W$40,Editor!DX21+1,Editor!DX$36)","v":{"$error":"#VALUE!"}},{"$f":"INDEX(Editor!$C$5:$W$40,Editor!DY21+1,Editor!DY$36)","v":{"$error":"#VALUE!"}},{"$f":"INDEX(Editor!$C$5:$W$40,Editor!DZ21+1,Editor!DZ$36)","v":{"$error":"#VALUE!"}},{"$f":"INDEX(Editor!$C$5:$W$40,Editor!EA21+1,Editor!EA$36)","v":{"$error":"#VALUE!"}},{"$f":"INDEX(Editor!$C$5:$W$40,Editor!EB21+1,Editor!EB$36)","v":{"$error":"#VALUE!"}},{"$f":"INDEX(Editor!$C$5:$W$40,Editor!EC21+1,Editor!EC$36)","v":{"$error":"#VALUE!"}},{"$f":"INDEX(Editor!$C$5:$W$40,Editor!ED21+1,Editor!ED$36)","v":{"$error":"#VALUE!"}},{"$f":"INDEX(Editor!$C$5:$W$40,Editor!EE21+1,Editor!EE$36)","v":{"$error":"#VALUE!"}},{"$f":"INDEX(Editor!$C$5:$W$40,Editor!EF21+1,Editor!EF$36)","v":{"$error":"#VALUE!"}},{"$f":"INDEX(Editor!$C$5:$W$40,Editor!EG21+1,Editor!EG$36)","v":{"$error":"#VALUE!"}},{"$f":"INDEX(Editor!$C$5:$W$40,Editor!EH21+1,Editor!EH$36)","v":{"$error":"#VALUE!"}},{"$f":"INDEX(Editor!$C$5:$W$40,Editor!EI21+1,Editor!EI$36)","v":{"$error":"#VALUE!"}},{"$f":"INDEX(Editor!$C$5:$W$40,Editor!EJ21+1,Editor!EJ$36)","v":{"$error":"#VALUE!"}},{"$f":"INDEX(Editor!$C$5:$W$40,Editor!EK21+1,Editor!EK$36)","v":{"$error":"#VALUE!"}},{"$f":"INDEX(Editor!$C$5:$W$40,Editor!EL21+1,Editor!EL$36)","v":{"$error":"#VALUE!"}},{"$f":"INDEX(Editor!$C$5:$W$40,Editor!EM21+1,Editor!EM$36)","v":{"$error":"#VALUE!"}},{"$f":"INDEX(Editor!$C$5:$W$40,Editor!EN21+1,Editor!EN$36)","v":{"$error":"#VALUE!"}},{"$f":"INDEX(Editor!$C$5:$W$40,Editor!EO21+1,Editor!EO$36)","v":{"$error":"#VALUE!"}},{"$f":"INDEX(Editor!$C$5:$W$40,Editor!EP21+1,Editor!EP$36)","v":{"$error":"#VALUE!"}},{"$f":"INDEX(Editor!$C$5:$W$40,Editor!EQ21+1,Editor!EQ$36)","v":{"$error":"#VALUE!"}},{"$f":"INDEX(Editor!$C$5:$W$40,Editor!ER21+1,Editor!ER$36)","v":{"$error":"#VALUE!"}},{"$f":"INDEX(Editor!$C$5:$W$40,Editor!ES21+1,Editor!ES$36)","v":{"$error":"#VALUE!"}},{"$f":"INDEX(Editor!$C$5:$W$40,Editor!ET21+1,Editor!ET$36)","v":{"$error":"#VALUE!"}},{"$f":"INDEX(Editor!$C$5:$W$40,Editor!EU21+1,Editor!EU$36)","v":{"$error":"#VALUE!"}},{"$f":"INDEX(Editor!$C$5:$W$40,Editor!EV21+1,Editor!EV$36)","v":{"$error":"#VALUE!"}},{"$f":"INDEX(Editor!$C$5:$W$40,Editor!EW21+1,Editor!EW$36)","v":{"$error":"#VALUE!"}},{"$f":"INDEX(Editor!$C$5:$W$40,Editor!EX21+1,Editor!EX$36)","v":{"$error":"#VALUE!"}},{"$f":"INDEX(Editor!$C$5:$W$40,Editor!EY21+1,Editor!EY$36)","v":{"$error":"#VALUE!"}},{"$f":"INDEX(Editor!$C$5:$W$40,Editor!EZ21+1,Editor!EZ$36)","v":{"$error":"#VALUE!"}},{"$f":"INDEX(Editor!$C$5:$W$40,Editor!FA21+1,Editor!FA$36)","v":{"$error":"#VALUE!"}},{"$f":"INDEX(Editor!$C$5:$W$40,Editor!FB21+1,Editor!FB$36)","v":{"$error":"#VALUE!"}},{"$f":"INDEX(Editor!$C$5:$W$40,Editor!FC21+1,Editor!FC$36)","v":{"$error":"#VALUE!"}},{"$f":"INDEX(Editor!$C$5:$W$40,Editor!FD21+1,Editor!FD$36)","v":{"$error":"#VALUE!"}},{"$f":"INDEX(Editor!$C$5:$W$40,Editor!FE21+1,Editor!FE$36)","v":{"$error":"#VALUE!"}},{"$f":"INDEX(Editor!$C$5:$W$40,Editor!FF21+1,Editor!FF$36)","v":{"$error":"#VALUE!"}},{"$f":"INDEX(Editor!$C$5:$W$40,Editor!FG21+1,Editor!FG$36)","v":{"$error":"#VALUE!"}},{"$f":"INDEX(Editor!$C$5:$W$40,Editor!FH21+1,Editor!FH$36)","v":{"$error":"#VALUE!"}},{"$f":"INDEX(Editor!$C$5:$W$40,Editor!FI21+1,Editor!FI$36)","v":{"$error":"#VALUE!"}},{"$f":"INDEX(Editor!$C$5:$W$40,Editor!FJ21+1,Editor!FJ$36)","v":{"$error":"#VALUE!"}},{"$f":"INDEX(Editor!$C$5:$W$40,Editor!FK21+1,Editor!FK$36)","v":{"$error":"#VALUE!"}},{"$f":"INDEX(Editor!$C$5:$W$40,Editor!FL21+1,Editor!FL$36)","v":{"$error":"#VALUE!"}},{"$f":"INDEX(Editor!$C$5:$W$40,Editor!FM21+1,Editor!FM$36)","v":{"$error":"#VALUE!"}},{"$f":"INDEX(Editor!$C$5:$W$40,Editor!FN21+1,Editor!FN$36)","v":{"$error":"#VALUE!"}},{"$f":"INDEX(Editor!$C$5:$W$40,Editor!FO21+1,Editor!FO$36)","v":{"$error":"#VALUE!"}}]
[17,null,null,null,null,null,null,null,{"$f":"INDEX(Editor!$C$5:$W$40,Editor!DA22+1,Editor!DA$36)","v":{"$error":"#VALUE!"}},{"$f":"INDEX(Editor!$C$5:$W$40,Editor!DB22+1,Editor!DB$36)","v":{"$error":"#VALUE!"}},{"$f":"INDEX(Editor!$C$5:$W$40,Editor!DC22+1,Editor!DC$36)","v":{"$error":"#VALUE!"}},{"$f":"INDEX(Editor!$C$5:$W$40,Editor!DD22+1,Editor!DD$36)","v":{"$error":"#VALUE!"}},{"$f":"INDEX(Editor!$C$5:$W$40,Editor!DE22+1,Editor!DE$36)","v":{"$error":"#VALUE!"}},{"$f":"INDEX(Editor!$C$5:$W$40,Editor!DF22+1,Editor!DF$36)","v":{"$error":"#VALUE!"}},{"$f":"INDEX(Editor!$C$5:$W$40,Editor!DG22+1,Editor!DG$36)","v":{"$error":"#VALUE!"}},{"$f":"INDEX(Editor!$C$5:$W$40,Editor!DH22+1,Editor!DH$36)","v":{"$error":"#VALUE!"}},{"$f":"INDEX(Editor!$C$5:$W$40,Editor!DI22+1,Editor!DI$36)","v":{"$error":"#VALUE!"}},{"$f":"INDEX(Editor!$C$5:$W$40,Editor!DJ22+1,Editor!DJ$36)","v":{"$error":"#VALUE!"}},{"$f":"INDEX(Editor!$C$5:$W$40,Editor!DK22+1,Editor!DK$36)","v":{"$error":"#VALUE!"}},{"$f":"INDEX(Editor!$C$5:$W$40,Editor!DL22+1,Editor!DL$36)","v":{"$error":"#VALUE!"}},{"$f":"INDEX(Editor!$C$5:$W$40,Editor!DM22+1,Editor!DM$36)","v":{"$error":"#VALUE!"}},{"$f":"INDEX(Editor!$C$5:$W$40,Editor!DN22+1,Editor!DN$36)","v":{"$error":"#VALUE!"}},{"$f":"INDEX(Editor!$C$5:$W$40,Editor!DO22+1,Editor!DO$36)","v":{"$error":"#VALUE!"}},{"$f":"INDEX(Editor!$C$5:$W$40,Editor!DP22+1,Editor!DP$36)","v":{"$error":"#VALUE!"}},{"$f":"INDEX(Editor!$C$5:$W$40,Editor!DQ22+1,Editor!DQ$36)","v":{"$error":"#VALUE!"}},{"$f":"INDEX(Editor!$C$5:$W$40,Editor!DR22+1,Editor!DR$36)","v":{"$error":"#VALUE!"}},{"$f":"INDEX(Editor!$C$5:$W$40,Editor!DS22+1,Editor!DS$36)","v":{"$error":"#VALUE!"}},{"$f":"INDEX(Editor!$C$5:$W$40,Editor!DT22+1,Editor!DT$36)","v":{"$error":"#VALUE!"}},{"$f":"INDEX(Editor!$C$5:$W$40,Editor!DU22+1,Editor!DU$36)","v":{"$error":"#VALUE!"}},{"$f":"INDEX(Editor!$C$5:$W$40,Editor!DV22+1,Editor!DV$36)","v":{"$error":"#VALUE!"}},{"$f":"INDEX(Editor!$C$5:$W$40,Editor!DW22+1,Editor!DW$36)","v":{"$error":"#VALUE!"}},{"$f":"INDEX(Editor!$C$5:$W$40,Editor!DX22+1,Editor!DX$36)","v":{"$error":"#VALUE!"}},{"$f":"INDEX(Editor!$C$5:$W$40,Editor!DY22+1,Editor!DY$36)","v":{"$error":"#VALUE!"}},{"$f":"INDEX(Editor!$C$5:$W$40,Editor!DZ22+1,Editor!DZ$36)","v":{"$error":"#VALUE!"}},{"$f":"INDEX(Editor!$C$5:$W$40,Editor!EA22+1,Editor!EA$36)","v":{"$error":"#VALUE!"}},{"$f":"INDEX(Editor!$C$5:$W$40,Editor!EB22+1,Editor!EB$36)","v":{"$error":"#VALUE!"}},{"$f":"INDEX(Editor!$C$5:$W$40,Editor!EC22+1,Editor!EC$36)","v":{"$error":"#VALUE!"}},{"$f":"INDEX(Editor!$C$5:$W$40,Editor!ED22+1,Editor!ED$36)","v":{"$error":"#VALUE!"}},{"$f":"INDEX(Editor!$C$5:$W$40,Editor!EE22+1,Editor!EE$36)","v":{"$error":"#VALUE!"}},{"$f":"INDEX(Editor!$C$5:$W$40,Editor!EF22+1,Editor!EF$36)","v":{"$error":"#VALUE!"}},{"$f":"INDEX(Editor!$C$5:$W$40,Editor!EG22+1,Editor!EG$36)","v":{"$error":"#VALUE!"}},{"$f":"INDEX(Editor!$C$5:$W$40,Editor!EH22+1,Editor!EH$36)","v":{"$error":"#VALUE!"}},{"$f":"INDEX(Editor!$C$5:$W$40,Editor!EI22+1,Editor!EI$36)","v":{"$error":"#VALUE!"}},{"$f":"INDEX(Editor!$C$5:$W$40,Editor!EJ22+1,Editor!EJ$36)","v":{"$error":"#VALUE!"}},{"$f":"INDEX(Editor!$C$5:$W$40,Editor!EK22+1,Editor!EK$36)","v":{"$error":"#VALUE!"}},{"$f":"INDEX(Editor!$C$5:$W$40,Editor!EL22+1,Editor!EL$36)","v":{"$error":"#VALUE!"}},{"$f":"INDEX(Editor!$C$5:$W$40,Editor!EM22+1,Editor!EM$36)","v":{"$error":"#VALUE!"}},{"$f":"INDEX(Editor!$C$5:$W$40,Editor!EN22+1,Editor!EN$36)","v":{"$error":"#VALUE!"}},{"$f":"INDEX(Editor!$C$5:$W$40,Editor!EO22+1,Editor!EO$36)","v":{"$error":"#VALUE!"}},{"$f":"INDEX(Editor!$C$5:$W$40,Editor!EP22+1,Editor!EP$36)","v":{"$error":"#VALUE!"}},{"$f":"INDEX(Editor!$C$5:$W$40,Editor!EQ22+1,Editor!EQ$36)","v":{"$error":"#VALUE!"}},{"$f":"INDEX(Editor!$C$5:$W$40,Editor!ER22+1,Editor!ER$36)","v":{"$error":"#VALUE!"}},{"$f":"INDEX(Editor!$C$5:$W$40,Editor!ES22+1,Editor!ES$36)","v":{"$error":"#VALUE!"}},{"$f":"INDEX(Editor!$C$5:$W$40,Editor!ET22+1,Editor!ET$36)","v":{"$error":"#VALUE!"}},{"$f":"INDEX(Editor!$C$5:$W$40,Editor!EU22+1,Editor!EU$36)","v":{"$error":"#VALUE!"}},{"$f":"INDEX(Editor!$C$5:$W$40,Editor!EV22+1,Editor!EV$36)","v":{"$error":"#VALUE!"}},{"$f":"INDEX(Editor!$C$5:$W$40,Editor!EW22+1,Editor!EW$36)","v":{"$error":"#VALUE!"}},{"$f":"INDEX(Editor!$C$5:$W$40,Editor!EX22+1,Editor!EX$36)","v":{"$error":"#VALUE!"}},{"$f":"INDEX(Editor!$C$5:$W$40,Editor!EY22+1,Editor!EY$36)","v":{"$error":"#VALUE!"}},{"$f":"INDEX(Editor!$C$5:$W$40,Editor!EZ22+1,Editor!EZ$36)","v":{"$error":"#VALUE!"}},{"$f":"INDEX(Editor!$C$5:$W$40,Editor!FA22+1,Editor!FA$36)","v":{"$error":"#VALUE!"}},{"$f":"INDEX(Editor!$C$5:$W$40,Editor!FB22+1,Editor!FB$36)","v":{"$error":"#VALUE!"}},{"$f":"INDEX(Editor!$C$5:$W$40,Editor!FC22+1,Editor!FC$36)","v":{"$error":"#VALUE!"}},{"$f":"INDEX(Editor!$C$5:$W$40,Editor!FD22+1,Editor!FD$36)","v":{"$error":"#VALUE!"}},{"$f":"INDEX(Editor!$C$5:$W$40,Editor!FE22+1,Editor!FE$36)","v":{"$error":"#VALUE!"}},{"$f":"INDEX(Editor!$C$5:$W$40,Editor!FF22+1,Editor!FF$36)","v":{"$error":"#VALUE!"}},{"$f":"INDEX(Editor!$C$5:$W$40,Editor!FG22+1,Editor!FG$36)","v":{"$error":"#VALUE!"}},{"$f":"INDEX(Editor!$C$5:$W$40,Editor!FH22+1,Editor!FH$36)","v":{"$error":"#VALUE!"}},{"$f":"INDEX(Editor!$C$5:$W$40,Editor!FI22+1,Editor!FI$36)","v":{"$error":"#VALUE!"}},{"$f":"INDEX(Editor!$C$5:$W$40,Editor!FJ22+1,Editor!FJ$36)","v":{"$error":"#VALUE!"}},{"$f":"INDEX(Editor!$C$5:$W$40,Editor!FK22+1,Editor!FK$36)","v":{"$error":"#VALUE!"}},{"$f":"INDEX(Editor!$C$5:$W$40,Editor!FL22+1,Editor!FL$36)","v":{"$error":"#VALUE!"}},{"$f":"INDEX(Editor!$C$5:$W$40,Editor!FM22+1,Editor!FM$36)","v":{"$error":"#VALUE!"}},{"$f":"INDEX(Editor!$C$5:$W$40,Editor!FN22+1,Editor!FN$36)","v":{"$error":"#VALUE!"}},{"$f":"INDEX(Editor!$C$5:$W$40,Editor!FO22+1,Editor!FO$36)","v":{"$error":"#VALUE!"}}]
[18,null,null,null,null,null,null,null,{"$f":"INDEX(Editor!$C$5:$W$40,Editor!DA23+1,Editor!DA$36)","v":{"$error":"#VALUE!"}},{"$f":"INDEX(Editor!$C$5:$W$40,Editor!DB23+1,Editor!DB$36)","v":{"$error":"#VALUE!"}},{"$f":"INDEX(Editor!$C$5:$W$40,Editor!DC23+1,Editor!DC$36)","v":{"$error":"#VALUE!"}},{"$f":"INDEX(Editor!$C$5:$W$40,Editor!DD23+1,Editor!DD$36)","v":{"$error":"#VALUE!"}},{"$f":"INDEX(Editor!$C$5:$W$40,Editor!DE23+1,Editor!DE$36)","v":{"$error":"#VALUE!"}},{"$f":"INDEX(Editor!$C$5:$W$40,Editor!DF23+1,Editor!DF$36)","v":{"$error":"#VALUE!"}},{"$f":"INDEX(Editor!$C$5:$W$40,Editor!DG23+1,Editor!DG$36)","v":{"$error":"#VALUE!"}},{"$f":"INDEX(Editor!$C$5:$W$40,Editor!DH23+1,Editor!DH$36)","v":{"$error":"#VALUE!"}},{"$f":"INDEX(Editor!$C$5:$W$40,Editor!DI23+1,Editor!DI$36)","v":{"$error":"#VALUE!"}},{"$f":"INDEX(Editor!$C$5:$W$40,Editor!DJ23+1,Editor!DJ$36)","v":{"$error":"#VALUE!"}},{"$f":"INDEX(Editor!$C$5:$W$40,Editor!DK23+1,Editor!DK$36)","v":{"$error":"#VALUE!"}},{"$f":"INDEX(Editor!$C$5:$W$40,Editor!DL23+1,Editor!DL$36)","v":{"$error":"#VALUE!"}},{"$f":"INDEX(Editor!$C$5:$W$40,Editor!DM23+1,Editor!DM$36)","v":{"$error":"#VALUE!"}},{"$f":"INDEX(Editor!$C$5:$W$40,Editor!DN23+1,Editor!DN$36)","v":{"$error":"#VALUE!"}},{"$f":"INDEX(Editor!$C$5:$W$40,Editor!DO23+1,Editor!DO$36)","v":{"$error":"#VALUE!"}},{"$f":"INDEX(Editor!$C$5:$W$40,Editor!DP23+1,Editor!DP$36)","v":{"$error":"#VALUE!"}},{"$f":"INDEX(Editor!$C$5:$W$40,Editor!DQ23+1,Editor!DQ$36)","v":{"$error":"#VALUE!"}},{"$f":"INDEX(Editor!$C$5:$W$40,Editor!DR23+1,Editor!DR$36)","v":{"$error":"#VALUE!"}},{"$f":"INDEX(Editor!$C$5:$W$40,Editor!DS23+1,Editor!DS$36)","v":{"$error":"#VALUE!"}},{"$f":"INDEX(Editor!$C$5:$W$40,Editor!DT23+1,Editor!DT$36)","v":{"$error":"#VALUE!"}},{"$f":"INDEX(Editor!$C$5:$W$40,Editor!DU23+1,Editor!DU$36)","v":{"$error":"#VALUE!"}},{"$f":"INDEX(Editor!$C$5:$W$40,Editor!DV23+1,Editor!DV$36)","v":{"$error":"#VALUE!"}},{"$f":"INDEX(Editor!$C$5:$W$40,Editor!DW23+1,Editor!DW$36)","v":{"$error":"#VALUE!"}},{"$f":"INDEX(Editor!$C$5:$W$40,Editor!DX23+1,Editor!DX$36)","v":{"$error":"#VALUE!"}},{"$f":"INDEX(Editor!$C$5:$W$40,Editor!DY23+1,Editor!DY$36)","v":{"$error":"#VALUE!"}},{"$f":"INDEX(Editor!$C$5:$W$40,Editor!DZ23+1,Editor!DZ$36)","v":{"$error":"#VALUE!"}},{"$f":"INDEX(Editor!$C$5:$W$40,Editor!EA23+1,Editor!EA$36)","v":{"$error":"#VALUE!"}},{"$f":"INDEX(Editor!$C$5:$W$40,Editor!EB23+1,Editor!EB$36)","v":{"$error":"#VALUE!"}},{"$f":"INDEX(Editor!$C$5:$W$40,Editor!EC23+1,Editor!EC$36)","v":{"$error":"#VALUE!"}},{"$f":"INDEX(Editor!$C$5:$W$40,Editor!ED23+1,Editor!ED$36)","v":{"$error":"#VALUE!"}},{"$f":"INDEX(Editor!$C$5:$W$40,Editor!EE23+1,Editor!EE$36)","v":{"$error":"#VALUE!"}},{"$f":"INDEX(Editor!$C$5:$W$40,Editor!EF23+1,Editor!EF$36)","v":{"$error":"#VALUE!"}},{"$f":"INDEX(Editor!$C$5:$W$40,Editor!EG23+1,Editor!EG$36)","v":{"$error":"#VALUE!"}},{"$f":"INDEX(Editor!$C$5:$W$40,Editor!EH23+1,Editor!EH$36)","v":{"$error":"#VALUE!"}},{"$f":"INDEX(Editor!$C$5:$W$40,Editor!EI23+1,Editor!EI$36)","v":{"$error":"#VALUE!"}},{"$f":"INDEX(Editor!$C$5:$W$40,Editor!EJ23+1,Editor!EJ$36)","v":{"$error":"#VALUE!"}},{"$f":"INDEX(Editor!$C$5:$W$40,Editor!EK23+1,Editor!EK$36)","v":{"$error":"#VALUE!"}},{"$f":"INDEX(Editor!$C$5:$W$40,Editor!EL23+1,Editor!EL$36)","v":{"$error":"#VALUE!"}},{"$f":"INDEX(Editor!$C$5:$W$40,Editor!EM23+1,Editor!EM$36)","v":{"$error":"#VALUE!"}},{"$f":"INDEX(Editor!$C$5:$W$40,Editor!EN23+1,Editor!EN$36)","v":{"$error":"#VALUE!"}},{"$f":"INDEX(Editor!$C$5:$W$40,Editor!EO23+1,Editor!EO$36)","v":{"$error":"#VALUE!"}},{"$f":"INDEX(Editor!$C$5:$W$40,Editor!EP23+1,Editor!EP$36)","v":{"$error":"#VALUE!"}},{"$f":"INDEX(Editor!$C$5:$W$40,Editor!EQ23+1,Editor!EQ$36)","v":{"$error":"#VALUE!"}},{"$f":"INDEX(Editor!$C$5:$W$40,Editor!ER23+1,Editor!ER$36)","v":{"$error":"#VALUE!"}},{"$f":"INDEX(Editor!$C$5:$W$40,Editor!ES23+1,Editor!ES$36)","v":{"$error":"#VALUE!"}},{"$f":"INDEX(Editor!$C$5:$W$40,Editor!ET23+1,Editor!ET$36)","v":{"$error":"#VALUE!"}},{"$f":"INDEX(Editor!$C$5:$W$40,Editor!EU23+1,Editor!EU$36)","v":{"$error":"#VALUE!"}},{"$f":"INDEX(Editor!$C$5:$W$40,Editor!EV23+1,Editor!EV$36)","v":{"$error":"#VALUE!"}},{"$f":"INDEX(Editor!$C$5:$W$40,Editor!EW23+1,Editor!EW$36)","v":{"$error":"#VALUE!"}},{"$f":"INDEX(Editor!$C$5:$W$40,Editor!EX23+1,Editor!EX$36)","v":{"$error":"#VALUE!"}},{"$f":"INDEX(Editor!$C$5:$W$40,Editor!EY23+1,Editor!EY$36)","v":{"$error":"#VALUE!"}},{"$f":"INDEX(Editor!$C$5:$W$40,Editor!EZ23+1,Editor!EZ$36)","v":{"$error":"#VALUE!"}},{"$f":"INDEX(Editor!$C$5:$W$40,Editor!FA23+1,Editor!FA$36)","v":{"$error":"#VALUE!"}},{"$f":"INDEX(Editor!$C$5:$W$40,Editor!FB23+1,Editor!FB$36)","v":{"$error":"#VALUE!"}},{"$f":"INDEX(Editor!$C$5:$W$40,Editor!FC23+1,Editor!FC$36)","v":{"$error":"#VALUE!"}},{"$f":"INDEX(Editor!$C$5:$W$40,Editor!FD23+1,Editor!FD$36)","v":{"$error":"#VALUE!"}},{"$f":"INDEX(Editor!$C$5:$W$40,Editor!FE23+1,Editor!FE$36)","v":{"$error":"#VALUE!"}},{"$f":"INDEX(Editor!$C$5:$W$40,Editor!FF23+1,Editor!FF$36)","v":{"$error":"#VALUE!"}},{"$f":"INDEX(Editor!$C$5:$W$40,Editor!FG23+1,Editor!FG$36)","v":{"$error":"#VALUE!"}},{"$f":"INDEX(Editor!$C$5:$W$40,Editor!FH23+1,Editor!FH$36)","v":{"$error":"#VALUE!"}},{"$f":"INDEX(Editor!$C$5:$W$40,Editor!FI23+1,Editor!FI$36)","v":{"$error":"#VALUE!"}},{"$f":"INDEX(Editor!$C$5:$W$40,Editor!FJ23+1,Editor!FJ$36)","v":{"$error":"#VALUE!"}},{"$f":"INDEX(Editor!$C$5:$W$40,Editor!FK23+1,Editor!FK$36)","v":{"$error":"#VALUE!"}},{"$f":"INDEX(Editor!$C$5:$W$40,Editor!FL23+1,Editor!FL$36)","v":{"$error":"#VALUE!"}},{"$f":"INDEX(Editor!$C$5:$W$40,Editor!FM23+1,Editor!FM$36)","v":{"$error":"#VALUE!"}},{"$f":"INDEX(Editor!$C$5:$W$40,Editor!FN23+1,Editor!FN$36)","v":{"$error":"#VALUE!"}},{"$f":"INDEX(Editor!$C$5:$W$40,Editor!FO23+1,Editor!FO$36)","v":{"$error":"#VALUE!"}}]
[19,null,null,null,null,null,null,null,{"$f":"INDEX(Editor!$C$5:$W$40,Editor!DA24+1,Editor!DA$36)","v":{"$error":"#VALUE!"}},{"$f":"INDEX(Editor!$C$5:$W$40,Editor!DB24+1,Editor!DB$36)","v":{"$error":"#VALUE!"}},{"$f":"INDEX(Editor!$C$5:$W$40,Editor!DC24+1,Editor!DC$36)","v":{"$error":"#VALUE!"}},{"$f":"INDEX(Editor!$C$5:$W$40,Editor!DD24+1,Editor!DD$36)","v":{"$error":"#VALUE!"}},{"$f":"INDEX(Editor!$C$5:$W$40,Editor!DE24+1,Editor!DE$36)","v":{"$error":"#VALUE!"}},{"$f":"INDEX(Editor!$C$5:$W$40,Editor!DF24+1,Editor!DF$36)","v":{"$error":"#VALUE!"}},{"$f":"INDEX(Editor!$C$5:$W$40,Editor!DG24+1,Editor!DG$36)","v":{"$error":"#VALUE!"}},{"$f":"INDEX(Editor!$C$5:$W$40,Editor!DH24+1,Editor!DH$36)","v":{"$error":"#VALUE!"}},{"$f":"INDEX(Editor!$C$5:$W$40,Editor!DI24+1,Editor!DI$36)","v":{"$error":"#VALUE!"}},{"$f":"INDEX(Editor!$C$5:$W$40,Editor!DJ24+1,Editor!DJ$36)","v":{"$error":"#VALUE!"}},{"$f":"INDEX(Editor!$C$5:$W$40,Editor!DK24+1,Editor!DK$36)","v":{"$error":"#VALUE!"}},{"$f":"INDEX(Editor!$C$5:$W$40,Editor!DL24+1,Editor!DL$36)","v":{"$error":"#VALUE!"}},{"$f":"INDEX(Editor!$C$5:$W$40,Editor!DM24+1,Editor!DM$36)","v":{"$error":"#VALUE!"}},{"$f":"INDEX(Editor!$C$5:$W$40,Editor!DN24+1,Editor!DN$36)","v":{"$error":"#VALUE!"}},{"$f":"INDEX(Editor!$C$5:$W$40,Editor!DO24+1,Editor!DO$36)","v":{"$error":"#VALUE!"}},{"$f":"INDEX(Editor!$C$5:$W$40,Editor!DP24+1,Editor!DP$36)","v":{"$error":"#VALUE!"}},{"$f":"INDEX(Editor!$C$5:$W$40,Editor!DQ24+1,Editor!DQ$36)","v":{"$error":"#VALUE!"}},{"$f":"INDEX(Editor!$C$5:$W$40,Editor!DR24+1,Editor!DR$36)","v":{"$error":"#VALUE!"}},{"$f":"INDEX(Editor!$C$5:$W$40,Editor!DS24+1,Editor!DS$36)","v":{"$error":"#VALUE!"}},{"$f":"INDEX(Editor!$C$5:$W$40,Editor!DT24+1,Editor!DT$36)","v":{"$error":"#VALUE!"}},{"$f":"INDEX(Editor!$C$5:$W$40,Editor!DU24+1,Editor!DU$36)","v":{"$error":"#VALUE!"}},{"$f":"INDEX(Editor!$C$5:$W$40,Editor!DV24+1,Editor!DV$36)","v":{"$error":"#VALUE!"}},{"$f":"INDEX(Editor!$C$5:$W$40,Editor!DW24+1,Editor!DW$36)","v":{"$error":"#VALUE!"}},{"$f":"INDEX(Editor!$C$5:$W$40,Editor!DX24+1,Editor!DX$36)","v":{"$error":"#VALUE!"}},{"$f":"INDEX(Editor!$C$5:$W$40,Editor!DY24+1,Editor!DY$36)","v":{"$error":"#VALUE!"}},{"$f":"INDEX(Editor!$C$5:$W$40,Editor!DZ24+1,Editor!DZ$36)","v":{"$error":"#VALUE!"}},{"$f":"INDEX(Editor!$C$5:$W$40,Editor!EA24+1,Editor!EA$36)","v":{"$error":"#VALUE!"}},{"$f":"INDEX(Editor!$C$5:$W$40,Editor!EB24+1,Editor!EB$36)","v":{"$error":"#VALUE!"}},{"$f":"INDEX(Editor!$C$5:$W$40,Editor!EC24+1,Editor!EC$36)","v":{"$error":"#VALUE!"}},{"$f":"INDEX(Editor!$C$5:$W$40,Editor!ED24+1,Editor!ED$36)","v":{"$error":"#VALUE!"}},{"$f":"INDEX(Editor!$C$5:$W$40,Editor!EE24+1,Editor!EE$36)","v":{"$error":"#VALUE!"}},{"$f":"INDEX(Editor!$C$5:$W$40,Editor!EF24+1,Editor!EF$36)","v":{"$error":"#VALUE!"}},{"$f":"INDEX(Editor!$C$5:$W$40,Editor!EG24+1,Editor!EG$36)","v":{"$error":"#VALUE!"}},{"$f":"INDEX(Editor!$C$5:$W$40,Editor!EH24+1,Editor!EH$36)","v":{"$error":"#VALUE!"}},{"$f":"INDEX(Editor!$C$5:$W$40,Editor!EI24+1,Editor!EI$36)","v":{"$error":"#VALUE!"}},{"$f":"INDEX(Editor!$C$5:$W$40,Editor!EJ24+1,Editor!EJ$36)","v":{"$error":"#VALUE!"}},{"$f":"INDEX(Editor!$C$5:$W$40,Editor!EK24+1,Editor!EK$36)","v":{"$error":"#VALUE!"}},{"$f":"INDEX(Editor!$C$5:$W$40,Editor!EL24+1,Editor!EL$36)","v":{"$error":"#VALUE!"}},{"$f":"INDEX(Editor!$C$5:$W$40,Editor!EM24+1,Editor!EM$36)","v":{"$error":"#VALUE!"}},{"$f":"INDEX(Editor!$C$5:$W$40,Editor!EN24+1,Editor!EN$36)","v":{"$error":"#VALUE!"}},{"$f":"INDEX(Editor!$C$5:$W$40,Editor!EO24+1,Editor!EO$36)","v":{"$error":"#VALUE!"}},{"$f":"INDEX(Editor!$C$5:$W$40,Editor!EP24+1,Editor!EP$36)","v":{"$error":"#VALUE!"}},{"$f":"INDEX(Editor!$C$5:$W$40,Editor!EQ24+1,Editor!EQ$36)","v":{"$error":"#VALUE!"}},{"$f":"INDEX(Editor!$C$5:$W$40,Editor!ER24+1,Editor!ER$36)","v":{"$error":"#VALUE!"}},{"$f":"INDEX(Editor!$C$5:$W$40,Editor!ES24+1,Editor!ES$36)","v":{"$error":"#VALUE!"}},{"$f":"INDEX(Editor!$C$5:$W$40,Editor!ET24+1,Editor!ET$36)","v":{"$error":"#VALUE!"}},{"$f":"INDEX(Editor!$C$5:$W$40,Editor!EU24+1,Editor!EU$36)","v":{"$error":"#VALUE!"}},{"$f":"INDEX(Editor!$C$5:$W$40,Editor!EV24+1,Editor!EV$36)","v":{"$error":"#VALUE!"}},{"$f":"INDEX(Editor!$C$5:$W$40,Editor!EW24+1,Editor!EW$36)","v":{"$error":"#VALUE!"}},{"$f":"INDEX(Editor!$C$5:$W$40,Editor!EX24+1,Editor!EX$36)","v":{"$error":"#VALUE!"}},{"$f":"INDEX(Editor!$C$5:$W$40,Editor!EY24+1,Editor!EY$36)","v":{"$error":"#VALUE!"}},{"$f":"INDEX(Editor!$C$5:$W$40,Editor!EZ24+1,Editor!EZ$36)","v":{"$error":"#VALUE!"}},{"$f":"INDEX(Editor!$C$5:$W$40,Editor!FA24+1,Editor!FA$36)","v":{"$error":"#VALUE!"}},{"$f":"INDEX(Editor!$C$5:$W$40,Editor!FB24+1,Editor!FB$36)","v":{"$error":"#VALUE!"}},{"$f":"INDEX(Editor!$C$5:$W$40,Editor!FC24+1,Editor!FC$36)","v":{"$error":"#VALUE!"}},{"$f":"INDEX(Editor!$C$5:$W$40,Editor!FD24+1,Editor!FD$36)","v":{"$error":"#VALUE!"}},{"$f":"INDEX(Editor!$C$5:$W$40,Editor!FE24+1,Editor!FE$36)","v":{"$error":"#VALUE!"}},{"$f":"INDEX(Editor!$C$5:$W$40,Editor!FF24+1,Editor!FF$36)","v":{"$error":"#VALUE!"}},{"$f":"INDEX(Editor!$C$5:$W$40,Editor!FG24+1,Editor!FG$36)","v":{"$error":"#VALUE!"}},{"$f":"INDEX(Editor!$C$5:$W$40,Editor!FH24+1,Editor!FH$36)","v":{"$error":"#VALUE!"}},{"$f":"INDEX(Editor!$C$5:$W$40,Editor!FI24+1,Editor!FI$36)","v":{"$error":"#VALUE!"}},{"$f":"INDEX(Editor!$C$5:$W$40,Editor!FJ24+1,Editor!FJ$36)","v":{"$error":"#VALUE!"}},{"$f":"INDEX(Editor!$C$5:$W$40,Editor!FK24+1,Editor!FK$36)","v":{"$error":"#VALUE!"}},{"$f":"INDEX(Editor!$C$5:$W$40,Editor!FL24+1,Editor!FL$36)","v":{"$error":"#VALUE!"}},{"$f":"INDEX(Editor!$C$5:$W$40,Editor!FM24+1,Editor!FM$36)","v":{"$error":"#VALUE!"}},{"$f":"INDEX(Editor!$C$5:$W$40,Editor!FN24+1,Editor!FN$36)","v":{"$error":"#VALUE!"}},{"$f":"INDEX(Editor!$C$5:$W$40,Editor!FO24+1,Editor!FO$36)","v":{"$error":"#VALUE!"}}]
[20,null,null,null,null,null,null,null,{"$f":"INDEX(Editor!$C$5:$W$40,Editor!DA25+1,Editor!DA$36)","v":{"$error":"#VALUE!"}},{"$f":"INDEX(Editor!$C$5:$W$40,Editor!DB25+1,Editor!DB$36)","v":{"$error":"#VALUE!"}},{"$f":"INDEX(Editor!$C$5:$W$40,Editor!DC25+1,Editor!DC$36)","v":{"$error":"#VALUE!"}},{"$f":"INDEX(Editor!$C$5:$W$40,Editor!DD25+1,Editor!DD$36)","v":{"$error":"#VALUE!"}},{"$f":"INDEX(Editor!$C$5:$W$40,Editor!DE25+1,Editor!DE$36)","v":{"$error":"#VALUE!"}},{"$f":"INDEX(Editor!$C$5:$W$40,Editor!DF25+1,Editor!DF$36)","v":{"$error":"#VALUE!"}},{"$f":"INDEX(Editor!$C$5:$W$40,Editor!DG25+1,Editor!DG$36)","v":{"$error":"#VALUE!"}},{"$f":"INDEX(Editor!$C$5:$W$40,Editor!DH25+1,Editor!DH$36)","v":{"$error":"#VALUE!"}},{"$f":"INDEX(Editor!$C$5:$W$40,Editor!DI25+1,Editor!DI$36)","v":{"$error":"#VALUE!"}},{"$f":"INDEX(Editor!$C$5:$W$40,Editor!DJ25+1,Editor!DJ$36)","v":{"$error":"#VALUE!"}},{"$f":"INDEX(Editor!$C$5:$W$40,Editor!DK25+1,Editor!DK$36)","v":{"$error":"#VALUE!"}},{"$f":"INDEX(Editor!$C$5:$W$40,Editor!DL25+1,Editor!DL$36)","v":{"$error":"#VALUE!"}},{"$f":"INDEX(Editor!$C$5:$W$40,Editor!DM25+1,Editor!DM$36)","v":{"$error":"#VALUE!"}},{"$f":"INDEX(Editor!$C$5:$W$40,Editor!DN25+1,Editor!DN$36)","v":{"$error":"#VALUE!"}},{"$f":"INDEX(Editor!$C$5:$W$40,Editor!DO25+1,Editor!DO$36)","v":{"$error":"#VALUE!"}},{"$f":"INDEX(Editor!$C$5:$W$40,Editor!DP25+1,Editor!DP$36)","v":{"$error":"#VALUE!"}},{"$f":"INDEX(Editor!$C$5:$W$40,Editor!DQ25+1,Editor!DQ$36)","v":{"$error":"#VALUE!"}},{"$f":"INDEX(Editor!$C$5:$W$40,Editor!DR25+1,Editor!DR$36)","v":{"$error":"#VALUE!"}},{"$f":"INDEX(Editor!$C$5:$W$40,Editor!DS25+1,Editor!DS$36)","v":{"$error":"#VALUE!"}},{"$f":"INDEX(Editor!$C$5:$W$40,Editor!DT25+1,Editor!DT$36)","v":{"$error":"#VALUE!"}},{"$f":"INDEX(Editor!$C$5:$W$40,Editor!DU25+1,Editor!DU$36)","v":{"$error":"#VALUE!"}},{"$f":"INDEX(Editor!$C$5:$W$40,Editor!DV25+1,Editor!DV$36)","v":{"$error":"#VALUE!"}},{"$f":"INDEX(Editor!$C$5:$W$40,Editor!DW25+1,Editor!DW$36)","v":{"$error":"#VALUE!"}},{"$f":"INDEX(Editor!$C$5:$W$40,Editor!DX25+1,Editor!DX$36)","v":{"$error":"#VALUE!"}},{"$f":"INDEX(Editor!$C$5:$W$40,Editor!DY25+1,Editor!DY$36)","v":{"$error":"#VALUE!"}},{"$f":"INDEX(Editor!$C$5:$W$40,Editor!DZ25+1,Editor!DZ$36)","v":{"$error":"#VALUE!"}},{"$f":"INDEX(Editor!$C$5:$W$40,Editor!EA25+1,Editor!EA$36)","v":{"$error":"#VALUE!"}},{"$f":"INDEX(Editor!$C$5:$W$40,Editor!EB25+1,Editor!EB$36)","v":{"$error":"#VALUE!"}},{"$f":"INDEX(Editor!$C$5:$W$40,Editor!EC25+1,Editor!EC$36)","v":{"$error":"#VALUE!"}},{"$f":"INDEX(Editor!$C$5:$W$40,Editor!ED25+1,Editor!ED$36)","v":{"$error":"#VALUE!"}},{"$f":"INDEX(Editor!$C$5:$W$40,Editor!EE25+1,Editor!EE$36)","v":{"$error":"#VALUE!"}},{"$f":"INDEX(Editor!$C$5:$W$40,Editor!EF25+1,Editor!EF$36)","v":{"$error":"#VALUE!"}},{"$f":"INDEX(Editor!$C$5:$W$40,Editor!EG25+1,Editor!EG$36)","v":{"$error":"#VALUE!"}},{"$f":"INDEX(Editor!$C$5:$W$40,Editor!EH25+1,Editor!EH$36)","v":{"$error":"#VALUE!"}},{"$f":"INDEX(Editor!$C$5:$W$40,Editor!EI25+1,Editor!EI$36)","v":{"$error":"#VALUE!"}},{"$f":"INDEX(Editor!$C$5:$W$40,Editor!EJ25+1,Editor!EJ$36)","v":{"$error":"#VALUE!"}},{"$f":"INDEX(Editor!$C$5:$W$40,Editor!EK25+1,Editor!EK$36)","v":{"$error":"#VALUE!"}},{"$f":"INDEX(Editor!$C$5:$W$40,Editor!EL25+1,Editor!EL$36)","v":{"$error":"#VALUE!"}},{"$f":"INDEX(Editor!$C$5:$W$40,Editor!EM25+1,Editor!EM$36)","v":{"$error":"#VALUE!"}},{"$f":"INDEX(Editor!$C$5:$W$40,Editor!EN25+1,Editor!EN$36)","v":{"$error":"#VALUE!"}},{"$f":"INDEX(Editor!$C$5:$W$40,Editor!EO25+1,Editor!EO$36)","v":{"$error":"#VALUE!"}},{"$f":"INDEX(Editor!$C$5:$W$40,Editor!EP25+1,Editor!EP$36)","v":{"$error":"#VALUE!"}},{"$f":"INDEX(Editor!$C$5:$W$40,Editor!EQ25+1,Editor!EQ$36)","v":{"$error":"#VALUE!"}},{"$f":"INDEX(Editor!$C$5:$W$40,Editor!ER25+1,Editor!ER$36)","v":{"$error":"#VALUE!"}},{"$f":"INDEX(Editor!$C$5:$W$40,Editor!ES25+1,Editor!ES$36)","v":{"$error":"#VALUE!"}},{"$f":"INDEX(Editor!$C$5:$W$40,Editor!ET25+1,Editor!ET$36)","v":{"$error":"#VALUE!"}},{"$f":"INDEX(Editor!$C$5:$W$40,Editor!EU25+1,Editor!EU$36)","v":{"$error":"#VALUE!"}},{"$f":"INDEX(Editor!$C$5:$W$40,Editor!EV25+1,Editor!EV$36)","v":{"$error":"#VALUE!"}},{"$f":"INDEX(Editor!$C$5:$W$40,Editor!EW25+1,Editor!EW$36)","v":{"$error":"#VALUE!"}},{"$f":"INDEX(Editor!$C$5:$W$40,Editor!EX25+1,Editor!EX$36)","v":{"$error":"#VALUE!"}},{"$f":"INDEX(Editor!$C$5:$W$40,Editor!EY25+1,Editor!EY$36)","v":{"$error":"#VALUE!"}},{"$f":"INDEX(Editor!$C$5:$W$40,Editor!EZ25+1,Editor!EZ$36)","v":{"$error":"#VALUE!"}},{"$f":"INDEX(Editor!$C$5:$W$40,Editor!FA25+1,Editor!FA$36)","v":{"$error":"#VALUE!"}},{"$f":"INDEX(Editor!$C$5:$W$40,Editor!FB25+1,Editor!FB$36)","v":{"$error":"#VALUE!"}},{"$f":"INDEX(Editor!$C$5:$W$40,Editor!FC25+1,Editor!FC$36)","v":{"$error":"#VALUE!"}},{"$f":"INDEX(Editor!$C$5:$W$40,Editor!FD25+1,Editor!FD$36)","v":{"$error":"#VALUE!"}},{"$f":"INDEX(Editor!$C$5:$W$40,Editor!FE25+1,Editor!FE$36)","v":{"$error":"#VALUE!"}},{"$f":"INDEX(Editor!$C$5:$W$40,Editor!FF25+1,Editor!FF$36)","v":{"$error":"#VALUE!"}},{"$f":"INDEX(Editor!$C$5:$W$40,Editor!FG25+1,Editor!FG$36)","v":{"$error":"#VALUE!"}},{"$f":"INDEX(Editor!$C$5:$W$40,Editor!FH25+1,Editor!FH$36)","v":{"$error":"#VALUE!"}},{"$f":"INDEX(Editor!$C$5:$W$40,Editor!FI25+1,Editor!FI$36)","v":{"$error":"#VALUE!"}},{"$f":"INDEX(Editor!$C$5:$W$40,Editor!FJ25+1,Editor!FJ$36)","v":{"$error":"#VALUE!"}},{"$f":"INDEX(Editor!$C$5:$W$40,Editor!FK25+1,Editor!FK$36)","v":{"$error":"#VALUE!"}},{"$f":"INDEX(Editor!$C$5:$W$40,Editor!FL25+1,Editor!FL$36)","v":{"$error":"#VALUE!"}},{"$f":"INDEX(Editor!$C$5:$W$40,Editor!FM25+1,Editor!FM$36)","v":{"$error":"#VALUE!"}},{"$f":"INDEX(Editor!$C$5:$W$40,Editor!FN25+1,Editor!FN$36)","v":{"$error":"#VALUE!"}},{"$f":"INDEX(Editor!$C$5:$W$40,Editor!FO25+1,Editor!FO$36)","v":{"$error":"#VALUE!"}}]
[21,null,null,null,null,null,null,null,{"$f":"INDEX(Editor!$C$5:$W$40,Editor!DA26+1,Editor!DA$36)","v":{"$error":"#VALUE!"}},{"$f":"INDEX(Editor!$C$5:$W$40,Editor!DB26+1,Editor!DB$36)","v":{"$error":"#VALUE!"}},{"$f":"INDEX(Editor!$C$5:$W$40,Editor!DC26+1,Editor!DC$36)","v":{"$error":"#VALUE!"}},{"$f":"INDEX(Editor!$C$5:$W$40,Editor!DD26+1,Editor!DD$36)","v":{"$error":"#VALUE!"}},{"$f":"INDEX(Editor!$C$5:$W$40,Editor!DE26+1,Editor!DE$36)","v":{"$error":"#VALUE!"}},{"$f":"INDEX(Editor!$C$5:$W$40,Editor!DF26+1,Editor!DF$36)","v":{"$error":"#VALUE!"}},{"$f":"INDEX(Editor!$C$5:$W$40,Editor!DG26+1,Editor!DG$36)","v":{"$error":"#VALUE!"}},{"$f":"INDEX(Editor!$C$5:$W$40,Editor!DH26+1,Editor!DH$36)","v":{"$error":"#VALUE!"}},{"$f":"INDEX(Editor!$C$5:$W$40,Editor!DI26+1,Editor!DI$36)","v":{"$error":"#VALUE!"}},{"$f":"INDEX(Editor!$C$5:$W$40,Editor!DJ26+1,Editor!DJ$36)","v":{"$error":"#VALUE!"}},{"$f":"INDEX(Editor!$C$5:$W$40,Editor!DK26+1,Editor!DK$36)","v":{"$error":"#VALUE!"}},{"$f":"INDEX(Editor!$C$5:$W$40,Editor!DL26+1,Editor!DL$36)","v":{"$error":"#VALUE!"}},{"$f":"INDEX(Editor!$C$5:$W$40,Editor!DM26+1,Editor!DM$36)","v":{"$error":"#VALUE!"}},{"$f":"INDEX(Editor!$C$5:$W$40,Editor!DN26+1,Editor!DN$36)","v":{"$error":"#VALUE!"}},{"$f":"INDEX(Editor!$C$5:$W$40,Editor!DO26+1,Editor!DO$36)","v":{"$error":"#VALUE!"}},{"$f":"INDEX(Editor!$C$5:$W$40,Editor!DP26+1,Editor!DP$36)","v":{"$error":"#VALUE!"}},{"$f":"INDEX(Editor!$C$5:$W$40,Editor!DQ26+1,Editor!DQ$36)","v":{"$error":"#VALUE!"}},{"$f":"INDEX(Editor!$C$5:$W$40,Editor!DR26+1,Editor!DR$36)","v":{"$error":"#VALUE!"}},{"$f":"INDEX(Editor!$C$5:$W$40,Editor!DS26+1,Editor!DS$36)","v":{"$error":"#VALUE!"}},{"$f":"INDEX(Editor!$C$5:$W$40,Editor!DT26+1,Editor!DT$36)","v":{"$error":"#VALUE!"}},{"$f":"INDEX(Editor!$C$5:$W$40,Editor!DU26+1,Editor!DU$36)","v":{"$error":"#VALUE!"}},{"$f":"INDEX(Editor!$C$5:$W$40,Editor!DV26+1,Editor!DV$36)","v":{"$error":"#VALUE!"}},{"$f":"INDEX(Editor!$C$5:$W$40,Editor!DW26+1,Editor!DW$36)","v":{"$error":"#VALUE!"}},{"$f":"INDEX(Editor!$C$5:$W$40,Editor!DX26+1,Editor!DX$36)","v":{"$error":"#VALUE!"}},{"$f":"INDEX(Editor!$C$5:$W$40,Editor!DY26+1,Editor!DY$36)","v":{"$error":"#VALUE!"}},{"$f":"INDEX(Editor!$C$5:$W$40,Editor!DZ26+1,Editor!DZ$36)","v":{"$error":"#VALUE!"}},{"$f":"INDEX(Editor!$C$5:$W$40,Editor!EA26+1,Editor!EA$36)","v":{"$error":"#VALUE!"}},{"$f":"INDEX(Editor!$C$5:$W$40,Editor!EB26+1,Editor!EB$36)","v":{"$error":"#VALUE!"}},{"$f":"INDEX(Editor!$C$5:$W$40,Editor!EC26+1,Editor!EC$36)","v":{"$error":"#VALUE!"}},{"$f":"INDEX(Editor!$C$5:$W$40,Editor!ED26+1,Editor!ED$36)","v":{"$error":"#VALUE!"}},{"$f":"INDEX(Editor!$C$5:$W$40,Editor!EE26+1,Editor!EE$36)","v":{"$error":"#VALUE!"}},{"$f":"INDEX(Editor!$C$5:$W$40,Editor!EF26+1,Editor!EF$36)","v":{"$error":"#VALUE!"}},{"$f":"INDEX(Editor!$C$5:$W$40,Editor!EG26+1,Editor!EG$36)","v":{"$error":"#VALUE!"}},{"$f":"INDEX(Editor!$C$5:$W$40,Editor!EH26+1,Editor!EH$36)","v":{"$error":"#VALUE!"}},{"$f":"INDEX(Editor!$C$5:$W$40,Editor!EI26+1,Editor!EI$36)","v":{"$error":"#VALUE!"}},{"$f":"INDEX(Editor!$C$5:$W$40,Editor!EJ26+1,Editor!EJ$36)","v":{"$error":"#VALUE!"}},{"$f":"INDEX(Editor!$C$5:$W$40,Editor!EK26+1,Editor!EK$36)","v":{"$error":"#VALUE!"}},{"$f":"INDEX(Editor!$C$5:$W$40,Editor!EL26+1,Editor!EL$36)","v":{"$error":"#VALUE!"}},{"$f":"INDEX(Editor!$C$5:$W$40,Editor!EM26+1,Editor!EM$36)","v":{"$error":"#VALUE!"}},{"$f":"INDEX(Editor!$C$5:$W$40,Editor!EN26+1,Editor!EN$36)","v":{"$error":"#VALUE!"}},{"$f":"INDEX(Editor!$C$5:$W$40,Editor!EO26+1,Editor!EO$36)","v":{"$error":"#VALUE!"}},{"$f":"INDEX(Editor!$C$5:$W$40,Editor!EP26+1,Editor!EP$36)","v":{"$error":"#VALUE!"}},{"$f":"INDEX(Editor!$C$5:$W$40,Editor!EQ26+1,Editor!EQ$36)","v":{"$error":"#VALUE!"}},{"$f":"INDEX(Editor!$C$5:$W$40,Editor!ER26+1,Editor!ER$36)","v":{"$error":"#VALUE!"}},{"$f":"INDEX(Editor!$C$5:$W$40,Editor!ES26+1,Editor!ES$36)","v":{"$error":"#VALUE!"}},{"$f":"INDEX(Editor!$C$5:$W$40,Editor!ET26+1,Editor!ET$36)","v":{"$error":"#VALUE!"}},{"$f":"INDEX(Editor!$C$5:$W$40,Editor!EU26+1,Editor!EU$36)","v":{"$error":"#VALUE!"}},{"$f":"INDEX(Editor!$C$5:$W$40,Editor!EV26+1,Editor!EV$36)","v":{"$error":"#VALUE!"}},{"$f":"INDEX(Editor!$C$5:$W$40,Editor!EW26+1,Editor!EW$36)","v":{"$error":"#VALUE!"}},{"$f":"INDEX(Editor!$C$5:$W$40,Editor!EX26+1,Editor!EX$36)","v":{"$error":"#VALUE!"}},{"$f":"INDEX(Editor!$C$5:$W$40,Editor!EY26+1,Editor!EY$36)","v":{"$error":"#VALUE!"}},{"$f":"INDEX(Editor!$C$5:$W$40,Editor!EZ26+1,Editor!EZ$36)","v":{"$error":"#VALUE!"}},{"$f":"INDEX(Editor!$C$5:$W$40,Editor!FA26+1,Editor!FA$36)","v":{"$error":"#VALUE!"}},{"$f":"INDEX(Editor!$C$5:$W$40,Editor!FB26+1,Editor!FB$36)","v":{"$error":"#VALUE!"}},{"$f":"INDEX(Editor!$C$5:$W$40,Editor!FC26+1,Editor!FC$36)","v":{"$error":"#VALUE!"}},{"$f":"INDEX(Editor!$C$5:$W$40,Editor!FD26+1,Editor!FD$36)","v":{"$error":"#VALUE!"}},{"$f":"INDEX(Editor!$C$5:$W$40,Editor!FE26+1,Editor!FE$36)","v":{"$error":"#VALUE!"}},{"$f":"INDEX(Editor!$C$5:$W$40,Editor!FF26+1,Editor!FF$36)","v":{"$error":"#VALUE!"}},{"$f":"INDEX(Editor!$C$5:$W$40,Editor!FG26+1,Editor!FG$36)","v":{"$error":"#VALUE!"}},{"$f":"INDEX(Editor!$C$5:$W$40,Editor!FH26+1,Editor!FH$36)","v":{"$error":"#VALUE!"}},{"$f":"INDEX(Editor!$C$5:$W$40,Editor!FI26+1,Editor!FI$36)","v":{"$error":"#VALUE!"}},{"$f":"INDEX(Editor!$C$5:$W$40,Editor!FJ26+1,Editor!FJ$36)","v":{"$error":"#VALUE!"}},{"$f":"INDEX(Editor!$C$5:$W$40,Editor!FK26+1,Editor!FK$36)","v":{"$error":"#VALUE!"}},{"$f":"INDEX(Editor!$C$5:$W$40,Editor!FL26+1,Editor!FL$36)","v":{"$error":"#VALUE!"}},{"$f":"INDEX(Editor!$C$5:$W$40,Editor!FM26+1,Editor!FM$36)","v":{"$error":"#VALUE!"}},{"$f":"INDEX(Editor!$C$5:$W$40,Editor!FN26+1,Editor!FN$36)","v":{"$error":"#VALUE!"}},{"$f":"INDEX(Editor!$C$5:$W$40,Editor!FO26+1,Editor!FO$36)","v":{"$error":"#VALUE!"}}]
[22,null,null,null,null,null,null,null,{"$f":"INDEX(Editor!$C$5:$W$40,Editor!DA27+1,Editor!DA$36)","v":{"$error":"#VALUE!"}},{"$f":"INDEX(Editor!$C$5:$W$40,Editor!DB27+1,Editor!DB$36)","v":{"$error":"#VALUE!"}},{"$f":"INDEX(Editor!$C$5:$W$40,Editor!DC27+1,Editor!DC$36)","v":{"$error":"#VALUE!"}},{"$f":"INDEX(Editor!$C$5:$W$40,Editor!DD27+1,Editor!DD$36)","v":{"$error":"#VALUE!"}},{"$f":"INDEX(Editor!$C$5:$W$40,Editor!DE27+1,Editor!DE$36)","v":{"$error":"#VALUE!"}},{"$f":"INDEX(Editor!$C$5:$W$40,Editor!DF27+1,Editor!DF$36)","v":{"$error":"#VALUE!"}},{"$f":"INDEX(Editor!$C$5:$W$40,Editor!DG27+1,Editor!DG$36)","v":{"$error":"#VALUE!"}},{"$f":"INDEX(Editor!$C$5:$W$40,Editor!DH27+1,Editor!DH$36)","v":{"$error":"#VALUE!"}},{"$f":"INDEX(Editor!$C$5:$W$40,Editor!DI27+1,Editor!DI$36)","v":{"$error":"#VALUE!"}},{"$f":"INDEX(Editor!$C$5:$W$40,Editor!DJ27+1,Editor!DJ$36)","v":{"$error":"#VALUE!"}},{"$f":"INDEX(Editor!$C$5:$W$40,Editor!DK27+1,Editor!DK$36)","v":{"$error":"#VALUE!"}},{"$f":"INDEX(Editor!$C$5:$W$40,Editor!DL27+1,Editor!DL$36)","v":{"$error":"#VALUE!"}},{"$f":"INDEX(Editor!$C$5:$W$40,Editor!DM27+1,Editor!DM$36)","v":{"$error":"#VALUE!"}},{"$f":"INDEX(Editor!$C$5:$W$40,Editor!DN27+1,Editor!DN$36)","v":{"$error":"#VALUE!"}},{"$f":"INDEX(Editor!$C$5:$W$40,Editor!DO27+1,Editor!DO$36)","v":{"$error":"#VALUE!"}},{"$f":"INDEX(Editor!$C$5:$W$40,Editor!DP27+1,Editor!DP$36)","v":{"$error":"#VALUE!"}},{"$f":"INDEX(Editor!$C$5:$W$40,Editor!DQ27+1,Editor!DQ$36)","v":{"$error":"#VALUE!"}},{"$f":"INDEX(Editor!$C$5:$W$40,Editor!DR27+1,Editor!DR$36)","v":{"$error":"#VALUE!"}},{"$f":"INDEX(Editor!$C$5:$W$40,Editor!DS27+1,Editor!DS$36)","v":{"$error":"#VALUE!"}},{"$f":"INDEX(Editor!$C$5:$W$40,Editor!DT27+1,Editor!DT$36)","v":{"$error":"#VALUE!"}},{"$f":"INDEX(Editor!$C$5:$W$40,Editor!DU27+1,Editor!DU$36)","v":{"$error":"#VALUE!"}},{"$f":"INDEX(Editor!$C$5:$W$40,Editor!DV27+1,Editor!DV$36)","v":{"$error":"#VALUE!"}},{"$f":"INDEX(Editor!$C$5:$W$40,Editor!DW27+1,Editor!DW$36)","v":{"$error":"#VALUE!"}},{"$f":"INDEX(Editor!$C$5:$W$40,Editor!DX27+1,Editor!DX$36)","v":{"$error":"#VALUE!"}},{"$f":"INDEX(Editor!$C$5:$W$40,Editor!DY27+1,Editor!DY$36)","v":{"$error":"#VALUE!"}},{"$f":"INDEX(Editor!$C$5:$W$40,Editor!DZ27+1,Editor!DZ$36)","v":{"$error":"#VALUE!"}},{"$f":"INDEX(Editor!$C$5:$W$40,Editor!EA27+1,Editor!EA$36)","v":{"$error":"#VALUE!"}},{"$f":"INDEX(Editor!$C$5:$W$40,Editor!EB27+1,Editor!EB$36)","v":{"$error":"#VALUE!"}},{"$f":"INDEX(Editor!$C$5:$W$40,Editor!EC27+1,Editor!EC$36)","v":{"$error":"#VALUE!"}},{"$f":"INDEX(Editor!$C$5:$W$40,Editor!ED27+1,Editor!ED$36)","v":{"$error":"#VALUE!"}},{"$f":"INDEX(Editor!$C$5:$W$40,Editor!EE27+1,Editor!EE$36)","v":{"$error":"#VALUE!"}},{"$f":"INDEX(Editor!$C$5:$W$40,Editor!EF27+1,Editor!EF$36)","v":{"$error":"#VALUE!"}},{"$f":"INDEX(Editor!$C$5:$W$40,Editor!EG27+1,Editor!EG$36)","v":{"$error":"#VALUE!"}},{"$f":"INDEX(Editor!$C$5:$W$40,Editor!EH27+1,Editor!EH$36)","v":{"$error":"#VALUE!"}},{"$f":"INDEX(Editor!$C$5:$W$40,Editor!EI27+1,Editor!EI$36)","v":{"$error":"#VALUE!"}},{"$f":"INDEX(Editor!$C$5:$W$40,Editor!EJ27+1,Editor!EJ$36)","v":{"$error":"#VALUE!"}},{"$f":"INDEX(Editor!$C$5:$W$40,Editor!EK27+1,Editor!EK$36)","v":{"$error":"#VALUE!"}},{"$f":"INDEX(Editor!$C$5:$W$40,Editor!EL27+1,Editor!EL$36)","v":{"$error":"#VALUE!"}},{"$f":"INDEX(Editor!$C$5:$W$40,Editor!EM27+1,Editor!EM$36)","v":{"$error":"#VALUE!"}},{"$f":"INDEX(Editor!$C$5:$W$40,Editor!EN27+1,Editor!EN$36)","v":{"$error":"#VALUE!"}},{"$f":"INDEX(Editor!$C$5:$W$40,Editor!EO27+1,Editor!EO$36)","v":{"$error":"#VALUE!"}},{"$f":"INDEX(Editor!$C$5:$W$40,Editor!EP27+1,Editor!EP$36)","v":{"$error":"#VALUE!"}},{"$f":"INDEX(Editor!$C$5:$W$40,Editor!EQ27+1,Editor!EQ$36)","v":{"$error":"#VALUE!"}},{"$f":"INDEX(Editor!$C$5:$W$40,Editor!ER27+1,Editor!ER$36)","v":{"$error":"#VALUE!"}},{"$f":"INDEX(Editor!$C$5:$W$40,Editor!ES27+1,Editor!ES$36)","v":{"$error":"#VALUE!"}},{"$f":"INDEX(Editor!$C$5:$W$40,Editor!ET27+1,Editor!ET$36)","v":{"$error":"#VALUE!"}},{"$f":"INDEX(Editor!$C$5:$W$40,Editor!EU27+1,Editor!EU$36)","v":{"$error":"#VALUE!"}},{"$f":"INDEX(Editor!$C$5:$W$40,Editor!EV27+1,Editor!EV$36)","v":{"$error":"#VALUE!"}},{"$f":"INDEX(Editor!$C$5:$W$40,Editor!EW27+1,Editor!EW$36)","v":{"$error":"#VALUE!"}},{"$f":"INDEX(Editor!$C$5:$W$40,Editor!EX27+1,Editor!EX$36)","v":{"$error":"#VALUE!"}},{"$f":"INDEX(Editor!$C$5:$W$40,Editor!EY27+1,Editor!EY$36)","v":{"$error":"#VALUE!"}},{"$f":"INDEX(Editor!$C$5:$W$40,Editor!EZ27+1,Editor!EZ$36)","v":{"$error":"#VALUE!"}},{"$f":"INDEX(Editor!$C$5:$W$40,Editor!FA27+1,Editor!FA$36)","v":{"$error":"#VALUE!"}},{"$f":"INDEX(Editor!$C$5:$W$40,Editor!FB27+1,Editor!FB$36)","v":{"$error":"#VALUE!"}},{"$f":"INDEX(Editor!$C$5:$W$40,Editor!FC27+1,Editor!FC$36)","v":{"$error":"#VALUE!"}},{"$f":"INDEX(Editor!$C$5:$W$40,Editor!FD27+1,Editor!FD$36)","v":{"$error":"#VALUE!"}},{"$f":"INDEX(Editor!$C$5:$W$40,Editor!FE27+1,Editor!FE$36)","v":{"$error":"#VALUE!"}},{"$f":"INDEX(Editor!$C$5:$W$40,Editor!FF27+1,Editor!FF$36)","v":{"$error":"#VALUE!"}},{"$f":"INDEX(Editor!$C$5:$W$40,Editor!FG27+1,Editor!FG$36)","v":{"$error":"#VALUE!"}},{"$f":"INDEX(Editor!$C$5:$W$40,Editor!FH27+1,Editor!FH$36)","v":{"$error":"#VALUE!"}},{"$f":"INDEX(Editor!$C$5:$W$40,Editor!FI27+1,Editor!FI$36)","v":{"$error":"#VALUE!"}},{"$f":"INDEX(Editor!$C$5:$W$40,Editor!FJ27+1,Editor!FJ$36)","v":{"$error":"#VALUE!"}},{"$f":"INDEX(Editor!$C$5:$W$40,Editor!FK27+1,Editor!FK$36)","v":{"$error":"#VALUE!"}},{"$f":"INDEX(Editor!$C$5:$W$40,Editor!FL27+1,Editor!FL$36)","v":{"$error":"#VALUE!"}},{"$f":"INDEX(Editor!$C$5:$W$40,Editor!FM27+1,Editor!FM$36)","v":{"$error":"#VALUE!"}},{"$f":"INDEX(Editor!$C$5:$W$40,Editor!FN27+1,Editor!FN$36)","v":{"$error":"#VALUE!"}},{"$f":"INDEX(Editor!$C$5:$W$40,Editor!FO27+1,Editor!FO$36)","v":{"$error":"#VALUE!"}}]
[23,null,null,null,null,null,null,null,{"$f":"INDEX(Editor!$C$5:$W$40,Editor!DA28+1,Editor!DA$36)","v":{"$error":"#VALUE!"}},{"$f":"INDEX(Editor!$C$5:$W$40,Editor!DB28+1,Editor!DB$36)","v":{"$error":"#VALUE!"}},{"$f":"INDEX(Editor!$C$5:$W$40,Editor!DC28+1,Editor!DC$36)","v":{"$error":"#VALUE!"}},{"$f":"INDEX(Editor!$C$5:$W$40,Editor!DD28+1,Editor!DD$36)","v":{"$error":"#VALUE!"}},{"$f":"INDEX(Editor!$C$5:$W$40,Editor!DE28+1,Editor!DE$36)","v":{"$error":"#VALUE!"}},{"$f":"INDEX(Editor!$C$5:$W$40,Editor!DF28+1,Editor!DF$36)","v":{"$error":"#VALUE!"}},{"$f":"INDEX(Editor!$C$5:$W$40,Editor!DG28+1,Editor!DG$36)","v":{"$error":"#VALUE!"}},{"$f":"INDEX(Editor!$C$5:$W$40,Editor!DH28+1,Editor!DH$36)","v":{"$error":"#VALUE!"}},{"$f":"INDEX(Editor!$C$5:$W$40,Editor!DI28+1,Editor!DI$36)","v":{"$error":"#VALUE!"}},{"$f":"INDEX(Editor!$C$5:$W$40,Editor!DJ28+1,Editor!DJ$36)","v":{"$error":"#VALUE!"}},{"$f":"INDEX(Editor!$C$5:$W$40,Editor!DK28+1,Editor!DK$36)","v":{"$error":"#VALUE!"}},{"$f":"INDEX(Editor!$C$5:$W$40,Editor!DL28+1,Editor!DL$36)","v":{"$error":"#VALUE!"}},{"$f":"INDEX(Editor!$C$5:$W$40,Editor!DM28+1,Editor!DM$36)","v":{"$error":"#VALUE!"}},{"$f":"INDEX(Editor!$C$5:$W$40,Editor!DN28+1,Editor!DN$36)","v":{"$error":"#VALUE!"}},{"$f":"INDEX(Editor!$C$5:$W$40,Editor!DO28+1,Editor!DO$36)","v":{"$error":"#VALUE!"}},{"$f":"INDEX(Editor!$C$5:$W$40,Editor!DP28+1,Editor!DP$36)","v":{"$error":"#VALUE!"}},{"$f":"INDEX(Editor!$C$5:$W$40,Editor!DQ28+1,Editor!DQ$36)","v":{"$error":"#VALUE!"}},{"$f":"INDEX(Editor!$C$5:$W$40,Editor!DR28+1,Editor!DR$36)","v":{"$error":"#VALUE!"}},{"$f":"INDEX(Editor!$C$5:$W$40,Editor!DS28+1,Editor!DS$36)","v":{"$error":"#VALUE!"}},{"$f":"INDEX(Editor!$C$5:$W$40,Editor!DT28+1,Editor!DT$36)","v":{"$error":"#VALUE!"}},{"$f":"INDEX(Editor!$C$5:$W$40,Editor!DU28+1,Editor!DU$36)","v":{"$error":"#VALUE!"}},{"$f":"INDEX(Editor!$C$5:$W$40,Editor!DV28+1,Editor!DV$36)","v":{"$error":"#VALUE!"}},{"$f":"INDEX(Editor!$C$5:$W$40,Editor!DW28+1,Editor!DW$36)","v":{"$error":"#VALUE!"}},{"$f":"INDEX(Editor!$C$5:$W$40,Editor!DX28+1,Editor!DX$36)","v":{"$error":"#VALUE!"}},{"$f":"INDEX(Editor!$C$5:$W$40,Editor!DY28+1,Editor!DY$36)","v":{"$error":"#VALUE!"}},{"$f":"INDEX(Editor!$C$5:$W$40,Editor!DZ28+1,Editor!DZ$36)","v":{"$error":"#VALUE!"}},{"$f":"INDEX(Editor!$C$5:$W$40,Editor!EA28+1,Editor!EA$36)","v":{"$error":"#VALUE!"}},{"$f":"INDEX(Editor!$C$5:$W$40,Editor!EB28+1,Editor!EB$36)","v":{"$error":"#VALUE!"}},{"$f":"INDEX(Editor!$C$5:$W$40,Editor!EC28+1,Editor!EC$36)","v":{"$error":"#VALUE!"}},{"$f":"INDEX(Editor!$C$5:$W$40,Editor!ED28+1,Editor!ED$36)","v":{"$error":"#VALUE!"}},{"$f":"INDEX(Editor!$C$5:$W$40,Editor!EE28+1,Editor!EE$36)","v":{"$error":"#VALUE!"}},{"$f":"INDEX(Editor!$C$5:$W$40,Editor!EF28+1,Editor!EF$36)","v":{"$error":"#VALUE!"}},{"$f":"INDEX(Editor!$C$5:$W$40,Editor!EG28+1,Editor!EG$36)","v":{"$error":"#VALUE!"}},{"$f":"INDEX(Editor!$C$5:$W$40,Editor!EH28+1,Editor!EH$36)","v":{"$error":"#VALUE!"}},{"$f":"INDEX(Editor!$C$5:$W$40,Editor!EI28+1,Editor!EI$36)","v":{"$error":"#VALUE!"}},{"$f":"INDEX(Editor!$C$5:$W$40,Editor!EJ28+1,Editor!EJ$36)","v":{"$error":"#VALUE!"}},{"$f":"INDEX(Editor!$C$5:$W$40,Editor!EK28+1,Editor!EK$36)","v":{"$error":"#VALUE!"}},{"$f":"INDEX(Editor!$C$5:$W$40,Editor!EL28+1,Editor!EL$36)","v":{"$error":"#VALUE!"}},{"$f":"INDEX(Editor!$C$5:$W$40,Editor!EM28+1,Editor!EM$36)","v":{"$error":"#VALUE!"}},{"$f":"INDEX(Editor!$C$5:$W$40,Editor!EN28+1,Editor!EN$36)","v":{"$error":"#VALUE!"}},{"$f":"INDEX(Editor!$C$5:$W$40,Editor!EO28+1,Editor!EO$36)","v":{"$error":"#VALUE!"}},{"$f":"INDEX(Editor!$C$5:$W$40,Editor!EP28+1,Editor!EP$36)","v":{"$error":"#VALUE!"}},{"$f":"INDEX(Editor!$C$5:$W$40,Editor!EQ28+1,Editor!EQ$36)","v":{"$error":"#VALUE!"}},{"$f":"INDEX(Editor!$C$5:$W$40,Editor!ER28+1,Editor!ER$36)","v":{"$error":"#VALUE!"}},{"$f":"INDEX(Editor!$C$5:$W$40,Editor!ES28+1,Editor!ES$36)","v":{"$error":"#VALUE!"}},{"$f":"INDEX(Editor!$C$5:$W$40,Editor!ET28+1,Editor!ET$36)","v":{"$error":"#VALUE!"}},{"$f":"INDEX(Editor!$C$5:$W$40,Editor!EU28+1,Editor!EU$36)","v":{"$error":"#VALUE!"}},{"$f":"INDEX(Editor!$C$5:$W$40,Editor!EV28+1,Editor!EV$36)","v":{"$error":"#VALUE!"}},{"$f":"INDEX(Editor!$C$5:$W$40,Editor!EW28+1,Editor!EW$36)","v":{"$error":"#VALUE!"}},{"$f":"INDEX(Editor!$C$5:$W$40,Editor!EX28+1,Editor!EX$36)","v":{"$error":"#VALUE!"}},{"$f":"INDEX(Editor!$C$5:$W$40,Editor!EY28+1,Editor!EY$36)","v":{"$error":"#VALUE!"}},{"$f":"INDEX(Editor!$C$5:$W$40,Editor!EZ28+1,Editor!EZ$36)","v":{"$error":"#VALUE!"}},{"$f":"INDEX(Editor!$C$5:$W$40,Editor!FA28+1,Editor!FA$36)","v":{"$error":"#VALUE!"}},{"$f":"INDEX(Editor!$C$5:$W$40,Editor!FB28+1,Editor!FB$36)","v":{"$error":"#VALUE!"}},{"$f":"INDEX(Editor!$C$5:$W$40,Editor!FC28+1,Editor!FC$36)","v":{"$error":"#VALUE!"}},{"$f":"INDEX(Editor!$C$5:$W$40,Editor!FD28+1,Editor!FD$36)","v":{"$error":"#VALUE!"}},{"$f":"INDEX(Editor!$C$5:$W$40,Editor!FE28+1,Editor!FE$36)","v":{"$error":"#VALUE!"}},{"$f":"INDEX(Editor!$C$5:$W$40,Editor!FF28+1,Editor!FF$36)","v":{"$error":"#VALUE!"}},{"$f":"INDEX(Editor!$C$5:$W$40,Editor!FG28+1,Editor!FG$36)","v":{"$error":"#VALUE!"}},{"$f":"INDEX(Editor!$C$5:$W$40,Editor!FH28+1,Editor!FH$36)","v":{"$error":"#VALUE!"}},{"$f":"INDEX(Editor!$C$5:$W$40,Editor!FI28+1,Editor!FI$36)","v":{"$error":"#VALUE!"}},{"$f":"INDEX(Editor!$C$5:$W$40,Editor!FJ28+1,Editor!FJ$36)","v":{"$error":"#VALUE!"}},{"$f":"INDEX(Editor!$C$5:$W$40,Editor!FK28+1,Editor!FK$36)","v":{"$error":"#VALUE!"}},{"$f":"INDEX(Editor!$C$5:$W$40,Editor!FL28+1,Editor!FL$36)","v":{"$error":"#VALUE!"}},{"$f":"INDEX(Editor!$C$5:$W$40,Editor!FM28+1,Editor!FM$36)","v":{"$error":"#VALUE!"}},{"$f":"INDEX(Editor!$C$5:$W$40,Editor!FN28+1,Editor!FN$36)","v":{"$error":"#VALUE!"}},{"$f":"INDEX(Editor!$C$5:$W$40,Editor!FO28+1,Editor!FO$36)","v":{"$error":"#VALUE!"}}]
[24,null,null,null,null,null,null,null,{"$f":"INDEX(Editor!$C$5:$W$40,Editor!DA29+1,Editor!DA$36)","v":{"$error":"#VALUE!"}},{"$f":"INDEX(Editor!$C$5:$W$40,Editor!DB29+1,Editor!DB$36)","v":{"$error":"#VALUE!"}},{"$f":"INDEX(Editor!$C$5:$W$40,Editor!DC29+1,Editor!DC$36)","v":{"$error":"#VALUE!"}},{"$f":"INDEX(Editor!$C$5:$W$40,Editor!DD29+1,Editor!DD$36)","v":{"$error":"#VALUE!"}},{"$f":"INDEX(Editor!$C$5:$W$40,Editor!DE29+1,Editor!DE$36)","v":{"$error":"#VALUE!"}},{"$f":"INDEX(Editor!$C$5:$W$40,Editor!DF29+1,Editor!DF$36)","v":{"$error":"#VALUE!"}},{"$f":"INDEX(Editor!$C$5:$W$40,Editor!DG29+1,Editor!DG$36)","v":{"$error":"#VALUE!"}},{"$f":"INDEX(Editor!$C$5:$W$40,Editor!DH29+1,Editor!DH$36)","v":{"$error":"#VALUE!"}},{"$f":"INDEX(Editor!$C$5:$W$40,Editor!DI29+1,Editor!DI$36)","v":{"$error":"#VALUE!"}},{"$f":"INDEX(Editor!$C$5:$W$40,Editor!DJ29+1,Editor!DJ$36)","v":{"$error":"#VALUE!"}},{"$f":"INDEX(Editor!$C$5:$W$40,Editor!DK29+1,Editor!DK$36)","v":{"$error":"#VALUE!"}},{"$f":"INDEX(Editor!$C$5:$W$40,Editor!DL29+1,Editor!DL$36)","v":{"$error":"#VALUE!"}},{"$f":"INDEX(Editor!$C$5:$W$40,Editor!DM29+1,Editor!DM$36)","v":{"$error":"#VALUE!"}},{"$f":"INDEX(Editor!$C$5:$W$40,Editor!DN29+1,Editor!DN$36)","v":{"$error":"#VALUE!"}},{"$f":"INDEX(Editor!$C$5:$W$40,Editor!DO29+1,Editor!DO$36)","v":{"$error":"#VALUE!"}},{"$f":"INDEX(Editor!$C$5:$W$40,Editor!DP29+1,Editor!DP$36)","v":{"$error":"#VALUE!"}},{"$f":"INDEX(Editor!$C$5:$W$40,Editor!DQ29+1,Editor!DQ$36)","v":{"$error":"#VALUE!"}},{"$f":"INDEX(Editor!$C$5:$W$40,Editor!DR29+1,Editor!DR$36)","v":{"$error":"#VALUE!"}},{"$f":"INDEX(Editor!$C$5:$W$40,Editor!DS29+1,Editor!DS$36)","v":{"$error":"#VALUE!"}},{"$f":"INDEX(Editor!$C$5:$W$40,Editor!DT29+1,Editor!DT$36)","v":{"$error":"#VALUE!"}},{"$f":"INDEX(Editor!$C$5:$W$40,Editor!DU29+1,Editor!DU$36)","v":{"$error":"#VALUE!"}},{"$f":"INDEX(Editor!$C$5:$W$40,Editor!DV29+1,Editor!DV$36)","v":{"$error":"#VALUE!"}},{"$f":"INDEX(Editor!$C$5:$W$40,Editor!DW29+1,Editor!DW$36)","v":{"$error":"#VALUE!"}},{"$f":"INDEX(Editor!$C$5:$W$40,Editor!DX29+1,Editor!DX$36)","v":{"$error":"#VALUE!"}},{"$f":"INDEX(Editor!$C$5:$W$40,Editor!DY29+1,Editor!DY$36)","v":{"$error":"#VALUE!"}},{"$f":"INDEX(Editor!$C$5:$W$40,Editor!DZ29+1,Editor!DZ$36)","v":{"$error":"#VALUE!"}},{"$f":"INDEX(Editor!$C$5:$W$40,Editor!EA29+1,Editor!EA$36)","v":{"$error":"#VALUE!"}},{"$f":"INDEX(Editor!$C$5:$W$40,Editor!EB29+1,Editor!EB$36)","v":{"$error":"#VALUE!"}},{"$f":"INDEX(Editor!$C$5:$W$40,Editor!EC29+1,Editor!EC$36)","v":{"$error":"#VALUE!"}},{"$f":"INDEX(Editor!$C$5:$W$40,Editor!ED29+1,Editor!ED$36)","v":{"$error":"#VALUE!"}},{"$f":"INDEX(Editor!$C$5:$W$40,Editor!EE29+1,Editor!EE$36)","v":{"$error":"#VALUE!"}},{"$f":"INDEX(Editor!$C$5:$W$40,Editor!EF29+1,Editor!EF$36)","v":{"$error":"#VALUE!"}},{"$f":"INDEX(Editor!$C$5:$W$40,Editor!EG29+1,Editor!EG$36)","v":{"$error":"#VALUE!"}},{"$f":"INDEX(Editor!$C$5:$W$40,Editor!EH29+1,Editor!EH$36)","v":{"$error":"#VALUE!"}},{"$f":"INDEX(Editor!$C$5:$W$40,Editor!EI29+1,Editor!EI$36)","v":{"$error":"#VALUE!"}},{"$f":"INDEX(Editor!$C$5:$W$40,Editor!EJ29+1,Editor!EJ$36)","v":{"$error":"#VALUE!"}},{"$f":"INDEX(Editor!$C$5:$W$40,Editor!EK29+1,Editor!EK$36)","v":{"$error":"#VALUE!"}},{"$f":"INDEX(Editor!$C$5:$W$40,Editor!EL29+1,Editor!EL$36)","v":{"$error":"#VALUE!"}},{"$f":"INDEX(Editor!$C$5:$W$40,Editor!EM29+1,Editor!EM$36)","v":{"$error":"#VALUE!"}},{"$f":"INDEX(Editor!$C$5:$W$40,Editor!EN29+1,Editor!EN$36)","v":{"$error":"#VALUE!"}},{"$f":"INDEX(Editor!$C$5:$W$40,Editor!EO29+1,Editor!EO$36)","v":{"$error":"#VALUE!"}},{"$f":"INDEX(Editor!$C$5:$W$40,Editor!EP29+1,Editor!EP$36)","v":{"$error":"#VALUE!"}},{"$f":"INDEX(Editor!$C$5:$W$40,Editor!EQ29+1,Editor!EQ$36)","v":{"$error":"#VALUE!"}},{"$f":"INDEX(Editor!$C$5:$W$40,Editor!ER29+1,Editor!ER$36)","v":{"$error":"#VALUE!"}},{"$f":"INDEX(Editor!$C$5:$W$40,Editor!ES29+1,Editor!ES$36)","v":{"$error":"#VALUE!"}},{"$f":"INDEX(Editor!$C$5:$W$40,Editor!ET29+1,Editor!ET$36)","v":{"$error":"#VALUE!"}},{"$f":"INDEX(Editor!$C$5:$W$40,Editor!EU29+1,Editor!EU$36)","v":{"$error":"#VALUE!"}},{"$f":"INDEX(Editor!$C$5:$W$40,Editor!EV29+1,Editor!EV$36)","v":{"$error":"#VALUE!"}},{"$f":"INDEX(Editor!$C$5:$W$40,Editor!EW29+1,Editor!EW$36)","v":{"$error":"#VALUE!"}},{"$f":"INDEX(Editor!$C$5:$W$40,Editor!EX29+1,Editor!EX$36)","v":{"$error":"#VALUE!"}},{"$f":"INDEX(Editor!$C$5:$W$40,Editor!EY29+1,Editor!EY$36)","v":{"$error":"#VALUE!"}},{"$f":"INDEX(Editor!$C$5:$W$40,Editor!EZ29+1,Editor!EZ$36)","v":{"$error":"#VALUE!"}},{"$f":"INDEX(Editor!$C$5:$W$40,Editor!FA29+1,Editor!FA$36)","v":{"$error":"#VALUE!"}},{"$f":"INDEX(Editor!$C$5:$W$40,Editor!FB29+1,Editor!FB$36)","v":{"$error":"#VALUE!"}},{"$f":"INDEX(Editor!$C$5:$W$40,Editor!FC29+1,Editor!FC$36)","v":{"$error":"#VALUE!"}},{"$f":"INDEX(Editor!$C$5:$W$40,Editor!FD29+1,Editor!FD$36)","v":{"$error":"#VALUE!"}},{"$f":"INDEX(Editor!$C$5:$W$40,Editor!FE29+1,Editor!FE$36)","v":{"$error":"#VALUE!"}},{"$f":"INDEX(Editor!$C$5:$W$40,Editor!FF29+1,Editor!FF$36)","v":{"$error":"#VALUE!"}},{"$f":"INDEX(Editor!$C$5:$W$40,Editor!FG29+1,Editor!FG$36)","v":{"$error":"#VALUE!"}},{"$f":"INDEX(Editor!$C$5:$W$40,Editor!FH29+1,Editor!FH$36)","v":{"$error":"#VALUE!"}},{"$f":"INDEX(Editor!$C$5:$W$40,Editor!FI29+1,Editor!FI$36)","v":{"$error":"#VALUE!"}},{"$f":"INDEX(Editor!$C$5:$W$40,Editor!FJ29+1,Editor!FJ$36)","v":{"$error":"#VALUE!"}},{"$f":"INDEX(Editor!$C$5:$W$40,Editor!FK29+1,Editor!FK$36)","v":{"$error":"#VALUE!"}},{"$f":"INDEX(Editor!$C$5:$W$40,Editor!FL29+1,Editor!FL$36)","v":{"$error":"#VALUE!"}},{"$f":"INDEX(Editor!$C$5:$W$40,Editor!FM29+1,Editor!FM$36)","v":{"$error":"#VALUE!"}},{"$f":"INDEX(Editor!$C$5:$W$40,Editor!FN29+1,Editor!FN$36)","v":{"$error":"#VALUE!"}},{"$f":"INDEX(Editor!$C$5:$W$40,Editor!FO29+1,Editor!FO$36)","v":{"$error":"#VALUE!"}}]
[25,null,null,null,null,null,null,null,{"$f":"INDEX(Editor!$C$5:$W$40,Editor!DA30+1,Editor!DA$36)","v":{"$error":"#VALUE!"}},{"$f":"INDEX(Editor!$C$5:$W$40,Editor!DB30+1,Editor!DB$36)","v":{"$error":"#VALUE!"}},{"$f":"INDEX(Editor!$C$5:$W$40,Editor!DC30+1,Editor!DC$36)","v":{"$error":"#VALUE!"}},{"$f":"INDEX(Editor!$C$5:$W$40,Editor!DD30+1,Editor!DD$36)","v":{"$error":"#VALUE!"}},{"$f":"INDEX(Editor!$C$5:$W$40,Editor!DE30+1,Editor!DE$36)","v":{"$error":"#VALUE!"}},{"$f":"INDEX(Editor!$C$5:$W$40,Editor!DF30+1,Editor!DF$36)","v":{"$error":"#VALUE!"}},{"$f":"INDEX(Editor!$C$5:$W$40,Editor!DG30+1,Editor!DG$36)","v":{"$error":"#VALUE!"}},{"$f":"INDEX(Editor!$C$5:$W$40,Editor!DH30+1,Editor!DH$36)","v":{"$error":"#VALUE!"}},{"$f":"INDEX(Editor!$C$5:$W$40,Editor!DI30+1,Editor!DI$36)","v":{"$error":"#VALUE!"}},{"$f":"INDEX(Editor!$C$5:$W$40,Editor!DJ30+1,Editor!DJ$36)","v":{"$error":"#VALUE!"}},{"$f":"INDEX(Editor!$C$5:$W$40,Editor!DK30+1,Editor!DK$36)","v":{"$error":"#VALUE!"}},{"$f":"INDEX(Editor!$C$5:$W$40,Editor!DL30+1,Editor!DL$36)","v":{"$error":"#VALUE!"}},{"$f":"INDEX(Editor!$C$5:$W$40,Editor!DM30+1,Editor!DM$36)","v":{"$error":"#VALUE!"}},{"$f":"INDEX(Editor!$C$5:$W$40,Editor!DN30+1,Editor!DN$36)","v":{"$error":"#VALUE!"}},{"$f":"INDEX(Editor!$C$5:$W$40,Editor!DO30+1,Editor!DO$36)","v":{"$error":"#VALUE!"}},{"$f":"INDEX(Editor!$C$5:$W$40,Editor!DP30+1,Editor!DP$36)","v":{"$error":"#VALUE!"}},{"$f":"INDEX(Editor!$C$5:$W$40,Editor!DQ30+1,Editor!DQ$36)","v":{"$error":"#VALUE!"}},{"$f":"INDEX(Editor!$C$5:$W$40,Editor!DR30+1,Editor!DR$36)","v":{"$error":"#VALUE!"}},{"$f":"INDEX(Editor!$C$5:$W$40,Editor!DS30+1,Editor!DS$36)","v":{"$error":"#VALUE!"}},{"$f":"INDEX(Editor!$C$5:$W$40,Editor!DT30+1,Editor!DT$36)","v":{"$error":"#VALUE!"}},{"$f":"INDEX(Editor!$C$5:$W$40,Editor!DU30+1,Editor!DU$36)","v":{"$error":"#VALUE!"}},{"$f":"INDEX(Editor!$C$5:$W$40,Editor!DV30+1,Editor!DV$36)","v":{"$error":"#VALUE!"}},{"$f":"INDEX(Editor!$C$5:$W$40,Editor!DW30+1,Editor!DW$36)","v":{"$error":"#VALUE!"}},{"$f":"INDEX(Editor!$C$5:$W$40,Editor!DX30+1,Editor!DX$36)","v":{"$error":"#VALUE!"}},{"$f":"INDEX(Editor!$C$5:$W$40,Editor!DY30+1,Editor!DY$36)","v":{"$error":"#VALUE!"}},{"$f":"INDEX(Editor!$C$5:$W$40,Editor!DZ30+1,Editor!DZ$36)","v":{"$error":"#VALUE!"}},{"$f":"INDEX(Editor!$C$5:$W$40,Editor!EA30+1,Editor!EA$36)","v":{"$error":"#VALUE!"}},{"$f":"INDEX(Editor!$C$5:$W$40,Editor!EB30+1,Editor!EB$36)","v":{"$error":"#VALUE!"}},{"$f":"INDEX(Editor!$C$5:$W$40,Editor!EC30+1,Editor!EC$36)","v":{"$error":"#VALUE!"}},{"$f":"INDEX(Editor!$C$5:$W$40,Editor!ED30+1,Editor!ED$36)","v":{"$error":"#VALUE!"}},{"$f":"INDEX(Editor!$C$5:$W$40,Editor!EE30+1,Editor!EE$36)","v":{"$error":"#VALUE!"}},{"$f":"INDEX(Editor!$C$5:$W$40,Editor!EF30+1,Editor!EF$36)","v":{"$error":"#VALUE!"}},{"$f":"INDEX(Editor!$C$5:$W$40,Editor!EG30+1,Editor!EG$36)","v":{"$error":"#VALUE!"}},{"$f":"INDEX(Editor!$C$5:$W$40,Editor!EH30+1,Editor!EH$36)","v":{"$error":"#VALUE!"}},{"$f":"INDEX(Editor!$C$5:$W$40,Editor!EI30+1,Editor!EI$36)","v":{"$error":"#VALUE!"}},{"$f":"INDEX(Editor!$C$5:$W$40,Editor!EJ30+1,Editor!EJ$36)","v":{"$error":"#VALUE!"}},{"$f":"INDEX(Editor!$C$5:$W$40,Editor!EK30+1,Editor!EK$36)","v":{"$error":"#VALUE!"}},{"$f":"INDEX(Editor!$C$5:$W$40,Editor!EL30+1,Editor!EL$36)","v":{"$error":"#VALUE!"}},{"$f":"INDEX(Editor!$C$5:$W$40,Editor!EM30+1,Editor!EM$36)","v":{"$error":"#VALUE!"}},{"$f":"INDEX(Editor!$C$5:$W$40,Editor!EN30+1,Editor!EN$36)","v":{"$error":"#VALUE!"}},{"$f":"INDEX(Editor!$C$5:$W$40,Editor!EO30+1,Editor!EO$36)","v":{"$error":"#VALUE!"}},{"$f":"INDEX(Editor!$C$5:$W$40,Editor!EP30+1,Editor!EP$36)","v":{"$error":"#VALUE!"}},{"$f":"INDEX(Editor!$C$5:$W$40,Editor!EQ30+1,Editor!EQ$36)","v":{"$error":"#VALUE!"}},{"$f":"INDEX(Editor!$C$5:$W$40,Editor!ER30+1,Editor!ER$36)","v":{"$error":"#VALUE!"}},{"$f":"INDEX(Editor!$C$5:$W$40,Editor!ES30+1,Editor!ES$36)","v":{"$error":"#VALUE!"}},{"$f":"INDEX(Editor!$C$5:$W$40,Editor!ET30+1,Editor!ET$36)","v":{"$error":"#VALUE!"}},{"$f":"INDEX(Editor!$C$5:$W$40,Editor!EU30+1,Editor!EU$36)","v":{"$error":"#VALUE!"}},{"$f":"INDEX(Editor!$C$5:$W$40,Editor!EV30+1,Editor!EV$36)","v":{"$error":"#VALUE!"}},{"$f":"INDEX(Editor!$C$5:$W$40,Editor!EW30+1,Editor!EW$36)","v":{"$error":"#VALUE!"}},{"$f":"INDEX(Editor!$C$5:$W$40,Editor!EX30+1,Editor!EX$36)","v":{"$error":"#VALUE!"}},{"$f":"INDEX(Editor!$C$5:$W$40,Editor!EY30+1,Editor!EY$36)","v":{"$error":"#VALUE!"}},{"$f":"INDEX(Editor!$C$5:$W$40,Editor!EZ30+1,Editor!EZ$36)","v":{"$error":"#VALUE!"}},{"$f":"INDEX(Editor!$C$5:$W$40,Editor!FA30+1,Editor!FA$36)","v":{"$error":"#VALUE!"}},{"$f":"INDEX(Editor!$C$5:$W$40,Editor!FB30+1,Editor!FB$36)","v":{"$error":"#VALUE!"}},{"$f":"INDEX(Editor!$C$5:$W$40,Editor!FC30+1,Editor!FC$36)","v":{"$error":"#VALUE!"}},{"$f":"INDEX(Editor!$C$5:$W$40,Editor!FD30+1,Editor!FD$36)","v":{"$error":"#VALUE!"}},{"$f":"INDEX(Editor!$C$5:$W$40,Editor!FE30+1,Editor!FE$36)","v":{"$error":"#VALUE!"}},{"$f":"INDEX(Editor!$C$5:$W$40,Editor!FF30+1,Editor!FF$36)","v":{"$error":"#VALUE!"}},{"$f":"INDEX(Editor!$C$5:$W$40,Editor!FG30+1,Editor!FG$36)","v":{"$error":"#VALUE!"}},{"$f":"INDEX(Editor!$C$5:$W$40,Editor!FH30+1,Editor!FH$36)","v":{"$error":"#VALUE!"}},{"$f":"INDEX(Editor!$C$5:$W$40,Editor!FI30+1,Editor!FI$36)","v":{"$error":"#VALUE!"}},{"$f":"INDEX(Editor!$C$5:$W$40,Editor!FJ30+1,Editor!FJ$36)","v":{"$error":"#VALUE!"}},{"$f":"INDEX(Editor!$C$5:$W$40,Editor!FK30+1,Editor!FK$36)","v":{"$error":"#VALUE!"}},{"$f":"INDEX(Editor!$C$5:$W$40,Editor!FL30+1,Editor!FL$36)","v":{"$error":"#VALUE!"}},{"$f":"INDEX(Editor!$C$5:$W$40,Editor!FM30+1,Editor!FM$36)","v":{"$error":"#VALUE!"}},{"$f":"INDEX(Editor!$C$5:$W$40,Editor!FN30+1,Editor!FN$36)","v":{"$error":"#VALUE!"}},{"$f":"INDEX(Editor!$C$5:$W$40,Editor!FO30+1,Editor!FO$36)","v":{"$error":"#VALUE!"}}]
[26,null,null,null,null,null,null,null,{"$f":"INDEX(Editor!$C$5:$W$40,Editor!DA31+1,Editor!DA$36)","v":{"$error":"#VALUE!"}},{"$f":"INDEX(Editor!$C$5:$W$40,Editor!DB31+1,Editor!DB$36)","v":{"$error":"#VALUE!"}},{"$f":"INDEX(Editor!$C$5:$W$40,Editor!DC31+1,Editor!DC$36)","v":{"$error":"#VALUE!"}},{"$f":"INDEX(Editor!$C$5:$W$40,Editor!DD31+1,Editor!DD$36)","v":{"$error":"#VALUE!"}},{"$f":"INDEX(Editor!$C$5:$W$40,Editor!DE31+1,Editor!DE$36)","v":{"$error":"#VALUE!"}},{"$f":"INDEX(Editor!$C$5:$W$40,Editor!DF31+1,Editor!DF$36)","v":{"$error":"#VALUE!"}},{"$f":"INDEX(Editor!$C$5:$W$40,Editor!DG31+1,Editor!DG$36)","v":{"$error":"#VALUE!"}},{"$f":"INDEX(Editor!$C$5:$W$40,Editor!DH31+1,Editor!DH$36)","v":{"$error":"#VALUE!"}},{"$f":"INDEX(Editor!$C$5:$W$40,Editor!DI31+1,Editor!DI$36)","v":{"$error":"#VALUE!"}},{"$f":"INDEX(Editor!$C$5:$W$40,Editor!DJ31+1,Editor!DJ$36)","v":{"$error":"#VALUE!"}},{"$f":"INDEX(Editor!$C$5:$W$40,Editor!DK31+1,Editor!DK$36)","v":{"$error":"#VALUE!"}},{"$f":"INDEX(Editor!$C$5:$W$40,Editor!DL31+1,Editor!DL$36)","v":{"$error":"#VALUE!"}},{"$f":"INDEX(Editor!$C$5:$W$40,Editor!DM31+1,Editor!DM$36)","v":{"$error":"#VALUE!"}},{"$f":"INDEX(Editor!$C$5:$W$40,Editor!DN31+1,Editor!DN$36)","v":{"$error":"#VALUE!"}},{"$f":"INDEX(Editor!$C$5:$W$40,Editor!DO31+1,Editor!DO$36)","v":{"$error":"#VALUE!"}},{"$f":"INDEX(Editor!$C$5:$W$40,Editor!DP31+1,Editor!DP$36)","v":{"$error":"#VALUE!"}},{"$f":"INDEX(Editor!$C$5:$W$40,Editor!DQ31+1,Editor!DQ$36)","v":{"$error":"#VALUE!"}},{"$f":"INDEX(Editor!$C$5:$W$40,Editor!DR31+1,Editor!DR$36)","v":{"$error":"#VALUE!"}},{"$f":"INDEX(Editor!$C$5:$W$40,Editor!DS31+1,Editor!DS$36)","v":{"$error":"#VALUE!"}},{"$f":"INDEX(Editor!$C$5:$W$40,Editor!DT31+1,Editor!DT$36)","v":{"$error":"#VALUE!"}},{"$f":"INDEX(Editor!$C$5:$W$40,Editor!DU31+1,Editor!DU$36)","v":{"$error":"#VALUE!"}},{"$f":"INDEX(Editor!$C$5:$W$40,Editor!DV31+1,Editor!DV$36)","v":{"$error":"#VALUE!"}},{"$f":"INDEX(Editor!$C$5:$W$40,Editor!DW31+1,Editor!DW$36)","v":{"$error":"#VALUE!"}},{"$f":"INDEX(Editor!$C$5:$W$40,Editor!DX31+1,Editor!DX$36)","v":{"$error":"#VALUE!"}},{"$f":"INDEX(Editor!$C$5:$W$40,Editor!DY31+1,Editor!DY$36)","v":{"$error":"#VALUE!"}},{"$f":"INDEX(Editor!$C$5:$W$40,Editor!DZ31+1,Editor!DZ$36)","v":{"$error":"#VALUE!"}},{"$f":"INDEX(Editor!$C$5:$W$40,Editor!EA31+1,Editor!EA$36)","v":{"$error":"#VALUE!"}},{"$f":"INDEX(Editor!$C$5:$W$40,Editor!EB31+1,Editor!EB$36)","v":{"$error":"#VALUE!"}},{"$f":"INDEX(Editor!$C$5:$W$40,Editor!EC31+1,Editor!EC$36)","v":{"$error":"#VALUE!"}},{"$f":"INDEX(Editor!$C$5:$W$40,Editor!ED31+1,Editor!ED$36)","v":{"$error":"#VALUE!"}},{"$f":"INDEX(Editor!$C$5:$W$40,Editor!EE31+1,Editor!EE$36)","v":{"$error":"#VALUE!"}},{"$f":"INDEX(Editor!$C$5:$W$40,Editor!EF31+1,Editor!EF$36)","v":{"$error":"#VALUE!"}},{"$f":"INDEX(Editor!$C$5:$W$40,Editor!EG31+1,Editor!EG$36)","v":{"$error":"#VALUE!"}},{"$f":"INDEX(Editor!$C$5:$W$40,Editor!EH31+1,Editor!EH$36)","v":{"$error":"#VALUE!"}},{"$f":"INDEX(Editor!$C$5:$W$40,Editor!EI31+1,Editor!EI$36)","v":{"$error":"#VALUE!"}},{"$f":"INDEX(Editor!$C$5:$W$40,Editor!EJ31+1,Editor!EJ$36)","v":{"$error":"#VALUE!"}},{"$f":"INDEX(Editor!$C$5:$W$40,Editor!EK31+1,Editor!EK$36)","v":{"$error":"#VALUE!"}},{"$f":"INDEX(Editor!$C$5:$W$40,Editor!EL31+1,Editor!EL$36)","v":{"$error":"#VALUE!"}},{"$f":"INDEX(Editor!$C$5:$W$40,Editor!EM31+1,Editor!EM$36)","v":{"$error":"#VALUE!"}},{"$f":"INDEX(Editor!$C$5:$W$40,Editor!EN31+1,Editor!EN$36)","v":{"$error":"#VALUE!"}},{"$f":"INDEX(Editor!$C$5:$W$40,Editor!EO31+1,Editor!EO$36)","v":{"$error":"#VALUE!"}},{"$f":"INDEX(Editor!$C$5:$W$40,Editor!EP31+1,Editor!EP$36)","v":{"$error":"#VALUE!"}},{"$f":"INDEX(Editor!$C$5:$W$40,Editor!EQ31+1,Editor!EQ$36)","v":{"$error":"#VALUE!"}},{"$f":"INDEX(Editor!$C$5:$W$40,Editor!ER31+1,Editor!ER$36)","v":{"$error":"#VALUE!"}},{"$f":"INDEX(Editor!$C$5:$W$40,Editor!ES31+1,Editor!ES$36)","v":{"$error":"#VALUE!"}},{"$f":"INDEX(Editor!$C$5:$W$40,Editor!ET31+1,Editor!ET$36)","v":{"$error":"#VALUE!"}},{"$f":"INDEX(Editor!$C$5:$W$40,Editor!EU31+1,Editor!EU$36)","v":{"$error":"#VALUE!"}},{"$f":"INDEX(Editor!$C$5:$W$40,Editor!EV31+1,Editor!EV$36)","v":{"$error":"#VALUE!"}},{"$f":"INDEX(Editor!$C$5:$W$40,Editor!EW31+1,Editor!EW$36)","v":{"$error":"#VALUE!"}},{"$f":"INDEX(Editor!$C$5:$W$40,Editor!EX31+1,Editor!EX$36)","v":{"$error":"#VALUE!"}},{"$f":"INDEX(Editor!$C$5:$W$40,Editor!EY31+1,Editor!EY$36)","v":{"$error":"#VALUE!"}},{"$f":"INDEX(Editor!$C$5:$W$40,Editor!EZ31+1,Editor!EZ$36)","v":{"$error":"#VALUE!"}},{"$f":"INDEX(Editor!$C$5:$W$40,Editor!FA31+1,Editor!FA$36)","v":{"$error":"#VALUE!"}},{"$f":"INDEX(Editor!$C$5:$W$40,Editor!FB31+1,Editor!FB$36)","v":{"$error":"#VALUE!"}},{"$f":"INDEX(Editor!$C$5:$W$40,Editor!FC31+1,Editor!FC$36)","v":{"$error":"#VALUE!"}},{"$f":"INDEX(Editor!$C$5:$W$40,Editor!FD31+1,Editor!FD$36)","v":{"$error":"#VALUE!"}},{"$f":"INDEX(Editor!$C$5:$W$40,Editor!FE31+1,Editor!FE$36)","v":{"$error":"#VALUE!"}},{"$f":"INDEX(Editor!$C$5:$W$40,Editor!FF31+1,Editor!FF$36)","v":{"$error":"#VALUE!"}},{"$f":"INDEX(Editor!$C$5:$W$40,Editor!FG31+1,Editor!FG$36)","v":{"$error":"#VALUE!"}},{"$f":"INDEX(Editor!$C$5:$W$40,Editor!FH31+1,Editor!FH$36)","v":{"$error":"#VALUE!"}},{"$f":"INDEX(Editor!$C$5:$W$40,Editor!FI31+1,Editor!FI$36)","v":{"$error":"#VALUE!"}},{"$f":"INDEX(Editor!$C$5:$W$40,Editor!FJ31+1,Editor!FJ$36)","v":{"$error":"#VALUE!"}},{"$f":"INDEX(Editor!$C$5:$W$40,Editor!FK31+1,Editor!FK$36)","v":{"$error":"#VALUE!"}},{"$f":"INDEX(Editor!$C$5:$W$40,Editor!FL31+1,Editor!FL$36)","v":{"$error":"#VALUE!"}},{"$f":"INDEX(Editor!$C$5:$W$40,Editor!FM31+1,Editor!FM$36)","v":{"$error":"#VALUE!"}},{"$f":"INDEX(Editor!$C$5:$W$40,Editor!FN31+1,Editor!FN$36)","v":{"$error":"#VALUE!"}},{"$f":"INDEX(Editor!$C$5:$W$40,Editor!FO31+1,Editor!FO$36)","v":{"$error":"#VALUE!"}}]
[27,null,null,null,null,null,null,null,{"$f":"INDEX(Editor!$C$5:$W$40,Editor!DA32+1,Editor!DA$36)","v":{"$error":"#VALUE!"}},{"$f":"INDEX(Editor!$C$5:$W$40,Editor!DB32+1,Editor!DB$36)","v":{"$error":"#VALUE!"}},{"$f":"INDEX(Editor!$C$5:$W$40,Editor!DC32+1,Editor!DC$36)","v":{"$error":"#VALUE!"}},{"$f":"INDEX(Editor!$C$5:$W$40,Editor!DD32+1,Editor!DD$36)","v":{"$error":"#VALUE!"}},{"$f":"INDEX(Editor!$C$5:$W$40,Editor!DE32+1,Editor!DE$36)","v":{"$error":"#VALUE!"}},{"$f":"INDEX(Editor!$C$5:$W$40,Editor!DF32+1,Editor!DF$36)","v":{"$error":"#VALUE!"}},{"$f":"INDEX(Editor!$C$5:$W$40,Editor!DG32+1,Editor!DG$36)","v":{"$error":"#VALUE!"}},{"$f":"INDEX(Editor!$C$5:$W$40,Editor!DH32+1,Editor!DH$36)","v":{"$error":"#VALUE!"}},{"$f":"INDEX(Editor!$C$5:$W$40,Editor!DI32+1,Editor!DI$36)","v":{"$error":"#VALUE!"}},{"$f":"INDEX(Editor!$C$5:$W$40,Editor!DJ32+1,Editor!DJ$36)","v":{"$error":"#VALUE!"}},{"$f":"INDEX(Editor!$C$5:$W$40,Editor!DK32+1,Editor!DK$36)","v":{"$error":"#VALUE!"}},{"$f":"INDEX(Editor!$C$5:$W$40,Editor!DL32+1,Editor!DL$36)","v":{"$error":"#VALUE!"}},{"$f":"INDEX(Editor!$C$5:$W$40,Editor!DM32+1,Editor!DM$36)","v":{"$error":"#VALUE!"}},{"$f":"INDEX(Editor!$C$5:$W$40,Editor!DN32+1,Editor!DN$36)","v":{"$error":"#VALUE!"}},{"$f":"INDEX(Editor!$C$5:$W$40,Editor!DO32+1,Editor!DO$36)","v":{"$error":"#VALUE!"}},{"$f":"INDEX(Editor!$C$5:$W$40,Editor!DP32+1,Editor!DP$36)","v":{"$error":"#VALUE!"}},{"$f":"INDEX(Editor!$C$5:$W$40,Editor!DQ32+1,Editor!DQ$36)","v":{"$error":"#VALUE!"}},{"$f":"INDEX(Editor!$C$5:$W$40,Editor!DR32+1,Editor!DR$36)","v":{"$error":"#VALUE!"}},{"$f":"INDEX(Editor!$C$5:$W$40,Editor!DS32+1,Editor!DS$36)","v":{"$error":"#VALUE!"}},{"$f":"INDEX(Editor!$C$5:$W$40,Editor!DT32+1,Editor!DT$36)","v":{"$error":"#VALUE!"}},{"$f":"INDEX(Editor!$C$5:$W$40,Editor!DU32+1,Editor!DU$36)","v":{"$error":"#VALUE!"}},{"$f":"INDEX(Editor!$C$5:$W$40,Editor!DV32+1,Editor!DV$36)","v":{"$error":"#VALUE!"}},{"$f":"INDEX(Editor!$C$5:$W$40,Editor!DW32+1,Editor!DW$36)","v":{"$error":"#VALUE!"}},{"$f":"INDEX(Editor!$C$5:$W$40,Editor!DX32+1,Editor!DX$36)","v":{"$error":"#VALUE!"}},{"$f":"INDEX(Editor!$C$5:$W$40,Editor!DY32+1,Editor!DY$36)","v":{"$error":"#VALUE!"}},{"$f":"INDEX(Editor!$C$5:$W$40,Editor!DZ32+1,Editor!DZ$36)","v":{"$error":"#VALUE!"}},{"$f":"INDEX(Editor!$C$5:$W$40,Editor!EA32+1,Editor!EA$36)","v":{"$error":"#VALUE!"}},{"$f":"INDEX(Editor!$C$5:$W$40,Editor!EB32+1,Editor!EB$36)","v":{"$error":"#VALUE!"}},{"$f":"INDEX(Editor!$C$5:$W$40,Editor!EC32+1,Editor!EC$36)","v":{"$error":"#VALUE!"}},{"$f":"INDEX(Editor!$C$5:$W$40,Editor!ED32+1,Editor!ED$36)","v":{"$error":"#VALUE!"}},{"$f":"INDEX(Editor!$C$5:$W$40,Editor!EE32+1,Editor!EE$36)","v":{"$error":"#VALUE!"}},{"$f":"INDEX(Editor!$C$5:$W$40,Editor!EF32+1,Editor!EF$36)","v":{"$error":"#VALUE!"}},{"$f":"INDEX(Editor!$C$5:$W$40,Editor!EG32+1,Editor!EG$36)","v":{"$error":"#VALUE!"}},{"$f":"INDEX(Editor!$C$5:$W$40,Editor!EH32+1,Editor!EH$36)","v":{"$error":"#VALUE!"}},{"$f":"INDEX(Editor!$C$5:$W$40,Editor!EI32+1,Editor!EI$36)","v":{"$error":"#VALUE!"}},{"$f":"INDEX(Editor!$C$5:$W$40,Editor!EJ32+1,Editor!EJ$36)","v":{"$error":"#VALUE!"}},{"$f":"INDEX(Editor!$C$5:$W$40,Editor!EK32+1,Editor!EK$36)","v":{"$error":"#VALUE!"}},{"$f":"INDEX(Editor!$C$5:$W$40,Editor!EL32+1,Editor!EL$36)","v":{"$error":"#VALUE!"}},{"$f":"INDEX(Editor!$C$5:$W$40,Editor!EM32+1,Editor!EM$36)","v":{"$error":"#VALUE!"}},{"$f":"INDEX(Editor!$C$5:$W$40,Editor!EN32+1,Editor!EN$36)","v":{"$error":"#VALUE!"}},{"$f":"INDEX(Editor!$C$5:$W$40,Editor!EO32+1,Editor!EO$36)","v":{"$error":"#VALUE!"}},{"$f":"INDEX(Editor!$C$5:$W$40,Editor!EP32+1,Editor!EP$36)","v":{"$error":"#VALUE!"}},{"$f":"INDEX(Editor!$C$5:$W$40,Editor!EQ32+1,Editor!EQ$36)","v":{"$error":"#VALUE!"}},{"$f":"INDEX(Editor!$C$5:$W$40,Editor!ER32+1,Editor!ER$36)","v":{"$error":"#VALUE!"}},{"$f":"INDEX(Editor!$C$5:$W$40,Editor!ES32+1,Editor!ES$36)","v":{"$error":"#VALUE!"}},{"$f":"INDEX(Editor!$C$5:$W$40,Editor!ET32+1,Editor!ET$36)","v":{"$error":"#VALUE!"}},{"$f":"INDEX(Editor!$C$5:$W$40,Editor!EU32+1,Editor!EU$36)","v":{"$error":"#VALUE!"}},{"$f":"INDEX(Editor!$C$5:$W$40,Editor!EV32+1,Editor!EV$36)","v":{"$error":"#VALUE!"}},{"$f":"INDEX(Editor!$C$5:$W$40,Editor!EW32+1,Editor!EW$36)","v":{"$error":"#VALUE!"}},{"$f":"INDEX(Editor!$C$5:$W$40,Editor!EX32+1,Editor!EX$36)","v":{"$error":"#VALUE!"}},{"$f":"INDEX(Editor!$C$5:$W$40,Editor!EY32+1,Editor!EY$36)","v":{"$error":"#VALUE!"}},{"$f":"INDEX(Editor!$C$5:$W$40,Editor!EZ32+1,Editor!EZ$36)","v":{"$error":"#VALUE!"}},{"$f":"INDEX(Editor!$C$5:$W$40,Editor!FA32+1,Editor!FA$36)","v":{"$error":"#VALUE!"}},{"$f":"INDEX(Editor!$C$5:$W$40,Editor!FB32+1,Editor!FB$36)","v":{"$error":"#VALUE!"}},{"$f":"INDEX(Editor!$C$5:$W$40,Editor!FC32+1,Editor!FC$36)","v":{"$error":"#VALUE!"}},{"$f":"INDEX(Editor!$C$5:$W$40,Editor!FD32+1,Editor!FD$36)","v":{"$error":"#VALUE!"}},{"$f":"INDEX(Editor!$C$5:$W$40,Editor!FE32+1,Editor!FE$36)","v":{"$error":"#VALUE!"}},{"$f":"INDEX(Editor!$C$5:$W$40,Editor!FF32+1,Editor!FF$36)","v":{"$error":"#VALUE!"}},{"$f":"INDEX(Editor!$C$5:$W$40,Editor!FG32+1,Editor!FG$36)","v":{"$error":"#VALUE!"}},{"$f":"INDEX(Editor!$C$5:$W$40,Editor!FH32+1,Editor!FH$36)","v":{"$error":"#VALUE!"}},{"$f":"INDEX(Editor!$C$5:$W$40,Editor!FI32+1,Editor!FI$36)","v":{"$error":"#VALUE!"}},{"$f":"INDEX(Editor!$C$5:$W$40,Editor!FJ32+1,Editor!FJ$36)","v":{"$error":"#VALUE!"}},{"$f":"INDEX(Editor!$C$5:$W$40,Editor!FK32+1,Editor!FK$36)","v":{"$error":"#VALUE!"}},{"$f":"INDEX(Editor!$C$5:$W$40,Editor!FL32+1,Editor!FL$36)","v":{"$error":"#VALUE!"}},{"$f":"INDEX(Editor!$C$5:$W$40,Editor!FM32+1,Editor!FM$36)","v":{"$error":"#VALUE!"}},{"$f":"INDEX(Editor!$C$5:$W$40,Editor!FN32+1,Editor!FN$36)","v":{"$error":"#VALUE!"}},{"$f":"INDEX(Editor!$C$5:$W$40,Editor!FO32+1,Editor!FO$36)","v":{"$error":"#VALUE!"}}]
[28,null,null,null,null,null,null,null,{"$f":"INDEX(Editor!$C$5:$W$40,Editor!DA33+1,Editor!DA$36)","v":{"$error":"#VALUE!"}},{"$f":"INDEX(Editor!$C$5:$W$40,Editor!DB33+1,Editor!DB$36)","v":{"$error":"#VALUE!"}},{"$f":"INDEX(Editor!$C$5:$W$40,Editor!DC33+1,Editor!DC$36)","v":{"$error":"#VALUE!"}},{"$f":"INDEX(Editor!$C$5:$W$40,Editor!DD33+1,Editor!DD$36)","v":{"$error":"#VALUE!"}},{"$f":"INDEX(Editor!$C$5:$W$40,Editor!DE33+1,Editor!DE$36)","v":{"$error":"#VALUE!"}},{"$f":"INDEX(Editor!$C$5:$W$40,Editor!DF33+1,Editor!DF$36)","v":{"$error":"#VALUE!"}},{"$f":"INDEX(Editor!$C$5:$W$40,Editor!DG33+1,Editor!DG$36)","v":{"$error":"#VALUE!"}},{"$f":"INDEX(Editor!$C$5:$W$40,Editor!DH33+1,Editor!DH$36)","v":{"$error":"#VALUE!"}},{"$f":"INDEX(Editor!$C$5:$W$40,Editor!DI33+1,Editor!DI$36)","v":{"$error":"#VALUE!"}},{"$f":"INDEX(Editor!$C$5:$W$40,Editor!DJ33+1,Editor!DJ$36)","v":{"$error":"#VALUE!"}},{"$f":"INDEX(Editor!$C$5:$W$40,Editor!DK33+1,Editor!DK$36)","v":{"$error":"#VALUE!"}},{"$f":"INDEX(Editor!$C$5:$W$40,Editor!DL33+1,Editor!DL$36)","v":{"$error":"#VALUE!"}},{"$f":"INDEX(Editor!$C$5:$W$40,Editor!DM33+1,Editor!DM$36)","v":{"$error":"#VALUE!"}},{"$f":"INDEX(Editor!$C$5:$W$40,Editor!DN33+1,Editor!DN$36)","v":{"$error":"#VALUE!"}},{"$f":"INDEX(Editor!$C$5:$W$40,Editor!DO33+1,Editor!DO$36)","v":{"$error":"#VALUE!"}},{"$f":"INDEX(Editor!$C$5:$W$40,Editor!DP33+1,Editor!DP$36)","v":{"$error":"#VALUE!"}},{"$f":"INDEX(Editor!$C$5:$W$40,Editor!DQ33+1,Editor!DQ$36)","v":{"$error":"#VALUE!"}},{"$f":"INDEX(Editor!$C$5:$W$40,Editor!DR33+1,Editor!DR$36)","v":{"$error":"#VALUE!"}},{"$f":"INDEX(Editor!$C$5:$W$40,Editor!DS33+1,Editor!DS$36)","v":{"$error":"#VALUE!"}},{"$f":"INDEX(Editor!$C$5:$W$40,Editor!DT33+1,Editor!DT$36)","v":{"$error":"#VALUE!"}},{"$f":"INDEX(Editor!$C$5:$W$40,Editor!DU33+1,Editor!DU$36)","v":{"$error":"#VALUE!"}},{"$f":"INDEX(Editor!$C$5:$W$40,Editor!DV33+1,Editor!DV$36)","v":{"$error":"#VALUE!"}},{"$f":"INDEX(Editor!$C$5:$W$40,Editor!DW33+1,Editor!DW$36)","v":{"$error":"#VALUE!"}},{"$f":"INDEX(Editor!$C$5:$W$40,Editor!DX33+1,Editor!DX$36)","v":{"$error":"#VALUE!"}},{"$f":"INDEX(Editor!$C$5:$W$40,Editor!DY33+1,Editor!DY$36)","v":{"$error":"#VALUE!"}},{"$f":"INDEX(Editor!$C$5:$W$40,Editor!DZ33+1,Editor!DZ$36)","v":{"$error":"#VALUE!"}},{"$f":"INDEX(Editor!$C$5:$W$40,Editor!EA33+1,Editor!EA$36)","v":{"$error":"#VALUE!"}},{"$f":"INDEX(Editor!$C$5:$W$40,Editor!EB33+1,Editor!EB$36)","v":{"$error":"#VALUE!"}},{"$f":"INDEX(Editor!$C$5:$W$40,Editor!EC33+1,Editor!EC$36)","v":{"$error":"#VALUE!"}},{"$f":"INDEX(Editor!$C$5:$W$40,Editor!ED33+1,Editor!ED$36)","v":{"$error":"#VALUE!"}},{"$f":"INDEX(Editor!$C$5:$W$40,Editor!EE33+1,Editor!EE$36)","v":{"$error":"#VALUE!"}},{"$f":"INDEX(Editor!$C$5:$W$40,Editor!EF33+1,Editor!EF$36)","v":{"$error":"#VALUE!"}},{"$f":"INDEX(Editor!$C$5:$W$40,Editor!EG33+1,Editor!EG$36)","v":{"$error":"#VALUE!"}},{"$f":"INDEX(Editor!$C$5:$W$40,Editor!EH33+1,Editor!EH$36)","v":{"$error":"#VALUE!"}},{"$f":"INDEX(Editor!$C$5:$W$40,Editor!EI33+1,Editor!EI$36)","v":{"$error":"#VALUE!"}},{"$f":"INDEX(Editor!$C$5:$W$40,Editor!EJ33+1,Editor!EJ$36)","v":{"$error":"#VALUE!"}},{"$f":"INDEX(Editor!$C$5:$W$40,Editor!EK33+1,Editor!EK$36)","v":{"$error":"#VALUE!"}},{"$f":"INDEX(Editor!$C$5:$W$40,Editor!EL33+1,Editor!EL$36)","v":{"$error":"#VALUE!"}},{"$f":"INDEX(Editor!$C$5:$W$40,Editor!EM33+1,Editor!EM$36)","v":{"$error":"#VALUE!"}},{"$f":"INDEX(Editor!$C$5:$W$40,Editor!EN33+1,Editor!EN$36)","v":{"$error":"#VALUE!"}},{"$f":"INDEX(Editor!$C$5:$W$40,Editor!EO33+1,Editor!EO$36)","v":{"$error":"#VALUE!"}},{"$f":"INDEX(Editor!$C$5:$W$40,Editor!EP33+1,Editor!EP$36)","v":{"$error":"#VALUE!"}},{"$f":"INDEX(Editor!$C$5:$W$40,Editor!EQ33+1,Editor!EQ$36)","v":{"$error":"#VALUE!"}},{"$f":"INDEX(Editor!$C$5:$W$40,Editor!ER33+1,Editor!ER$36)","v":{"$error":"#VALUE!"}},{"$f":"INDEX(Editor!$C$5:$W$40,Editor!ES33+1,Editor!ES$36)","v":{"$error":"#VALUE!"}},{"$f":"INDEX(Editor!$C$5:$W$40,Editor!ET33+1,Editor!ET$36)","v":{"$error":"#VALUE!"}},{"$f":"INDEX(Editor!$C$5:$W$40,Editor!EU33+1,Editor!EU$36)","v":{"$error":"#VALUE!"}},{"$f":"INDEX(Editor!$C$5:$W$40,Editor!EV33+1,Editor!EV$36)","v":{"$error":"#VALUE!"}},{"$f":"INDEX(Editor!$C$5:$W$40,Editor!EW33+1,Editor!EW$36)","v":{"$error":"#VALUE!"}},{"$f":"INDEX(Editor!$C$5:$W$40,Editor!EX33+1,Editor!EX$36)","v":{"$error":"#VALUE!"}},{"$f":"INDEX(Editor!$C$5:$W$40,Editor!EY33+1,Editor!EY$36)","v":{"$error":"#VALUE!"}},{"$f":"INDEX(Editor!$C$5:$W$40,Editor!EZ33+1,Editor!EZ$36)","v":{"$error":"#VALUE!"}},{"$f":"INDEX(Editor!$C$5:$W$40,Editor!FA33+1,Editor!FA$36)","v":{"$error":"#VALUE!"}},{"$f":"INDEX(Editor!$C$5:$W$40,Editor!FB33+1,Editor!FB$36)","v":{"$error":"#VALUE!"}},{"$f":"INDEX(Editor!$C$5:$W$40,Editor!FC33+1,Editor!FC$36)","v":{"$error":"#VALUE!"}},{"$f":"INDEX(Editor!$C$5:$W$40,Editor!FD33+1,Editor!FD$36)","v":{"$error":"#VALUE!"}},{"$f":"INDEX(Editor!$C$5:$W$40,Editor!FE33+1,Editor!FE$36)","v":{"$error":"#VALUE!"}},{"$f":"INDEX(Editor!$C$5:$W$40,Editor!FF33+1,Editor!FF$36)","v":{"$error":"#VALUE!"}},{"$f":"INDEX(Editor!$C$5:$W$40,Editor!FG33+1,Editor!FG$36)","v":{"$error":"#VALUE!"}},{"$f":"INDEX(Editor!$C$5:$W$40,Editor!FH33+1,Editor!FH$36)","v":{"$error":"#VALUE!"}},{"$f":"INDEX(Editor!$C$5:$W$40,Editor!FI33+1,Editor!FI$36)","v":{"$error":"#VALUE!"}},{"$f":"INDEX(Editor!$C$5:$W$40,Editor!FJ33+1,Editor!FJ$36)","v":{"$error":"#VALUE!"}},{"$f":"INDEX(Editor!$C$5:$W$40,Editor!FK33+1,Editor!FK$36)","v":{"$error":"#VALUE!"}},{"$f":"INDEX(Editor!$C$5:$W$40,Editor!FL33+1,Editor!FL$36)","v":{"$error":"#VALUE!"}},{"$f":"INDEX(Editor!$C$5:$W$40,Editor!FM33+1,Editor!FM$36)","v":{"$error":"#VALUE!"}},{"$f":"INDEX(Editor!$C$5:$W$40,Editor!FN33+1,Editor!FN$36)","v":{"$error":"#VALUE!"}},{"$f":"INDEX(Editor!$C$5:$W$40,Editor!FO33+1,Editor!FO$36)","v":{"$error":"#VALUE!"}}]
[29,null,null,null,null,null,null,null,{"$f":"INDEX(Editor!$C$5:$W$40,Editor!DA34+1,Editor!DA$36)","v":{"$error":"#VALUE!"}},{"$f":"INDEX(Editor!$C$5:$W$40,Editor!DB34+1,Editor!DB$36)","v":{"$error":"#VALUE!"}},{"$f":"INDEX(Editor!$C$5:$W$40,Editor!DC34+1,Editor!DC$36)","v":{"$error":"#VALUE!"}},{"$f":"INDEX(Editor!$C$5:$W$40,Editor!DD34+1,Editor!DD$36)","v":{"$error":"#VALUE!"}},{"$f":"INDEX(Editor!$C$5:$W$40,Editor!DE34+1,Editor!DE$36)","v":{"$error":"#VALUE!"}},{"$f":"INDEX(Editor!$C$5:$W$40,Editor!DF34+1,Editor!DF$36)","v":{"$error":"#VALUE!"}},{"$f":"INDEX(Editor!$C$5:$W$40,Editor!DG34+1,Editor!DG$36)","v":{"$error":"#VALUE!"}},{"$f":"INDEX(Editor!$C$5:$W$40,Editor!DH34+1,Editor!DH$36)","v":{"$error":"#VALUE!"}},{"$f":"INDEX(Editor!$C$5:$W$40,Editor!DI34+1,Editor!DI$36)","v":{"$error":"#VALUE!"}},{"$f":"INDEX(Editor!$C$5:$W$40,Editor!DJ34+1,Editor!DJ$36)","v":{"$error":"#VALUE!"}},{"$f":"INDEX(Editor!$C$5:$W$40,Editor!DK34+1,Editor!DK$36)","v":{"$error":"#VALUE!"}},{"$f":"INDEX(Editor!$C$5:$W$40,Editor!DL34+1,Editor!DL$36)","v":{"$error":"#VALUE!"}},{"$f":"INDEX(Editor!$C$5:$W$40,Editor!DM34+1,Editor!DM$36)","v":{"$error":"#VALUE!"}},{"$f":"INDEX(Editor!$C$5:$W$40,Editor!DN34+1,Editor!DN$36)","v":{"$error":"#VALUE!"}},{"$f":"INDEX(Editor!$C$5:$W$40,Editor!DO34+1,Editor!DO$36)","v":{"$error":"#VALUE!"}},{"$f":"INDEX(Editor!$C$5:$W$40,Editor!DP34+1,Editor!DP$36)","v":{"$error":"#VALUE!"}},{"$f":"INDEX(Editor!$C$5:$W$40,Editor!DQ34+1,Editor!DQ$36)","v":{"$error":"#VALUE!"}},{"$f":"INDEX(Editor!$C$5:$W$40,Editor!DR34+1,Editor!DR$36)","v":{"$error":"#VALUE!"}},{"$f":"INDEX(Editor!$C$5:$W$40,Editor!DS34+1,Editor!DS$36)","v":{"$error":"#VALUE!"}},{"$f":"INDEX(Editor!$C$5:$W$40,Editor!DT34+1,Editor!DT$36)","v":{"$error":"#VALUE!"}},{"$f":"INDEX(Editor!$C$5:$W$40,Editor!DU34+1,Editor!DU$36)","v":{"$error":"#VALUE!"}},{"$f":"INDEX(Editor!$C$5:$W$40,Editor!DV34+1,Editor!DV$36)","v":{"$error":"#VALUE!"}},{"$f":"INDEX(Editor!$C$5:$W$40,Editor!DW34+1,Editor!DW$36)","v":{"$error":"#VALUE!"}},{"$f":"INDEX(Editor!$C$5:$W$40,Editor!DX34+1,Editor!DX$36)","v":{"$error":"#VALUE!"}},{"$f":"INDEX(Editor!$C$5:$W$40,Editor!DY34+1,Editor!DY$36)","v":{"$error":"#VALUE!"}},{"$f":"INDEX(Editor!$C$5:$W$40,Editor!DZ34+1,Editor!DZ$36)","v":{"$error":"#VALUE!"}},{"$f":"INDEX(Editor!$C$5:$W$40,Editor!EA34+1,Editor!EA$36)","v":{"$error":"#VALUE!"}},{"$f":"INDEX(Editor!$C$5:$W$40,Editor!EB34+1,Editor!EB$36)","v":{"$error":"#VALUE!"}},{"$f":"INDEX(Editor!$C$5:$W$40,Editor!EC34+1,Editor!EC$36)","v":{"$error":"#VALUE!"}},{"$f":"INDEX(Editor!$C$5:$W$40,Editor!ED34+1,Editor!ED$36)","v":{"$error":"#VALUE!"}},{"$f":"INDEX(Editor!$C$5:$W$40,Editor!EE34+1,Editor!EE$36)","v":{"$error":"#VALUE!"}},{"$f":"INDEX(Editor!$C$5:$W$40,Editor!EF34+1,Editor!EF$36)","v":{"$error":"#VALUE!"}},{"$f":"INDEX(Editor!$C$5:$W$40,Editor!EG34+1,Editor!EG$36)","v":{"$error":"#VALUE!"}},{"$f":"INDEX(Editor!$C$5:$W$40,Editor!EH34+1,Editor!EH$36)","v":{"$error":"#VALUE!"}},{"$f":"INDEX(Editor!$C$5:$W$40,Editor!EI34+1,Editor!EI$36)","v":{"$error":"#VALUE!"}},{"$f":"INDEX(Editor!$C$5:$W$40,Editor!EJ34+1,Editor!EJ$36)","v":{"$error":"#VALUE!"}},{"$f":"INDEX(Editor!$C$5:$W$40,Editor!EK34+1,Editor!EK$36)","v":{"$error":"#VALUE!"}},{"$f":"INDEX(Editor!$C$5:$W$40,Editor!EL34+1,Editor!EL$36)","v":{"$error":"#VALUE!"}},{"$f":"INDEX(Editor!$C$5:$W$40,Editor!EM34+1,Editor!EM$36)","v":{"$error":"#VALUE!"}},{"$f":"INDEX(Editor!$C$5:$W$40,Editor!EN34+1,Editor!EN$36)","v":{"$error":"#VALUE!"}},{"$f":"INDEX(Editor!$C$5:$W$40,Editor!EO34+1,Editor!EO$36)","v":{"$error":"#VALUE!"}},{"$f":"INDEX(Editor!$C$5:$W$40,Editor!EP34+1,Editor!EP$36)","v":{"$error":"#VALUE!"}},{"$f":"INDEX(Editor!$C$5:$W$40,Editor!EQ34+1,Editor!EQ$36)","v":{"$error":"#VALUE!"}},{"$f":"INDEX(Editor!$C$5:$W$40,Editor!ER34+1,Editor!ER$36)","v":{"$error":"#VALUE!"}},{"$f":"INDEX(Editor!$C$5:$W$40,Editor!ES34+1,Editor!ES$36)","v":{"$error":"#VALUE!"}},{"$f":"INDEX(Editor!$C$5:$W$40,Editor!ET34+1,Editor!ET$36)","v":{"$error":"#VALUE!"}},{"$f":"INDEX(Editor!$C$5:$W$40,Editor!EU34+1,Editor!EU$36)","v":{"$error":"#VALUE!"}},{"$f":"INDEX(Editor!$C$5:$W$40,Editor!EV34+1,Editor!EV$36)","v":{"$error":"#VALUE!"}},{"$f":"INDEX(Editor!$C$5:$W$40,Editor!EW34+1,Editor!EW$36)","v":{"$error":"#VALUE!"}},{"$f":"INDEX(Editor!$C$5:$W$40,Editor!EX34+1,Editor!EX$36)","v":{"$error":"#VALUE!"}},{"$f":"INDEX(Editor!$C$5:$W$40,Editor!EY34+1,Editor!EY$36)","v":{"$error":"#VALUE!"}},{"$f":"INDEX(Editor!$C$5:$W$40,Editor!EZ34+1,Editor!EZ$36)","v":{"$error":"#VALUE!"}},{"$f":"INDEX(Editor!$C$5:$W$40,Editor!FA34+1,Editor!FA$36)","v":{"$error":"#VALUE!"}},{"$f":"INDEX(Editor!$C$5:$W$40,Editor!FB34+1,Editor!FB$36)","v":{"$error":"#VALUE!"}},{"$f":"INDEX(Editor!$C$5:$W$40,Editor!FC34+1,Editor!FC$36)","v":{"$error":"#VALUE!"}},{"$f":"INDEX(Editor!$C$5:$W$40,Editor!FD34+1,Editor!FD$36)","v":{"$error":"#VALUE!"}},{"$f":"INDEX(Editor!$C$5:$W$40,Editor!FE34+1,Editor!FE$36)","v":{"$error":"#VALUE!"}},{"$f":"INDEX(Editor!$C$5:$W$40,Editor!FF34+1,Editor!FF$36)","v":{"$error":"#VALUE!"}},{"$f":"INDEX(Editor!$C$5:$W$40,Editor!FG34+1,Editor!FG$36)","v":{"$error":"#VALUE!"}},{"$f":"INDEX(Editor!$C$5:$W$40,Editor!FH34+1,Editor!FH$36)","v":{"$error":"#VALUE!"}},{"$f":"INDEX(Editor!$C$5:$W$40,Editor!FI34+1,Editor!FI$36)","v":{"$error":"#VALUE!"}},{"$f":"INDEX(Editor!$C$5:$W$40,Editor!FJ34+1,Editor!FJ$36)","v":{"$error":"#VALUE!"}},{"$f":"INDEX(Editor!$C$5:$W$40,Editor!FK34+1,Editor!FK$36)","v":{"$error":"#VALUE!"}},{"$f":"INDEX(Editor!$C$5:$W$40,Editor!FL34+1,Editor!FL$36)","v":{"$error":"#VALUE!"}},{"$f":"INDEX(Editor!$C$5:$W$40,Editor!FM34+1,Editor!FM$36)","v":{"$error":"#VALUE!"}},{"$f":"INDEX(Editor!$C$5:$W$40,Editor!FN34+1,Editor!FN$36)","v":{"$error":"#VALUE!"}},{"$f":"INDEX(Editor!$C$5:$W$40,Editor!FO34+1,Editor!FO$36)","v":{"$error":"#VALUE!"}}]
[30,null,null,null,null,null,null,null,{"$f":"INDEX(Editor!$C$5:$W$40,Editor!DA35+1,Editor!DA$36)","v":{"$error":"#VALUE!"}},{"$f":"INDEX(Editor!$C$5:$W$40,Editor!DB35+1,Editor!DB$36)","v":{"$error":"#VALUE!"}},{"$f":"INDEX(Editor!$C$5:$W$40,Editor!DC35+1,Editor!DC$36)","v":{"$error":"#VALUE!"}},{"$f":"INDEX(Editor!$C$5:$W$40,Editor!DD35+1,Editor!DD$36)","v":{"$error":"#VALUE!"}},{"$f":"INDEX(Editor!$C$5:$W$40,Editor!DE35+1,Editor!DE$36)","v":{"$error":"#VALUE!"}},{"$f":"INDEX(Editor!$C$5:$W$40,Editor!DF35+1,Editor!DF$36)","v":{"$error":"#VALUE!"}},{"$f":"INDEX(Editor!$C$5:$W$40,Editor!DG35+1,Editor!DG$36)","v":{"$error":"#VALUE!"}},{"$f":"INDEX(Editor!$C$5:$W$40,Editor!DH35+1,Editor!DH$36)","v":{"$error":"#VALUE!"}},{"$f":"INDEX(Editor!$C$5:$W$40,Editor!DI35+1,Editor!DI$36)","v":{"$error":"#VALUE!"}},{"$f":"INDEX(Editor!$C$5:$W$40,Editor!DJ35+1,Editor!DJ$36)","v":{"$error":"#VALUE!"}},{"$f":"INDEX(Editor!$C$5:$W$40,Editor!DK35+1,Editor!DK$36)","v":{"$error":"#VALUE!"}},{"$f":"INDEX(Editor!$C$5:$W$40,Editor!DL35+1,Editor!DL$36)","v":{"$error":"#VALUE!"}},{"$f":"INDEX(Editor!$C$5:$W$40,Editor!DM35+1,Editor!DM$36)","v":{"$error":"#VALUE!"}},{"$f":"INDEX(Editor!$C$5:$W$40,Editor!DN35+1,Editor!DN$36)","v":{"$error":"#VALUE!"}},{"$f":"INDEX(Editor!$C$5:$W$40,Editor!DO35+1,Editor!DO$36)","v":{"$error":"#VALUE!"}},{"$f":"INDEX(Editor!$C$5:$W$40,Editor!DP35+1,Editor!DP$36)","v":{"$error":"#VALUE!"}},{"$f":"INDEX(Editor!$C$5:$W$40,Editor!DQ35+1,Editor!DQ$36)","v":{"$error":"#VALUE!"}},{"$f":"INDEX(Editor!$C$5:$W$40,Editor!DR35+1,Editor!DR$36)","v":{"$error":"#VALUE!"}},{"$f":"INDEX(Editor!$C$5:$W$40,Editor!DS35+1,Editor!DS$36)","v":{"$error":"#VALUE!"}},{"$f":"INDEX(Editor!$C$5:$W$40,Editor!DT35+1,Editor!DT$36)","v":{"$error":"#VALUE!"}},{"$f":"INDEX(Editor!$C$5:$W$40,Editor!DU35+1,Editor!DU$36)","v":{"$error":"#VALUE!"}},{"$f":"INDEX(Editor!$C$5:$W$40,Editor!DV35+1,Editor!DV$36)","v":{"$error":"#VALUE!"}},{"$f":"INDEX(Editor!$C$5:$W$40,Editor!DW35+1,Editor!DW$36)","v":{"$error":"#VALUE!"}},{"$f":"INDEX(Editor!$C$5:$W$40,Editor!DX35+1,Editor!DX$36)","v":{"$error":"#VALUE!"}},{"$f":"INDEX(Editor!$C$5:$W$40,Editor!DY35+1,Editor!DY$36)","v":{"$error":"#VALUE!"}},{"$f":"INDEX(Editor!$C$5:$W$40,Editor!DZ35+1,Editor!DZ$36)","v":{"$error":"#VALUE!"}},{"$f":"INDEX(Editor!$C$5:$W$40,Editor!EA35+1,Editor!EA$36)","v":{"$error":"#VALUE!"}},{"$f":"INDEX(Editor!$C$5:$W$40,Editor!EB35+1,Editor!EB$36)","v":{"$error":"#VALUE!"}},{"$f":"INDEX(Editor!$C$5:$W$40,Editor!EC35+1,Editor!EC$36)","v":{"$error":"#VALUE!"}},{"$f":"INDEX(Editor!$C$5:$W$40,Editor!ED35+1,Editor!ED$36)","v":{"$error":"#VALUE!"}},{"$f":"INDEX(Editor!$C$5:$W$40,Editor!EE35+1,Editor!EE$36)","v":{"$error":"#VALUE!"}},{"$f":"INDEX(Editor!$C$5:$W$40,Editor!EF35+1,Editor!EF$36)","v":{"$error":"#VALUE!"}},{"$f":"INDEX(Editor!$C$5:$W$40,Editor!EG35+1,Editor!EG$36)","v":{"$error":"#VALUE!"}},{"$f":"INDEX(Editor!$C$5:$W$40,Editor!EH35+1,Editor!EH$36)","v":{"$error":"#VALUE!"}},{"$f":"INDEX(Editor!$C$5:$W$40,Editor!EI35+1,Editor!EI$36)","v":{"$error":"#VALUE!"}},{"$f":"INDEX(Editor!$C$5:$W$40,Editor!EJ35+1,Editor!EJ$36)","v":{"$error":"#VALUE!"}},{"$f":"INDEX(Editor!$C$5:$W$40,Editor!EK35+1,Editor!EK$36)","v":{"$error":"#VALUE!"}},{"$f":"INDEX(Editor!$C$5:$W$40,Editor!EL35+1,Editor!EL$36)","v":{"$error":"#VALUE!"}},{"$f":"INDEX(Editor!$C$5:$W$40,Editor!EM35+1,Editor!EM$36)","v":{"$error":"#VALUE!"}},{"$f":"INDEX(Editor!$C$5:$W$40,Editor!EN35+1,Editor!EN$36)","v":{"$error":"#VALUE!"}},{"$f":"INDEX(Editor!$C$5:$W$40,Editor!EO35+1,Editor!EO$36)","v":{"$error":"#VALUE!"}},{"$f":"INDEX(Editor!$C$5:$W$40,Editor!EP35+1,Editor!EP$36)","v":{"$error":"#VALUE!"}},{"$f":"INDEX(Editor!$C$5:$W$40,Editor!EQ35+1,Editor!EQ$36)","v":{"$error":"#VALUE!"}},{"$f":"INDEX(Editor!$C$5:$W$40,Editor!ER35+1,Editor!ER$36)","v":{"$error":"#VALUE!"}},{"$f":"INDEX(Editor!$C$5:$W$40,Editor!ES35+1,Editor!ES$36)","v":{"$error":"#VALUE!"}},{"$f":"INDEX(Editor!$C$5:$W$40,Editor!ET35+1,Editor!ET$36)","v":{"$error":"#VALUE!"}},{"$f":"INDEX(Editor!$C$5:$W$40,Editor!EU35+1,Editor!EU$36)","v":{"$error":"#VALUE!"}},{"$f":"INDEX(Editor!$C$5:$W$40,Editor!EV35+1,Editor!EV$36)","v":{"$error":"#VALUE!"}},{"$f":"INDEX(Editor!$C$5:$W$40,Editor!EW35+1,Editor!EW$36)","v":{"$error":"#VALUE!"}},{"$f":"INDEX(Editor!$C$5:$W$40,Editor!EX35+1,Editor!EX$36)","v":{"$error":"#VALUE!"}},{"$f":"INDEX(Editor!$C$5:$W$40,Editor!EY35+1,Editor!EY$36)","v":{"$error":"#VALUE!"}},{"$f":"INDEX(Editor!$C$5:$W$40,Editor!EZ35+1,Editor!EZ$36)","v":{"$error":"#VALUE!"}},{"$f":"INDEX(Editor!$C$5:$W$40,Editor!FA35+1,Editor!FA$36)","v":{"$error":"#VALUE!"}},{"$f":"INDEX(Editor!$C$5:$W$40,Editor!FB35+1,Editor!FB$36)","v":{"$error":"#VALUE!"}},{"$f":"INDEX(Editor!$C$5:$W$40,Editor!FC35+1,Editor!FC$36)","v":{"$error":"#VALUE!"}},{"$f":"INDEX(Editor!$C$5:$W$40,Editor!FD35+1,Editor!FD$36)","v":{"$error":"#VALUE!"}},{"$f":"INDEX(Editor!$C$5:$W$40,Editor!FE35+1,Editor!FE$36)","v":{"$error":"#VALUE!"}},{"$f":"INDEX(Editor!$C$5:$W$40,Editor!FF35+1,Editor!FF$36)","v":{"$error":"#VALUE!"}},{"$f":"INDEX(Editor!$C$5:$W$40,Editor!FG35+1,Editor!FG$36)","v":{"$error":"#VALUE!"}},{"$f":"INDEX(Editor!$C$5:$W$40,Editor!FH35+1,Editor!FH$36)","v":{"$error":"#VALUE!"}},{"$f":"INDEX(Editor!$C$5:$W$40,Editor!FI35+1,Editor!FI$36)","v":{"$error":"#VALUE!"}},{"$f":"INDEX(Editor!$C$5:$W$40,Editor!FJ35+1,Editor!FJ$36)","v":{"$error":"#VALUE!"}},{"$f":"INDEX(Editor!$C$5:$W$40,Editor!FK35+1,Editor!FK$36)","v":{"$error":"#VALUE!"}},{"$f":"INDEX(Editor!$C$5:$W$40,Editor!FL35+1,Editor!FL$36)","v":{"$error":"#VALUE!"}},{"$f":"INDEX(Editor!$C$5:$W$40,Editor!FM35+1,Editor!FM$36)","v":{"$error":"#VALUE!"}},{"$f":"INDEX(Editor!$C$5:$W$40,Editor!FN35+1,Editor!FN$36)","v":{"$error":"#VALUE!"}},{"$f":"INDEX(Editor!$C$5:$W$40,Editor!FO35+1,Editor!FO$36)","v":{"$error":"#VALUE!"}}]
[null,null,null,null,null,null,null,null,null,{"$f":"J41","v":0},{"$f":"K41","v":0},0,0,0,0,0,0,0,0,0,0,0,0,0,0,0,0,0,0,0,0,0,0,0,0,0,0,0,0,0,0,0,0,0,0,0,0,0,0,0,0,0,0,0,0,0,0,0,0,0,0,0,0,0,0,0,0,0,0,0,0,0,0,0]
[]
[null,null,null,null,null,null,null,null,1,2,3,4,5,6,7,8,9,10,11,12,13,14,15,16,17,18,19,20,21,22,23,24,25,26,27,28,29,30,31,32,33,34,35,36,37,38,39,40,41,42,43,44,45,46,47,48,49,50,51,52,53,54,55,56,57,58,59,60,61,62,63,64,65,66,67]
[1,2,3,4,5,6,7,8,9,10,11,12,13,14,15,16,17,18,19,20,21,22,23,24,25,26,27,28,29,30,31,32,33,34,35,36,37,38,39,40,41,42,43,44,45,46,47,48,49,50,51,52,53,54,55,56,57,58,59,60,61,62,63,64,65,66,67,68,69,70,71,72,73,74,75]
[]
[null,null,null,null,null,null,null,null,1,{"$f":"IF(ISNA(VLOOKUP(J36,Editor!$BM$39:$BN$43,2,FALSE)),0,VLOOKUP(J36,Editor!$BM$39:$BN$43,2,FALSE))","v":0},{"$f":"IF(ISNA(VLOOKUP(K36,Editor!$BM$39:$BN$43,2,FALSE)),0,VLOOKUP(K36,Editor!$BM$39:$BN$43,2,FALSE))","v":0},{"$f":"IF(ISNA(VLOOKUP(L36,Editor!$BM$39:$BN$43,2,FALSE)),0,VLOOKUP(L36,Editor!$BM$39:$BN$43,2,FALSE))","v":0},{"$f":"IF(ISNA(VLOOKUP(M36,Editor!$BM$39:$BN$43,2,FALSE)),0,VLOOKUP(M36,Editor!$BM$39:$BN$43,2,FALSE))","v":0},{"$f":"IF(ISNA(VLOOKUP(N36,Editor!$BM$39:$BN$43,2,FALSE)),0,VLOOKUP(N36,Editor!$BM$39:$BN$43,2,FALSE))","v":0},{"$f":"IF(ISNA(VLOOKUP(O36,Editor!$BM$39:$BN$43,2,FALSE)),0,VLOOKUP(O36,Editor!$BM$39:$BN$43,2,FALSE))","v":0},{"$f":"IF(ISNA(VLOOKUP(P36,Editor!$BM$39:$BN$43,2,FALSE)),0,VLOOKUP(P36,Editor!$BM$39:$BN$43,2,FALSE))","v":0},{"$f":"IF(ISNA(VLOOKUP(Q36,Editor!$BM$39:$BN$43,2,FALSE)),0,VLOOKUP(Q36,Editor!$BM$39:$BN$43,2,FALSE))","v":0},{"$f":"IF(ISNA(VLOOKUP(R36,Editor!$BM$39:$BN$43,2,FALSE)),0,VLOOKUP(R36,Editor!$BM$39:$BN$43,2,FALSE))","v":0},{"$f":"IF(ISNA(VLOOKUP(S36,Editor!$BM$39:$BN$43,2,FALSE)),0,VLOOKUP(S36,Editor!$BM$39:$BN$43,2,FALSE))","v":0},{"$f":"IF(ISNA(VLOOKUP(T36,Editor!$BM$39:$BN$43,2,FALSE)),0,VLOOKUP(T36,Editor!$BM$39:$BN$43,2,FALSE))","v":0},{"$f":"IF(ISNA(VLOOKUP(U36,Editor!$BM$39:$BN$43,2,FALSE)),0,VLOOKUP(U36,Editor!$BM$39:$BN$43,2,FALSE))","v":0},{"$f":"IF(ISNA(VLOOKUP(V36,Editor!$BM$39:$BN$43,2,FALSE)),0,VLOOKUP(V36,Editor!$BM$39:$BN$43,2,FALSE))","v":0},{"$f":"IF(ISNA(VLOOKUP(W36,Editor!$BM$39:$BN$43,2,FALSE)),0,VLOOKUP(W36,Editor!$BM$39:$BN$43,2,FALSE))","v":0},{"$f":"IF(ISNA(VLOOKUP(X36,Editor!$BM$39:$BN$43,2,FALSE)),0,VLOOKUP(X36,Editor!$BM$39:$BN$43,2,FALSE))","v":0},{"$f":"IF(ISNA(VLOOKUP(Y36,Editor!$BM$39:$BN$43,2,FALSE)),0,VLOOKUP(Y36,Editor!$BM$39:$BN$43,2,FALSE))","v":0},{"$f":"IF(ISNA(VLOOKUP(Z36,Editor!$BM$39:$BN$43,2,FALSE)),0,VLOOKUP(Z36,Editor!$BM$39:$BN$43,2,FALSE))","v":0},{"$f":"IF(ISNA(VLOOKUP(AA36,Editor!$BM$39:$BN$43,2,FALSE)),0,VLOOKUP(AA36,Editor!$BM$39:$BN$43,2,FALSE))","v":0},{"$f":"IF(ISNA(VLOOKUP(AB36,Editor!$BM$39:$BN$43,2,FALSE)),0,VLOOKUP(AB36,Editor!$BM$39:$BN$43,2,FALSE))","v":0},{"$f":"IF(ISNA(VLOOKUP(AC36,Editor!$BM$39:$BN$43,2,FALSE)),0,VLOOKUP(AC36,Editor!$BM$39:$BN$43,2,FALSE))","v":0},{"$f":"IF(ISNA(VLOOKUP(AD36,Editor!$BM$39:$BN$43,2,FALSE)),0,VLOOKUP(AD36,Editor!$BM$39:$BN$43,2,FALSE))","v":0},{"$f":"IF(ISNA(VLOOKUP(AE36,Editor!$BM$39:$BN$43,2,FALSE)),0,VLOOKUP(AE36,Editor!$BM$39:$BN$43,2,FALSE))","v":0},{"$f":"IF(ISNA(VLOOKUP(AF36,Editor!$BM$39:$BN$43,2,FALSE)),0,VLOOKUP(AF36,Editor!$BM$39:$BN$43,2,FALSE))","v":0},{"$f":"IF(ISNA(VLOOKUP(AG36,Editor!$BM$39:$BN$43,2,FALSE)),0,VLOOKUP(AG36,Editor!$BM$39:$BN$43,2,FALSE))","v":0},{"$f":"IF(ISNA(VLOOKUP(AH36,Editor!$BM$39:$BN$43,2,FALSE)),0,VLOOKUP(AH36,Editor!$BM$39:$BN$43,2,FALSE))","v":0},{"$f":"IF(ISNA(VLOOKUP(AI36,Editor!$BM$39:$BN$43,2,FALSE)),0,VLOOKUP(AI36,Editor!$BM$39:$BN$43,2,FALSE))","v":0},{"$f":"IF(ISNA(VLOOKUP(AJ36,Editor!$BM$39:$BN$43,2,FALSE)),0,VLOOKUP(AJ36,Editor!$BM$39:$BN$43,2,FALSE))","v":0},{"$f":"IF(ISNA(VLOOKUP(AK36,Editor!$BM$39:$BN$43,2,FALSE)),0,VLOOKUP(AK36,Editor!$BM$39:$BN$43,2,FALSE))","v":0},{"$f":"IF(ISNA(VLOOKUP(AL36,Editor!$BM$39:$BN$43,2,FALSE)),0,VLOOKUP(AL36,Editor!$BM$39:$BN$43,2,FALSE))","v":0},{"$f":"IF(ISNA(VLOOKUP(AM36,Editor!$BM$39:$BN$43,2,FALSE)),0,VLOOKUP(AM36,Editor!$BM$39:$BN$43,2,FALSE))","v":0},{"$f":"IF(ISNA(VLOOKUP(AN36,Editor!$BM$39:$BN$43,2,FALSE)),0,VLOOKUP(AN36,Editor!$BM$39:$BN$43,2,FALSE))","v":0},{"$f":"IF(ISNA(VLOOKUP(AO36,Editor!$BM$39:$BN$43,2,FALSE)),0,VLOOKUP(AO36,Editor!$BM$39:$BN$43,2,FALSE))","v":0},{"$f":"IF(ISNA(VLOOKUP(AP36,Editor!$BM$39:$BN$43,2,FALSE)),0,VLOOKUP(AP36,Editor!$BM$39:$BN$43,2,FALSE))","v":0},{"$f":"IF(ISNA(VLOOKUP(AQ36,Editor!$BM$39:$BN$43,2,FALSE)),0,VLOOKUP(AQ36,Editor!$BM$39:$BN$43,2,FALSE))","v":0},{"$f":"IF(ISNA(VLOOKUP(AR36,Editor!$BM$39:$BN$43,2,FALSE)),0,VLOOKUP(AR36,Editor!$BM$39:$BN$43,2,FALSE))","v":0},{"$f":"IF(ISNA(VLOOKUP(AS36,Editor!$BM$39:$BN$43,2,FALSE)),0,VLOOKUP(AS36,Editor!$BM$39:$BN$43,2,FALSE))","v":0},{"$f":"IF(ISNA(VLOOKUP(AT36,Editor!$BM$39:$BN$43,2,FALSE)),0,VLOOKUP(AT36,Editor!$BM$39:$BN$43,2,FALSE))","v":0},{"$f":"IF(ISNA(VLOOKUP(AU36,Editor!$BM$39:$BN$43,2,FALSE)),0,VLOOKUP(AU36,Editor!$BM$39:$BN$43,2,FALSE))","v":0},{"$f":"IF(ISNA(VLOOKUP(AV36,Editor!$BM$39:$BN$43,2,FALSE)),0,VLOOKUP(AV36,Editor!$BM$39:$BN$43,2,FALSE))","v":0},{"$f":"IF(ISNA(VLOOKUP(AW36,Editor!$BM$39:$BN$43,2,FALSE)),0,VLOOKUP(AW36,Editor!$BM$39:$BN$43,2,FALSE))","v":0},{"$f":"IF(ISNA(VLOOKUP(AX36,Editor!$BM$39:$BN$43,2,FALSE)),0,VLOOKUP(AX36,Editor!$BM$39:$BN$43,2,FALSE))","v":0},{"$f":"IF(ISNA(VLOOKUP(AY36,Editor!$BM$39:$BN$43,2,FALSE)),0,VLOOKUP(AY36,Editor!$BM$39:$BN$43,2,FALSE))","v":0},{"$f":"IF(ISNA(VLOOKUP(AZ36,Editor!$BM$39:$BN$43,2,FALSE)),0,VLOOKUP(AZ36,Editor!$BM$39:$BN$43,2,FALSE))","v":0},{"$f":"IF(ISNA(VLOOKUP(BA36,Editor!$BM$39:$BN$43,2,FALSE)),0,VLOOKUP(BA36,Editor!$BM$39:$BN$43,2,FALSE))","v":0},{"$f":"IF(ISNA(VLOOKUP(BB36,Editor!$BM$39:$BN$43,2,FALSE)),0,VLOOKUP(BB36,Editor!$BM$39:$BN$43,2,FALSE))","v":0},{"$f":"IF(ISNA(VLOOKUP(BC36,Editor!$BM$39:$BN$43,2,FALSE)),0,VLOOKUP(BC36,Editor!$BM$39:$BN$43,2,FALSE))","v":0},{"$f":"IF(ISNA(VLOOKUP(BD36,Editor!$BM$39:$BN$43,2,FALSE)),0,VLOOKUP(BD36,Editor!$BM$39:$BN$43,2,FALSE))","v":0},{"$f":"IF(ISNA(VLOOKUP(BE36,Editor!$BM$39:$BN$43,2,FALSE)),0,VLOOKUP(BE36,Editor!$BM$39:$BN$43,2,FALSE))","v":0},{"$f":"IF(ISNA(VLOOKUP(BF36,Editor!$BM$39:$BN$43,2,FALSE)),0,VLOOKUP(BF36,Editor!$BM$39:$BN$43,2,FALSE))","v":0},{"$f":"IF(ISNA(VLOOKUP(BG36,Editor!$BM$39:$BN$43,2,FALSE)),0,VLOOKUP(BG36,Editor!$BM$39:$BN$43,2,FALSE))","v":0},{"$f":"IF(ISNA(VLOOKUP(BH36,Editor!$BM$39:$BN$43,2,FALSE)),0,VLOOKUP(BH36,Editor!$BM$39:$BN$43,2,FALSE))","v":0},{"$f":"IF(ISNA(VLOOKUP(BI36,Editor!$BM$39:$BN$43,2,FALSE)),0,VLOOKUP(BI36,Editor!$BM$39:$BN$43,2,FALSE))","v":0},{"$f":"IF(ISNA(VLOOKUP(BJ36,Editor!$BM$39:$BN$43,2,FALSE)),0,VLOOKUP(BJ36,Editor!$BM$39:$BN$43,2,FALSE))","v":0},{"$f":"IF(ISNA(VLOOKUP(BK36,Editor!$BM$39:$BN$43,2,FALSE)),0,VLOOKUP(BK36,Editor!$BM$39:$BN$43,2,FALSE))","v":0},{"$f":"IF(ISNA(VLOOKUP(BL36,Editor!$BM$39:$BN$43,2,FALSE)),0,VLOOKUP(BL36,Editor!$BM$39:$BN$43,2,FALSE))","v":0},{"$f":"IF(ISNA(VLOOKUP(BM36,Editor!$BM$39:$BN$43,2,FALSE)),0,VLOOKUP(BM36,Editor!$BM$39:$BN$43,2,FALSE))","v":0},{"$f":"IF(ISNA(VLOOKUP(BN36,Editor!$BM$39:$BN$43,2,FALSE)),0,VLOOKUP(BN36,Editor!$BM$39:$BN$43,2,FALSE))","v":0},{"$f":"IF(ISNA(VLOOKUP(BO36,Editor!$BM$39:$BN$43,2,FALSE)),0,VLOOKUP(BO36,Editor!$BM$39:$BN$43,2,FALSE))","v":0},{"$f":"IF(ISNA(VLOOKUP(BP36,Editor!$BM$39:$BN$43,2,FALSE)),0,VLOOKUP(BP36,Editor!$BM$39:$BN$43,2,FALSE))","v":0},{"$f":"IF(ISNA(VLOOKUP(BQ36,Editor!$BM$39:$BN$43,2,FALSE)),0,VLOOKUP(BQ36,Editor!$BM$39:$BN$43,2,FALSE))","v":0},{"$f":"IF(ISNA(VLOOKUP(BR36,Editor!$BM$39:$BN$43,2,FALSE)),0,VLOOKUP(BR36,Editor!$BM$39:$BN$43,2,FALSE))","v":0},{"$f":"IF(ISNA(VLOOKUP(BS36,Editor!$BM$39:$BN$43,2,FALSE)),0,VLOOKUP(BS36,Editor!$BM$39:$BN$43,2,FALSE))","v":0},{"$f":"IF(ISNA(VLOOKUP(BT36,Editor!$BM$39:$BN$43,2,FALSE)),0,VLOOKUP(BT36,Editor!$BM$39:$BN$43,2,FALSE))","v":0},{"$f":"IF(ISNA(VLOOKUP(BU36,Editor!$BM$39:$BN$43,2,FALSE)),0,VLOOKUP(BU36,Editor!$BM$39:$BN$43,2,FALSE))","v":0},{"$f":"IF(ISNA(VLOOKUP(BV36,Editor!$BM$39:$BN$43,2,FALSE)),0,VLOOKUP(BV36,Editor!$BM$39:$BN$43,2,FALSE))","v":0},{"$f":"IF(ISNA(VLOOKUP(BW36,Editor!$BM$39:$BN$43,2,FALSE)),0,VLOOKUP(BW36,Editor!$BM$39:$BN$43,2,FALSE))","v":0}]
[null,null,null,null,null,null,null,null,0,{"$f":"IF(ISNA(VLOOKUP(J36,Editor!$BO$39:$BP$43,2,FALSE)),0,VLOOKUP(J36,Editor!$BO$39:$BP$43,2,FALSE))","v":0},{"$f":"IF(ISNA(VLOOKUP(K36,Editor!$BO$39:$BP$43,2,FALSE)),0,VLOOKUP(K36,Editor!$BO$39:$BP$43,2,FALSE))","v":0},{"$f":"IF(ISNA(VLOOKUP(L36,Editor!$BO$39:$BP$43,2,FALSE)),0,VLOOKUP(L36,Editor!$BO$39:$BP$43,2,FALSE))","v":0},{"$f":"IF(ISNA(VLOOKUP(M36,Editor!$BO$39:$BP$43,2,FALSE)),0,VLOOKUP(M36,Editor!$BO$39:$BP$43,2,FALSE))","v":0},{"$f":"IF(ISNA(VLOOKUP(N36,Editor!$BO$39:$BP$43,2,FALSE)),0,VLOOKUP(N36,Editor!$BO$39:$BP$43,2,FALSE))","v":0},{"$f":"IF(ISNA(VLOOKUP(O36,Editor!$BO$39:$BP$43,2,FALSE)),0,VLOOKUP(O36,Editor!$BO$39:$BP$43,2,FALSE))","v":0},{"$f":"IF(ISNA(VLOOKUP(P36,Editor!$BO$39:$BP$43,2,FALSE)),0,VLOOKUP(P36,Editor!$BO$39:$BP$43,2,FALSE))","v":0},{"$f":"IF(ISNA(VLOOKUP(Q36,Editor!$BO$39:$BP$43,2,FALSE)),0,VLOOKUP(Q36,Editor!$BO$39:$BP$43,2,FALSE))","v":0},{"$f":"IF(ISNA(VLOOKUP(R36,Editor!$BO$39:$BP$43,2,FALSE)),0,VLOOKUP(R36,Editor!$BO$39:$BP$43,2,FALSE))","v":0},{"$f":"IF(ISNA(VLOOKUP(S36,Editor!$BO$39:$BP$43,2,FALSE)),0,VLOOKUP(S36,Editor!$BO$39:$BP$43,2,FALSE))","v":0},{"$f":"IF(ISNA(VLOOKUP(T36,Editor!$BO$39:$BP$43,2,FALSE)),0,VLOOKUP(T36,Editor!$BO$39:$BP$43,2,FALSE))","v":0},{"$f":"IF(ISNA(VLOOKUP(U36,Editor!$BO$39:$BP$43,2,FALSE)),0,VLOOKUP(U36,Editor!$BO$39:$BP$43,2,FALSE))","v":0},{"$f":"IF(ISNA(VLOOKUP(V36,Editor!$BO$39:$BP$43,2,FALSE)),0,VLOOKUP(V36,Editor!$BO$39:$BP$43,2,FALSE))","v":0},{"$f":"IF(ISNA(VLOOKUP(W36,Editor!$BO$39:$BP$43,2,FALSE)),0,VLOOKUP(W36,Editor!$BO$39:$BP$43,2,FALSE))","v":0},{"$f":"IF(ISNA(VLOOKUP(X36,Editor!$BO$39:$BP$43,2,FALSE)),0,VLOOKUP(X36,Editor!$BO$39:$BP$43,2,FALSE))","v":0},{"$f":"IF(ISNA(VLOOKUP(Y36,Editor!$BO$39:$BP$43,2,FALSE)),0,VLOOKUP(Y36,Editor!$BO$39:$BP$43,2,FALSE))","v":0},{"$f":"IF(ISNA(VLOOKUP(Z36,Editor!$BO$39:$BP$43,2,FALSE)),0,VLOOKUP(Z36,Editor!$BO$39:$BP$43,2,FALSE))","v":0},{"$f":"IF(ISNA(VLOOKUP(AA36,Editor!$BO$39:$BP$43,2,FALSE)),0,VLOOKUP(AA36,Editor!$BO$39:$BP$43,2,FALSE))","v":0},{"$f":"IF(ISNA(VLOOKUP(AB36,Editor!$BO$39:$BP$43,2,FALSE)),0,VLOOKUP(AB36,Editor!$BO$39:$BP$43,2,FALSE))","v":0},{"$f":"IF(ISNA(VLOOKUP(AC36,Editor!$BO$39:$BP$43,2,FALSE)),0,VLOOKUP(AC36,Editor!$BO$39:$BP$43,2,FALSE))","v":0},{"$f":"IF(ISNA(VLOOKUP(AD36,Editor!$BO$39:$BP$43,2,FALSE)),0,VLOOKUP(AD36,Editor!$BO$39:$BP$43,2,FALSE))","v":0},{"$f":"IF(ISNA(VLOOKUP(AE36,Editor!$BO$39:$BP$43,2,FALSE)),0,VLOOKUP(AE36,Editor!$BO$39:$BP$43,2,FALSE))","v":0},{"$f":"IF(ISNA(VLOOKUP(AF36,Editor!$BO$39:$BP$43,2,FALSE)),0,VLOOKUP(AF36,Editor!$BO$39:$BP$43,2,FALSE))","v":0},{"$f":"IF(ISNA(VLOOKUP(AG36,Editor!$BO$39:$BP$43,2,FALSE)),0,VLOOKUP(AG36,Editor!$BO$39:$BP$43,2,FALSE))","v":0},{"$f":"IF(ISNA(VLOOKUP(AH36,Editor!$BO$39:$BP$43,2,FALSE)),0,VLOOKUP(AH36,Editor!$BO$39:$BP$43,2,FALSE))","v":0},{"$f":"IF(ISNA(VLOOKUP(AI36,Editor!$BO$39:$BP$43,2,FALSE)),0,VLOOKUP(AI36,Editor!$BO$39:$BP$43,2,FALSE))","v":0},{"$f":"IF(ISNA(VLOOKUP(AJ36,Editor!$BO$39:$BP$43,2,FALSE)),0,VLOOKUP(AJ36,Editor!$BO$39:$BP$43,2,FALSE))","v":0},{"$f":"IF(ISNA(VLOOKUP(AK36,Editor!$BO$39:$BP$43,2,FALSE)),0,VLOOKUP(AK36,Editor!$BO$39:$BP$43,2,FALSE))","v":0},{"$f":"IF(ISNA(VLOOKUP(AL36,Editor!$BO$39:$BP$43,2,FALSE)),0,VLOOKUP(AL36,Editor!$BO$39:$BP$43,2,FALSE))","v":0},{"$f":"IF(ISNA(VLOOKUP(AM36,Editor!$BO$39:$BP$43,2,FALSE)),0,VLOOKUP(AM36,Editor!$BO$39:$BP$43,2,FALSE))","v":0},{"$f":"IF(ISNA(VLOOKUP(AN36,Editor!$BO$39:$BP$43,2,FALSE)),0,VLOOKUP(AN36,Editor!$BO$39:$BP$43,2,FALSE))","v":0},{"$f":"IF(ISNA(VLOOKUP(AO36,Editor!$BO$39:$BP$43,2,FALSE)),0,VLOOKUP(AO36,Editor!$BO$39:$BP$43,2,FALSE))","v":0},{"$f":"IF(ISNA(VLOOKUP(AP36,Editor!$BO$39:$BP$43,2,FALSE)),0,VLOOKUP(AP36,Editor!$BO$39:$BP$43,2,FALSE))","v":0},{"$f":"IF(ISNA(VLOOKUP(AQ36,Editor!$BO$39:$BP$43,2,FALSE)),0,VLOOKUP(AQ36,Editor!$BO$39:$BP$43,2,FALSE))","v":0},{"$f":"IF(ISNA(VLOOKUP(AR36,Editor!$BO$39:$BP$43,2,FALSE)),0,VLOOKUP(AR36,Editor!$BO$39:$BP$43,2,FALSE))","v":0},{"$f":"IF(ISNA(VLOOKUP(AS36,Editor!$BO$39:$BP$43,2,FALSE)),0,VLOOKUP(AS36,Editor!$BO$39:$BP$43,2,FALSE))","v":0},{"$f":"IF(ISNA(VLOOKUP(AT36,Editor!$BO$39:$BP$43,2,FALSE)),0,VLOOKUP(AT36,Editor!$BO$39:$BP$43,2,FALSE))","v":0},{"$f":"IF(ISNA(VLOOKUP(AU36,Editor!$BO$39:$BP$43,2,FALSE)),0,VLOOKUP(AU36,Editor!$BO$39:$BP$43,2,FALSE))","v":0},{"$f":"IF(ISNA(VLOOKUP(AV36,Editor!$BO$39:$BP$43,2,FALSE)),0,VLOOKUP(AV36,Editor!$BO$39:$BP$43,2,FALSE))","v":0},{"$f":"IF(ISNA(VLOOKUP(AW36,Editor!$BO$39:$BP$43,2,FALSE)),0,VLOOKUP(AW36,Editor!$BO$39:$BP$43,2,FALSE))","v":0},{"$f":"IF(ISNA(VLOOKUP(AX36,Editor!$BO$39:$BP$43,2,FALSE)),0,VLOOKUP(AX36,Editor!$BO$39:$BP$43,2,FALSE))","v":0},{"$f":"IF(ISNA(VLOOKUP(AY36,Editor!$BO$39:$BP$43,2,FALSE)),0,VLOOKUP(AY36,Editor!$BO$39:$BP$43,2,FALSE))","v":0},{"$f":"IF(ISNA(VLOOKUP(AZ36,Editor!$BO$39:$BP$43,2,FALSE)),0,VLOOKUP(AZ36,Editor!$BO$39:$BP$43,2,FALSE))","v":0},{"$f":"IF(ISNA(VLOOKUP(BA36,Editor!$BO$39:$BP$43,2,FALSE)),0,VLOOKUP(BA36,Editor!$BO$39:$BP$43,2,FALSE))","v":0},{"$f":"IF(ISNA(VLOOKUP(BB36,Editor!$BO$39:$BP$43,2,FALSE)),0,VLOOKUP(BB36,Editor!$BO$39:$BP$43,2,FALSE))","v":0},{"$f":"IF(ISNA(VLOOKUP(BC36,Editor!$BO$39:$BP$43,2,FALSE)),0,VLOOKUP(BC36,Editor!$BO$39:$BP$43,2,FALSE))","v":0},{"$f":"IF(ISNA(VLOOKUP(BD36,Editor!$BO$39:$BP$43,2,FALSE)),0,VLOOKUP(BD36,Editor!$BO$39:$BP$43,2,FALSE))","v":0},{"$f":"IF(ISNA(VLOOKUP(BE36,Editor!$BO$39:$BP$43,2,FALSE)),0,VLOOKUP(BE36,Editor!$BO$39:$BP$43,2,FALSE))","v":0},{"$f":"IF(ISNA(VLOOKUP(BF36,Editor!$BO$39:$BP$43,2,FALSE)),0,VLOOKUP(BF36,Editor!$BO$39:$BP$43,2,FALSE))","v":0},{"$f":"IF(ISNA(VLOOKUP(BG36,Editor!$BO$39:$BP$43,2,FALSE)),0,VLOOKUP(BG36,Editor!$BO$39:$BP$43,2,FALSE))","v":0},{"$f":"IF(ISNA(VLOOKUP(BH36,Editor!$BO$39:$BP$43,2,FALSE)),0,VLOOKUP(BH36,Editor!$BO$39:$BP$43,2,FALSE))","v":0},{"$f":"IF(ISNA(VLOOKUP(BI36,Editor!$BO$39:$BP$43,2,FALSE)),0,VLOOKUP(BI36,Editor!$BO$39:$BP$43,2,FALSE))","v":0},{"$f":"IF(ISNA(VLOOKUP(BJ36,Editor!$BO$39:$BP$43,2,FALSE)),0,VLOOKUP(BJ36,Editor!$BO$39:$BP$43,2,FALSE))","v":0},{"$f":"IF(ISNA(VLOOKUP(BK36,Editor!$BO$39:$BP$43,2,FALSE)),0,VLOOKUP(BK36,Editor!$BO$39:$BP$43,2,FALSE))","v":0},{"$f":"IF(ISNA(VLOOKUP(BL36,Editor!$BO$39:$BP$43,2,FALSE)),0,VLOOKUP(BL36,Editor!$BO$39:$BP$43,2,FALSE))","v":0},{"$f":"IF(ISNA(VLOOKUP(BM36,Editor!$BO$39:$BP$43,2,FALSE)),0,VLOOKUP(BM36,Editor!$BO$39:$BP$43,2,FALSE))","v":0},{"$f":"IF(ISNA(VLOOKUP(BN36,Editor!$BO$39:$BP$43,2,FALSE)),0,VLOOKUP(BN36,Editor!$BO$39:$BP$43,2,FALSE))","v":0},{"$f":"IF(ISNA(VLOOKUP(BO36,Editor!$BO$39:$BP$43,2,FALSE)),0,VLOOKUP(BO36,Editor!$BO$39:$BP$43,2,FALSE))","v":0},{"$f":"IF(ISNA(VLOOKUP(BP36,Editor!$BO$39:$BP$43,2,FALSE)),0,VLOOKUP(BP36,Editor!$BO$39:$BP$43,2,FALSE))","v":0},{"$f":"IF(ISNA(VLOOKUP(BQ36,Editor!$BO$39:$BP$43,2,FALSE)),0,VLOOKUP(BQ36,Editor!$BO$39:$BP$43,2,FALSE))","v":0},{"$f":"IF(ISNA(VLOOKUP(BR36,Editor!$BO$39:$BP$43,2,FALSE)),0,VLOOKUP(BR36,Editor!$BO$39:$BP$43,2,FALSE))","v":0},{"$f":"IF(ISNA(VLOOKUP(BS36,Editor!$BO$39:$BP$43,2,FALSE)),0,VLOOKUP(BS36,Editor!$BO$39:$BP$43,2,FALSE))","v":0},{"$f":"IF(ISNA(VLOOKUP(BT36,Editor!$BO$39:$BP$43,2,FALSE)),0,VLOOKUP(BT36,Editor!$BO$39:$BP$43,2,FALSE))","v":0},{"$f":"IF(ISNA(VLOOKUP(BU36,Editor!$BO$39:$BP$43,2,FALSE)),0,VLOOKUP(BU36,Editor!$BO$39:$BP$43,2,FALSE))","v":0},{"$f":"IF(ISNA(VLOOKUP(BV36,Editor!$BO$39:$BP$43,2,FALSE)),0,VLOOKUP(BV36,Editor!$BO$39:$BP$43,2,FALSE))","v":0},{"$f":"IF(ISNA(VLOOKUP(BW36,Editor!$BO$39:$BP$43,2,FALSE)),0,VLOOKUP(BW36,Editor!$BO$39:$BP$43,2,FALSE))","v":0}]
[null,null,null,null,null,null,null,null,1,{"$f":"J40+J39","v":0},{"$f":"K40+K39","v":0},0,0,0,0,0,0,0,0,0,0,0,0,0,0,0,0,0,0,0,0,0,0,0,0,0,0,0,0,0,0,0,0,0,0,0,0,0,0,0,0,0,0,0,0,0,0,0,0,0,0,0,0,0,0,0,0,0,0,0,0,0,0,0,{"$f":"BW40+BW39","v":0}]
[null,null,null,null,null,null,null,null,1,{"$f":"IF(J41=1,1,I42+1)","v":2},{"$f":"IF(K41=1,1,J42+1)","v":3},4,5,6,7,8,9,10,11,12,13,14,15,16,17,18,19,20,21,22,23,24,25,26,27,28,29,30,31,32,33,34,35,36,37,38,39,40,41,42,43,44,45,46,47,48,49,50,51,52,53,54,55,56,57,58,59,60,61,62,63,64,65,66,{"$f":"IF(BW41=1,1,BV42+1)","v":67}]

{"sheet":"最初にお読みください","index":1,"n_rows":79,"n_cols":10,"rows_kept":79,"cut":false,"hidden":false,"merged":[]}
["マークシート作成用エクセルマクロについて   2024.12.25"]
["                                          PCソリューション・ヨシダ",null,null,null,null,null,null,null,null,"【重要】セキュリティ レベルを変更する （マクロを有効にする）　　"]
["　　　　　　　　　　　　　　　　　　　　（学校情報化支援e-ict.info)",null,null,null,null,null,null,null,"　","※本プログラム（マクロ）は「マクロを有効に」してお使いください。"]
["-------------------------------------------------------------------",null,null,null,null,null,null,null,null,"マクロのセキュリティ レベルを変更するには、次の手順を実行します。 "]
["0.バージョンアップ情報",null,null,null,null,null,null,null,null,"【Excel 2003以前の場合】"]
["2020.10.03",null,null,null,null,null,null,null,null,"　1.　[ツール] メニューの [オプション] をクリックします。 "]
["     ・解答番号欄の幅を大きくしました。",null,null,null,null,null,null,null,null,"　2.　[マクロ セキュリティ] の [マクロ セキュリティ] をクリックします。 "]
["2010.11.20",null,null,null,null,null,null,null,null,"　3.　[セキュリティ レベル] タブをクリックし、適用するセキュリティ レベルを中または低にします。"]
["　　　・高速化しました",null,null,null,null,null,null,null,null,"【Office 2007】"]
["2010.10.20",null,null,null,null,null,null,null,null,"https://support.microsoft.com/ja-jp/office/office-%E3%83%89%E3%82%AD%E3%83%A5%E3%83%A1%E3%83%B3%E3%83%88%E3%81%AE%E3%83%9E%E3%82%AF%E3%83%AD%E3%82%92%E6%9C%89%E5%8A%B9%E3%81%BE%E3%81%9F%E3%81%AF%E7%84%A1%E5%8A%B9%E3%81%AB%E3%81%99%E3%82%8B-12b036fd-d140-4e74-b45e-16fed1a7e5c6"]
["　　　・一部不具合を修正しました"]
["2010.5.20"]
["　　　・一部不具合を修正しました"]
["　2009.9.14",null,null,null,null,null,null,null,null,"【Office 365, Office Online, Office 2019, Office 2016, Office 2013, Office 2010】"]
["　　　・マークシート表記文字列（0 1 2 3 ･･･ など)のカスタマイズを可能としました。",null,null,null,null,null,null,null,null,"https://support.microsoft.com/ja-jp/office/office-%E3%83%89%E3%82%AD%E3%83%A5%E3%83%A1%E3%83%B3%E3%83%88%E3%81%AE%E3%83%9E%E3%82%AF%E3%83%AD%E3%82%92%E6%9C%89%E5%8A%B9%E3%81%BE%E3%81%9F%E3%81%AF%E7%84%A1%E5%8A%B9%E3%81%AB%E3%81%99%E3%82%8B-12b036fd-d140-4e74-b45e-16fed1a7e5c6"]
["　　　　※シート「Editor」の下部（38行以降)をご覧ください。"]
["　2009.9.10"]
["　　　・マークシート採点／集計プログラム Markun V4.1 に対応しました。"]
["　　　・マークシートのID部(学年組番号等記述欄)の桁数を４桁～１５桁の"]
["　　　　値にすることができます。"]
["　　　・マークシートの罫線色を変更することができます。"]
["　　　　※罫線色と文字色を同時に指定色にします。マーク（だ円）の色は変更されません。"]
["　　　・マーク(だ円など)の色,形状,線の種類などを変更することができます。"]
["　　　 （注意）罫線やマークの色を濃くしたり線を太くするとマークシートの読"]
["　　　　　　 み取り時の誤読につながるので、注意してください。"]
["      ・マークシート作成マクロバージョン３としました。"]
[]
["1.本プログラム（Microsoft Excel マクロ)について"]
[]
["　◇このフォルダは以下のファイルが含まれています。　　"]
[]
["　　marksheet_Editor_for_markun.xls"]
["　　　　　→マークシートを作成するツールです。exlcel2000以降で使用できます。"]
["　　marksheet_Editor_for_markun_V4.1(exlcel2007).xlsm"]
["　　　　　→マークシートを作成するツールです。Exlcel2007以降で使用できます。"]
["　　　　　(それ以前のエクセルでは正常に動作しません。)"]
["　　marksheet_sample_for_center.xls　　　　　"]
["　　　　　→マークシートのサンプルです。exlcel2000以降で使用できます。"]
["    アンケートサンプル.xls"]
["          →マークシートのサンプルです。exlcel2000以降で使用できます。"]
["　　最初にお読みください.txt  "]
["　　　　　→このファイルです。"]
[]
["　◇このプログラム(エクセルマクロ)で作成したマークシートは"]
["　　「マークシート答案採点プログラム Markun V4.1～V4.7」"]
["　　で読み取り採点することができます。"]
[]
["　　「マークシート答案採点プログラム Markun V4.7(試用版)」は下記サイトからダウンロード"]
["　　することができます。"]
[null,"https://pcsol-yoshida.sakura.ne.jp/"]
["  ◇マークシートのID(学年組番号等記入欄)を5桁以外に設定したものはV4.03 以前の"]
["　　プログラムでは利用できません。"]
["　◇MicrosoftExcelで「VBAマクロを有効にする」にチェックが無い場合、"]
["　　本プログラムは動作しません。MicrosoftExcelのマニュアルなどを参考にして"]
["　　VBAマクロを有効にしてください。"]
[]
["　◇マクロの操作方法などは、当該エクセルブックに記入してあります。"]
["　　"]
["2.使用条件など"]
[]
["　◇普通紙マークシート採点ソフトマーくん（以下本ソフトウェア）の著作権は、"]
["　　販売者であるPCソリューション・ヨシダ（以下著作権者）が著作権を所有しています。"]
[]
["　　本ソフトウェアを、著作権者の許可なく逆コンパイル、逆アセンブリ、また"]
["　　はリバースエンジニアリングしないでください。"]
[" "]
["　◇本ソフトウェアに対し、本ソフトの利用者および第三者からの請求・損害・"]
["　　トラブル等には一切関与いたしません。"]
[]
["　◇本ソフトに関するサポートは、基本的にはメール(toiawase@e-ict.info)（ユーザー質問等）"]
["　　とその返信（作者回答）により行ないます。"]
["　　尚、本ソフトウェア以外に関するサポートは、できかねますのでご了承ください。"]
[]
[]
[]
[]
[]
[]
["    "]

{"sheet":"Marksheet","index":2,"n_rows":68,"n_cols":90,"rows_kept":68,"cut":false,"hidden":false,"merged":[[2,76,19,87],[70,2,70,49],[68,2,68,49],[38,0,45,4],[21,76,35,88],[47,76,50,88]]}
["作成したマークシート(このファイル)は必ず別名で保存してください。",null,null,null,null,null,null,null,null,null,null,null,null,null,null,null,null,null,null,null,null,null,null,null,null,null,null,null,null,null,null,null,null,null,null,null,null,null,"このワークシートは「保護」されています。枠の詳細を変更したい場合、保護を解除してください(パスワードは不要です）"]
[null,null,null,null,null,null,null,null,null,null,null,null,null,null,null,null,null,null,null,null,null,null,null,null,null,null,null,null,null,null,null,null,null,null,null,null,null,null,null,null,null,null,null,null,null,null,null,null,null,null,null,null,null,null,null,null,null,null,null,null,null,null,null,null,null,null,null,null,null,null,null,null,null,null,null,null,"※使用上の注意事項"]
[null,null,null,null,null,null,null,null,null,null,null,null,null,null,null,null,null,null,null,null,null,null,null,null,null,null,null,null,null,null,null,null,null,null,null,null,null,null,null,null,null,null,null,null,null,null,null,null,null,null,null,null,null,null,null,null,null,null,null,null,null,null,null,null,null,null,null,null,null,null,null,null,null,null,null,null,"・行や列を追加したり削除したりしないでください。\n・セル幅・セル高、だ円の位置や形状などを規定外に変更しないでください。\n・印刷範囲（A2:BV35)を変更しないでください。\n・文字の色やだ円の色を濃くしたり太字にすると読み取りミスが起こりやすくなります。\n・外枠線(黒)および最下行は変更しないでください。\n・外枠線の周囲には何も記入しないでください。\n・実際の使用前に読み取りﾃｽﾄを行ってください。\n"]
[null,null,{"$f":"TRIM(IF(ISERR(Sheet1!C4),\"\",Sheet1!C4))","v":""},{"$f":"TRIM(IF(ISERR(Sheet1!D4),\"\",Sheet1!D4))","v":""},{"$f":"TRIM(IF(ISERR(Sheet1!E4),\"\",Sheet1!E4))","v":""},{"$f":"TRIM(IF(ISERR(Sheet1!F4),\"\",Sheet1!F4))","v":""},{"$f":"TRIM(IF(ISERR(Sheet1!G4),\"\",Sheet1!G4))","v":""},{"$f":"TRIM(IF(ISERR(Sheet1!H4),\"\",Sheet1!H4))","v":""},{"$f":"TRIM(IF(ISERR(Sheet1!I4),\"\",Sheet1!I4))","v":""},{"$f":"TRIM(IF(ISERR(Sheet1!J4),\"\",Sheet1!J4))","v":""},{"$f":"TRIM(IF(ISERR(Sheet1!K4),\"\",Sheet1!K4))","v":""},{"$f":"TRIM(IF(ISERR(Sheet1!L4),\"\",Sheet1!L4))","v":""},{"$f":"TRIM(IF(ISERR(Sheet1!M4),\"\",Sheet1!M4))","v":""},{"$f":"TRIM(IF(ISERR(Sheet1!N4),\"\",Sheet1!N4))","v":""},{"$f":"TRIM(IF(ISERR(Sheet1!O4),\"\",Sheet1!O4))","v":""},{"$f":"TRIM(IF(ISERR(Sheet1!P4),\"\",Sheet1!P4))","v":""},{"$f":"TRIM(IF(ISERR(Sheet1!Q4),\"\",Sheet1!Q4))","v":""},{"$f":"TRIM(IF(ISERR(Sheet1!R4),\"\",Sheet1!R4))","v":""},{"$f":"TRIM(IF(ISERR(Sheet1!S4),\"\",Sheet1!S4))","v":""},{"$f":"TRIM(IF(ISERR(Sheet1!T4),\"\",Sheet1!T4))","v":""},{"$f":"TRIM(IF(ISERR(Sheet1!U4),\"\",Sheet1!U4))","v":""},{"$f":"TRIM(IF(ISERR(Sheet1!V4),\"\",Sheet1!V4))","v":""},{"$f":"TRIM(IF(ISERR(Sheet1!W4),\"\",Sheet1!W4))","v":""},{"$f":"TRIM(IF(ISERR(Sheet1!X4),\"\",Sheet1!X4))","v":""},{"$f":"TRIM(IF(ISERR(Sheet1!Y4),\"\",Sheet1!Y4))","v":""},{"$f":"TRIM(IF(ISERR(Sheet1!Z4),\"\",Sheet1!Z4))","v":""},{"$f":"TRIM(IF(ISERR(Sheet1!AA4),\"\",Sheet1!AA4))","v":""},{"$f":"TRIM(IF(ISERR(Sheet1!AB4),\"\",Sheet1!AB4))","v":""},{"$f":"TRIM(IF(ISERR(Sheet1!AC4),\"\",Sheet1!AC4))","v":""},{"$f":"TRIM(IF(ISERR(Sheet1!AD4),\"\",Sheet1!AD4))","v":""},{"$f":"TRIM(IF(ISERR(Sheet1!AE4),\"\",Sheet1!AE4))","v":""},{"$f":"TRIM(IF(ISERR(Sheet1!AF4),\"\",Sheet1!AF4))","v":""},{"$f":"TRIM(IF(ISERR(Sheet1!AG4),\"\",Sheet1!AG4))","v":""},{"$f":"TRIM(IF(ISERR(Sheet1!AH4),\"\",Sheet1!AH4))","v":""},{"$f":"TRIM(IF(ISERR(Sheet1!AI4),\"\",Sheet1!AI4))","v":""},{"$f":"TRIM(IF(ISERR(Sheet1!AJ4),\"\",Sheet1!AJ4))","v":""},{"$f":"TRIM(IF(ISERR(Sheet1!AK4),\"\",Sheet1!AK4))","v":""},{"$f":"TRIM(IF(ISERR(Sheet1!AL4),\"\",Sheet1!AL4))","v":""},{"$f":"TRIM(IF(ISERR(Sheet1!AM4),\"\",Sheet1!AM4))","v":""},{"$f":"TRIM(IF(ISERR(Sheet1!AN4),\"\",Sheet1!AN4))","v":""},{"$f":"TRIM(IF(ISERR(Sheet1!AO4),\"\",Sheet1!AO4))","v":""},{"$f":"TRIM(IF(ISERR(Sheet1!AP4),\"\",Sheet1!AP4))","v":""},{"$f":"TRIM(IF(ISERR(Sheet1!AQ4),\"\",Sheet1!AQ4))","v":""},{"$f":"TRIM(IF(ISERR(Sheet1!AR4),\"\",Sheet1!AR4))","v":""},{"$f":"TRIM(IF(ISERR(Sheet1!AS4),\"\",Sheet1!AS4))","v":""},{"$f":"TRIM(IF(ISERR(Sheet1!AT4),\"\",Sheet1!AT4))","v":""},{"$f":"TRIM(IF(ISERR(Sheet1!AU4),\"\",Sheet1!AU4))","v":""},{"$f":"TRIM(IF(ISERR(Sheet1!AV4),\"\",Sheet1!AV4))","v":""},{"$f":"TRIM(IF(ISERR(Sheet1!AW4),\"\",Sheet1!AW4))","v":""},{"$f":"TRIM(IF(ISERR(Sheet1!AX4),\"\",Sheet1!AX4))","v":""},{"$f":"TRIM(IF(ISERR(Sheet1!AY4),\"\",Sheet1!AY4))","v":""},{"$f":"TRIM(IF(ISERR(Sheet1!AZ4),\"\",Sheet1!AZ4))","v":""},{"$f":"TRIM(IF(ISERR(Sheet1!BA4),\"\",Sheet1!BA4))","v":""},{"$f":"TRIM(IF(ISERR(Sheet1!BB4),\"\",Sheet1!BB4))","v":""},{"$f":"TRIM(IF(ISERR(Sheet1!BC4),\"\",Sheet1!BC4))","v":""},{"$f":"TRIM(IF(ISERR(Sheet1!BD4),\"\",Sheet1!BD4))","v":""},{"$f":"TRIM(IF(ISERR(Sheet1!BE4),\"\",Sheet1!BE4))","v":""},{"$f":"TRIM(IF(ISERR(Sheet1!BF4),\"\",Sheet1!BF4))","v":""},{"$f":"TRIM(IF(ISERR(Sheet1!BG4),\"\",Sheet1!BG4))","v":""}]
[null,null,null,null,null,null,{"$f":"TRIM(IF(ISERR(Sheet1!G5),\"\",Sheet1!G5))","v":""},{"$f":"TRIM(IF(ISERR(Sheet1!H5),\"\",Sheet1!H5))","v":""},{"$f":"TRIM(IF(ISERR(Sheet1!I5),\"\",Sheet1!I5))","v":""},{"$f":"TRIM(IF(ISERR(Sheet1!J5),\"\",Sheet1!J5))","v":""},{"$f":"TRIM(IF(ISERR(Sheet1!K5),\"\",Sheet1!K5))","v":""},{"$f":"TRIM(IF(ISERR(Sheet1!L5),\"\",Sheet1!L5))","v":""},{"$f":"TRIM(IF(ISERR(Sheet1!M5),\"\",Sheet1!M5))","v":""},{"$f":"TRIM(IF(ISERR(Sheet1!N5),\"\",Sheet1!N5))","v":""},{"$f":"TRIM(IF(ISERR(Sheet1!O5),\"\",Sheet1!O5))","v":""},{"$f":"TRIM(IF(ISERR(Sheet1!P5),\"\",Sheet1!P5))","v":""},{"$f":"TRIM(IF(ISERR(Sheet1!Q5),\"\",Sheet1!Q5))","v":""},{"$f":"TRIM(IF(ISERR(Sheet1!R5),\"\",Sheet1!R5))","v":""},{"$f":"TRIM(IF(ISERR(Sheet1!S5),\"\",Sheet1!S5))","v":""},{"$f":"TRIM(IF(ISERR(Sheet1!T5),\"\",Sheet1!T5))","v":""},{"$f":"TRIM(IF(ISERR(Sheet1!U5),\"\",Sheet1!U5))","v":""},{"$f":"TRIM(IF(ISERR(Sheet1!V5),\"\",Sheet1!V5))","v":""},{"$f":"TRIM(IF(ISERR(Sheet1!W5),\"\",Sheet1!W5))","v":""},{"$f":"TRIM(IF(ISERR(Sheet1!X5),\"\",Sheet1!X5))","v":""},{"$f":"TRIM(IF(ISERR(Sheet1!Y5),\"\",Sheet1!Y5))","v":""},{"$f":"TRIM(IF(ISERR(Sheet1!Z5),\"\",Sheet1!Z5))","v":""},{"$f":"TRIM(IF(ISERR(Sheet1!AA5),\"\",Sheet1!AA5))","v":""},{"$f":"TRIM(IF(ISERR(Sheet1!AB5),\"\",Sheet1!AB5))","v":""},{"$f":"TRIM(IF(ISERR(Sheet1!AC5),\"\",Sheet1!AC5))","v":""},{"$f":"TRIM(IF(ISERR(Sheet1!AD5),\"\",Sheet1!AD5))","v":""},{"$f":"TRIM(IF(ISERR(Sheet1!AE5),\"\",Sheet1!AE5))","v":""},{"$f":"TRIM(IF(ISERR(Sheet1!AF5),\"\",Sheet1!AF5))","v":""},{"$f":"TRIM(IF(ISERR(Sheet1!AG5),\"\",Sheet1!AG5))","v":""},{"$f":"TRIM(IF(ISERR(Sheet1!AH5),\"\",Sheet1!AH5))","v":""},{"$f":"TRIM(IF(ISERR(Sheet1!AI5),\"\",Sheet1!AI5))","v":""},{"$f":"TRIM(IF(ISERR(Sheet1!AJ5),\"\",Sheet1!AJ5))","v":""},{"$f":"TRIM(IF(ISERR(Sheet1!AK5),\"\",Sheet1!AK5))","v":""},{"$f":"TRIM(IF(ISERR(Sheet1!AL5),\"\",Sheet1!AL5))","v":""},{"$f":"TRIM(IF(ISERR(Sheet1!AM5),\"\",Sheet1!AM5))","v":""},{"$f":"TRIM(IF(ISERR(Sheet1!AN5),\"\",Sheet1!AN5))","v":""},{"$f":"TRIM(IF(ISERR(Sheet1!AO5),\"\",Sheet1!AO5))","v":""},{"$f":"TRIM(IF(ISERR(Sheet1!AP5),\"\",Sheet1!AP5))","v":""},{"$f":"TRIM(IF(ISERR(Sheet1!AQ5),\"\",Sheet1!AQ5))","v":""},{"$f":"TRIM(IF(ISERR(Sheet1!AR5),\"\",Sheet1!AR5))","v":""},{"$f":"TRIM(IF(ISERR(Sheet1!AS5),\"\",Sheet1!AS5))","v":""},{"$f":"TRIM(IF(ISERR(Sheet1!AT5),\"\",Sheet1!AT5))","v":""},{"$f":"TRIM(IF(ISERR(Sheet1!AU5),\"\",Sheet1!AU5))","v":""},{"$f":"TRIM(IF(ISERR(Sheet1!AV5),\"\",Sheet1!AV5))","v":""},{"$f":"TRIM(IF(ISERR(Sheet1!AW5),\"\",Sheet1!AW5))","v":""},{"$f":"TRIM(IF(ISERR(Sheet1!AX5),\"\",Sheet1!AX5))","v":""},{"$f":"TRIM(IF(ISERR(Sheet1!AY5),\"\",Sheet1!AY5))","v":""},{"$f":"TRIM(IF(ISERR(Sheet1!AZ5),\"\",Sheet1!AZ5))","v":""},{"$f":"TRIM(IF(ISERR(Sheet1!BA5),\"\",Sheet1!BA5))","v":""},{"$f":"TRIM(IF(ISERR(Sheet1!BB5),\"\",Sheet1!BB5))","v":""},{"$f":"TRIM(IF(ISERR(Sheet1!BC5),\"\",Sheet1!BC5))","v":""},{"$f":"TRIM(IF(ISERR(Sheet1!BD5),\"\",Sheet1!BD5))","v":""},{"$f":"TRIM(IF(ISERR(Sheet1!BE5),\"\",Sheet1!BE5))","v":""},{"$f":"TRIM(IF(ISERR(Sheet1!BF5),\"\",Sheet1!BF5))","v":""},{"$f":"TRIM(IF(ISERR(Sheet1!BG5),\"\",Sheet1!BG5))","v":""}]
[null,null,null,null,null,null,{"$f":"TRIM(IF(ISERR(Sheet1!G6),\"\",Sheet1!G6))","v":""},{"$f":"TRIM(IF(ISERR(Sheet1!H6),\"\",Sheet1!H6))","v":""},{"$f":"TRIM(IF(ISERR(Sheet1!I6),\"\",Sheet1!I6))","v":""},{"$f":"TRIM(IF(ISERR(Sheet1!J6),\"\",Sheet1!J6))","v":""},{"$f":"TRIM(IF(ISERR(Sheet1!K6),\"\",Sheet1!K6))","v":""},{"$f":"TRIM(IF(ISERR(Sheet1!L6),\"\",Sheet1!L6))","v":""},{"$f":"TRIM(IF(ISERR(Sheet1!M6),\"\",Sheet1!M6))","v":""},{"$f":"TRIM(IF(ISERR(Sheet1!N6),\"\",Sheet1!N6))","v":""},{"$f":"TRIM(IF(ISERR(Sheet1!O6),\"\",Sheet1!O6))","v":""},{"$f":"TRIM(IF(ISERR(Sheet1!P6),\"\",Sheet1!P6))","v":""},{"$f":"TRIM(IF(ISERR(Sheet1!Q6),\"\",Sheet1!Q6))","v":""},{"$f":"TRIM(IF(ISERR(Sheet1!R6),\"\",Sheet1!R6))","v":""},{"$f":"TRIM(IF(ISERR(Sheet1!S6),\"\",Sheet1!S6))","v":""},{"$f":"TRIM(IF(ISERR(Sheet1!T6),\"\",Sheet1!T6))","v":""},{"$f":"TRIM(IF(ISERR(Sheet1!U6),\"\",Sheet1!U6))","v":""},{"$f":"TRIM(IF(ISERR(Sheet1!V6),\"\",Sheet1!V6))","v":""},{"$f":"TRIM(IF(ISERR(Sheet1!W6),\"\",Sheet1!W6))","v":""},{"$f":"TRIM(IF(ISERR(Sheet1!X6),\"\",Sheet1!X6))","v":""},{"$f":"TRIM(IF(ISERR(Sheet1!Y6),\"\",Sheet1!Y6))","v":""},{"$f":"TRIM(IF(ISERR(Sheet1!Z6),\"\",Sheet1!Z6))","v":""},{"$f":"TRIM(IF(ISERR(Sheet1!AA6),\"\",Sheet1!AA6))","v":""},{"$f":"TRIM(IF(ISERR(Sheet1!AB6),\"\",Sheet1!AB6))","v":""},{"$f":"TRIM(IF(ISERR(Sheet1!AC6),\"\",Sheet1!AC6))","v":""},{"$f":"TRIM(IF(ISERR(Sheet1!AD6),\"\",Sheet1!AD6))","v":""},{"$f":"TRIM(IF(ISERR(Sheet1!AE6),\"\",Sheet1!AE6))","v":""},{"$f":"TRIM(IF(ISERR(Sheet1!AF6),\"\",Sheet1!AF6))","v":""},{"$f":"TRIM(IF(ISERR(Sheet1!AG6),\"\",Sheet1!AG6))","v":""},{"$f":"TRIM(IF(ISERR(Sheet1!AH6),\"\",Sheet1!AH6))","v":""},{"$f":"TRIM(IF(ISERR(Sheet1!AI6),\"\",Sheet1!AI6))","v":""},{"$f":"TRIM(IF(ISERR(Sheet1!AJ6),\"\",Sheet1!AJ6))","v":""},{"$f":"TRIM(IF(ISERR(Sheet1!AK6),\"\",Sheet1!AK6))","v":""},{"$f":"TRIM(IF(ISERR(Sheet1!AL6),\"\",Sheet1!AL6))","v":""},{"$f":"TRIM(IF(ISERR(Sheet1!AM6),\"\",Sheet1!AM6))","v":""},{"$f":"TRIM(IF(ISERR(Sheet1!AN6),\"\",Sheet1!AN6))","v":""},{"$f":"TRIM(IF(ISERR(Sheet1!AO6),\"\",Sheet1!AO6))","v":""},{"$f":"TRIM(IF(ISERR(Sheet1!AP6),\"\",Sheet1!AP6))","v":""},{"$f":"TRIM(IF(ISERR(Sheet1!AQ6),\"\",Sheet1!AQ6))","v":""},{"$f":"TRIM(IF(ISERR(Sheet1!AR6),\"\",Sheet1!AR6))","v":""},{"$f":"TRIM(IF(ISERR(Sheet1!AS6),\"\",Sheet1!AS6))","v":""},{"$f":"TRIM(IF(ISERR(Sheet1!AT6),\"\",Sheet1!AT6))","v":""},{"$f":"TRIM(IF(ISERR(Sheet1!AU6),\"\",Sheet1!AU6))","v":""},{"$f":"TRIM(IF(ISERR(Sheet1!AV6),\"\",Sheet1!AV6))","v":""},{"$f":"TRIM(IF(ISERR(Sheet1!AW6),\"\",Sheet1!AW6))","v":""},{"$f":"TRIM(IF(ISERR(Sheet1!AX6),\"\",Sheet1!AX6))","v":""},{"$f":"TRIM(IF(ISERR(Sheet1!AY6),\"\",Sheet1!AY6))","v":""},{"$f":"TRIM(IF(ISERR(Sheet1!AZ6),\"\",Sheet1!AZ6))","v":""},{"$f":"TRIM(IF(ISERR(Sheet1!BA6),\"\",Sheet1!BA6))","v":""},{"$f":"TRIM(IF(ISERR(Sheet1!BB6),\"\",Sheet1!BB6))","v":""},{"$f":"TRIM(IF(ISERR(Sheet1!BC6),\"\",Sheet1!BC6))","v":""},{"$f":"TRIM(IF(ISERR(Sheet1!BD6),\"\",Sheet1!BD6))","v":""},{"$f":"TRIM(IF(ISERR(Sheet1!BE6),\"\",Sheet1!BE6))","v":""},{"$f":"TRIM(IF(ISERR(Sheet1!BF6),\"\",Sheet1!BF6))","v":""},{"$f":"TRIM(IF(ISERR(Sheet1!BG6),\"\",Sheet1!BG6))","v":""}]
[null,null,null,null,null,null,{"$f":"TRIM(IF(ISERR(Sheet1!G7),\"\",Sheet1!G7))","v":""},{"$f":"TRIM(IF(ISERR(Sheet1!H7),\"\",Sheet1!H7))","v":""},{"$f":"TRIM(IF(ISERR(Sheet1!I7),\"\",Sheet1!I7))","v":""},{"$f":"TRIM(IF(ISERR(Sheet1!J7),\"\",Sheet1!J7))","v":""},{"$f":"TRIM(IF(ISERR(Sheet1!K7),\"\",Sheet1!K7))","v":""},{"$f":"TRIM(IF(ISERR(Sheet1!L7),\"\",Sheet1!L7))","v":""},{"$f":"TRIM(IF(ISERR(Sheet1!M7),\"\",Sheet1!M7))","v":""},{"$f":"TRIM(IF(ISERR(Sheet1!N7),\"\",Sheet1!N7))","v":""},{"$f":"TRIM(IF(ISERR(Sheet1!O7),\"\",Sheet1!O7))","v":""},{"$f":"TRIM(IF(ISERR(Sheet1!P7),\"\",Sheet1!P7))","v":""},{"$f":"TRIM(IF(ISERR(Sheet1!Q7),\"\",Sheet1!Q7))","v":""},{"$f":"TRIM(IF(ISERR(Sheet1!R7),\"\",Sheet1!R7))","v":""},{"$f":"TRIM(IF(ISERR(Sheet1!S7),\"\",Sheet1!S7))","v":""},{"$f":"TRIM(IF(ISERR(Sheet1!T7),\"\",Sheet1!T7))","v":""},{"$f":"TRIM(IF(ISERR(Sheet1!U7),\"\",Sheet1!U7))","v":""},{"$f":"TRIM(IF(ISERR(Sheet1!V7),\"\",Sheet1!V7))","v":""},{"$f":"TRIM(IF(ISERR(Sheet1!W7),\"\",Sheet1!W7))","v":""},{"$f":"TRIM(IF(ISERR(Sheet1!X7),\"\",Sheet1!X7))","v":""},{"$f":"TRIM(IF(ISERR(Sheet1!Y7),\"\",Sheet1!Y7))","v":""},{"$f":"TRIM(IF(ISERR(Sheet1!Z7),\"\",Sheet1!Z7))","v":""},{"$f":"TRIM(IF(ISERR(Sheet1!AA7),\"\",Sheet1!AA7))","v":""},{"$f":"TRIM(IF(ISERR(Sheet1!AB7),\"\",Sheet1!AB7))","v":""},{"$f":"TRIM(IF(ISERR(Sheet1!AC7),\"\",Sheet1!AC7))","v":""},{"$f":"TRIM(IF(ISERR(Sheet1!AD7),\"\",Sheet1!AD7))","v":""},{"$f":"TRIM(IF(ISERR(Sheet1!AE7),\"\",Sheet1!AE7))","v":""},{"$f":"TRIM(IF(ISERR(Sheet1!AF7),\"\",Sheet1!AF7))","v":""},{"$f":"TRIM(IF(ISERR(Sheet1!AG7),\"\",Sheet1!AG7))","v":""},{"$f":"TRIM(IF(ISERR(Sheet1!AH7),\"\",Sheet1!AH7))","v":""},{"$f":"TRIM(IF(ISERR(Sheet1!AI7),\"\",Sheet1!AI7))","v":""},{"$f":"TRIM(IF(ISERR(Sheet1!AJ7),\"\",Sheet1!AJ7))","v":""},{"$f":"TRIM(IF(ISERR(Sheet1!AK7),\"\",Sheet1!AK7))","v":""},{"$f":"TRIM(IF(ISERR(Sheet1!AL7),\"\",Sheet1!AL7))","v":""},{"$f":"TRIM(IF(ISERR(Sheet1!AM7),\"\",Sheet1!AM7))","v":""},{"$f":"TRIM(IF(ISERR(Sheet1!AN7),\"\",Sheet1!AN7))","v":""},{"$f":"TRIM(IF(ISERR(Sheet1!AO7),\"\",Sheet1!AO7))","v":""},{"$f":"TRIM(IF(ISERR(Sheet1!AP7),\"\",Sheet1!AP7))","v":""},{"$f":"TRIM(IF(ISERR(Sheet1!AQ7),\"\",Sheet1!AQ7))","v":""},{"$f":"TRIM(IF(ISERR(Sheet1!AR7),\"\",Sheet1!AR7))","v":""},{"$f":"TRIM(IF(ISERR(Sheet1!AS7),\"\",Sheet1!AS7))","v":""},{"$f":"TRIM(IF(ISERR(Sheet1!AT7),\"\",Sheet1!AT7))","v":""},{"$f":"TRIM(IF(ISERR(Sheet1!AU7),\"\",Sheet1!AU7))","v":""},{"$f":"TRIM(IF(ISERR(Sheet1!AV7),\"\",Sheet1!AV7))","v":""},{"$f":"TRIM(IF(ISERR(Sheet1!AW7),\"\",Sheet1!AW7))","v":""},{"$f":"TRIM(IF(ISERR(Sheet1!AX7),\"\",Sheet1!AX7))","v":""},{"$f":"TRIM(IF(ISERR(Sheet1!AY7),\"\",Sheet1!AY7))","v":""},{"$f":"TRIM(IF(ISERR(Sheet1!AZ7),\"\",Sheet1!AZ7))","v":""},{"$f":"TRIM(IF(ISERR(Sheet1!BA7),\"\",Sheet1!BA7))","v":""},{"$f":"TRIM(IF(ISERR(Sheet1!BB7),\"\",Sheet1!BB7))","v":""},{"$f":"TRIM(IF(ISERR(Sheet1!BC7),\"\",Sheet1!BC7))","v":""},{"$f":"TRIM(IF(ISERR(Sheet1!BD7),\"\",Sheet1!BD7))","v":""},{"$f":"TRIM(IF(ISERR(Sheet1!BE7),\"\",Sheet1!BE7))","v":""},{"$f":"TRIM(IF(ISERR(Sheet1!BF7),\"\",Sheet1!BF7))","v":""},{"$f":"TRIM(IF(ISERR(Sheet1!BG7),\"\",Sheet1!BG7))","v":""}]
[null,null,null,null,null,null,{"$f":"TRIM(IF(ISERR(Sheet1!G8),\"\",Sheet1!G8))","v":""},{"$f":"TRIM(IF(ISERR(Sheet1!H8),\"\",Sheet1!H8))","v":""},{"$f":"TRIM(IF(ISERR(Sheet1!I8),\"\",Sheet1!I8))","v":""},{"$f":"TRIM(IF(ISERR(Sheet1!J8),\"\",Sheet1!J8))","v":""},{"$f":"TRIM(IF(ISERR(Sheet1!K8),\"\",Sheet1!K8))","v":""},{"$f":"TRIM(IF(ISERR(Sheet1!L8),\"\",Sheet1!L8))","v":""},{"$f":"TRIM(IF(ISERR(Sheet1!M8),\"\",Sheet1!M8))","v":""},{"$f":"TRIM(IF(ISERR(Sheet1!N8),\"\",Sheet1!N8))","v":""},{"$f":"TRIM(IF(ISERR(Sheet1!O8),\"\",Sheet1!O8))","v":""},{"$f":"TRIM(IF(ISERR(Sheet1!P8),\"\",Sheet1!P8))","v":""},{"$f":"TRIM(IF(ISERR(Sheet1!Q8),\"\",Sheet1!Q8))","v":""},{"$f":"TRIM(IF(ISERR(Sheet1!R8),\"\",Sheet1!R8))","v":""},{"$f":"TRIM(IF(ISERR(Sheet1!S8),\"\",Sheet1!S8))","v":""},{"$f":"TRIM(IF(ISERR(Sheet1!T8),\"\",Sheet1!T8))","v":""},{"$f":"TRIM(IF(ISERR(Sheet1!U8),\"\",Sheet1!U8))","v":""},{"$f":"TRIM(IF(ISERR(Sheet1!V8),\"\",Sheet1!V8))","v":""},{"$f":"TRIM(IF(ISERR(Sheet1!W8),\"\",Sheet1!W8))","v":""},{"$f":"TRIM(IF(ISERR(Sheet1!X8),\"\",Sheet1!X8))","v":""},{"$f":"TRIM(IF(ISERR(Sheet1!Y8),\"\",Sheet1!Y8))","v":""},{"$f":"TRIM(IF(ISERR(Sheet1!Z8),\"\",Sheet1!Z8))","v":""},{"$f":"TRIM(IF(ISERR(Sheet1!AA8),\"\",Sheet1!AA8))","v":""},{"$f":"TRIM(IF(ISERR(Sheet1!AB8),\"\",Sheet1!AB8))","v":""},{"$f":"TRIM(IF(ISERR(Sheet1!AC8),\"\",Sheet1!AC8))","v":""},{"$f":"TRIM(IF(ISERR(Sheet1!AD8),\"\",Sheet1!AD8))","v":""},{"$f":"TRIM(IF(ISERR(Sheet1!AE8),\"\",Sheet1!AE8))","v":""},{"$f":"TRIM(IF(ISERR(Sheet1!AF8),\"\",Sheet1!AF8))","v":""},{"$f":"TRIM(IF(ISERR(Sheet1!AG8),\"\",Sheet1!AG8))","v":""},{"$f":"TRIM(IF(ISERR(Sheet1!AH8),\"\",Sheet1!AH8))","v":""},{"$f":"TRIM(IF(ISERR(Sheet1!AI8),\"\",Sheet1!AI8))","v":""},{"$f":"TRIM(IF(ISERR(Sheet1!AJ8),\"\",Sheet1!AJ8))","v":""},{"$f":"TRIM(IF(ISERR(Sheet1!AK8),\"\",Sheet1!AK8))","v":""},{"$f":"TRIM(IF(ISERR(Sheet1!AL8),\"\",Sheet1!AL8))","v":""},{"$f":"TRIM(IF(ISERR(Sheet1!AM8),\"\",Sheet1!AM8))","v":""},{"$f":"TRIM(IF(ISERR(Sheet1!AN8),\"\",Sheet1!AN8))","v":""},{"$f":"TRIM(IF(ISERR(Sheet1!AO8),\"\",Sheet1!AO8))","v":""},{"$f":"TRIM(IF(ISERR(Sheet1!AP8),\"\",Sheet1!AP8))","v":""},{"$f":"TRIM(IF(ISERR(Sheet1!AQ8),\"\",Sheet1!AQ8))","v":""},{"$f":"TRIM(IF(ISERR(Sheet1!AR8),\"\",Sheet1!AR8))","v":""},{"$f":"TRIM(IF(ISERR(Sheet1!AS8),\"\",Sheet1!AS8))","v":""},{"$f":"TRIM(IF(ISERR(Sheet1!AT8),\"\",Sheet1!AT8))","v":""},{"$f":"TRIM(IF(ISERR(Sheet1!AU8),\"\",Sheet1!AU8))","v":""},{"$f":"TRIM(IF(ISERR(Sheet1!AV8),\"\",Sheet1!AV8))","v":""},{"$f":"TRIM(IF(ISERR(Sheet1!AW8),\"\",Sheet1!AW8))","v":""},{"$f":"TRIM(IF(ISERR(Sheet1!AX8),\"\",Sheet1!AX8))","v":""},{"$f":"TRIM(IF(ISERR(Sheet1!AY8),\"\",Sheet1!AY8))","v":""},{"$f":"TRIM(IF(ISERR(Sheet1!AZ8),\"\",Sheet1!AZ8))","v":""},{"$f":"TRIM(IF(ISERR(Sheet1!BA8),\"\",Sheet1!BA8))","v":""},{"$f":"TRIM(IF(ISERR(Sheet1!BB8),\"\",Sheet1!BB8))","v":""},{"$f":"TRIM(IF(ISERR(Sheet1!BC8),\"\",Sheet1!BC8))","v":""},{"$f":"TRIM(IF(ISERR(Sheet1!BD8),\"\",Sheet1!BD8))","v":""},{"$f":"TRIM(IF(ISERR(Sheet1!BE8),\"\",Sheet1!BE8))","v":""},{"$f":"TRIM(IF(ISERR(Sheet1!BF8),\"\",Sheet1!BF8))","v":""},{"$f":"TRIM(IF(ISERR(Sheet1!BG8),\"\",Sheet1!BG8))","v":""}]
[null,null,null,null,null,null,{"$f":"TRIM(IF(ISERR(Sheet1!G9),\"\",Sheet1!G9))","v":""},{"$f":"TRIM(IF(ISERR(Sheet1!H9),\"\",Sheet1!H9))","v":""},{"$f":"TRIM(IF(ISERR(Sheet1!I9),\"\",Sheet1!I9))","v":""},{"$f":"TRIM(IF(ISERR(Sheet1!J9),\"\",Sheet1!J9))","v":""},{"$f":"TRIM(IF(ISERR(Sheet1!K9),\"\",Sheet1!K9))","v":""},{"$f":"TRIM(IF(ISERR(Sheet1!L9),\"\",Sheet1!L9))","v":""},{"$f":"TRIM(IF(ISERR(Sheet1!M9),\"\",Sheet1!M9))","v":""},{"$f":"TRIM(IF(ISERR(Sheet1!N9),\"\",Sheet1!N9))","v":""},{"$f":"TRIM(IF(ISERR(Sheet1!O9),\"\",Sheet1!O9))","v":""},{"$f":"TRIM(IF(ISERR(Sheet1!P9),\"\",Sheet1!P9))","v":""},{"$f":"TRIM(IF(ISERR(Sheet1!Q9),\"\",Sheet1!Q9))","v":""},{"$f":"TRIM(IF(ISERR(Sheet1!R9),\"\",Sheet1!R9))","v":""},{"$f":"TRIM(IF(ISERR(Sheet1!S9),\"\",Sheet1!S9))","v":""},{"$f":"TRIM(IF(ISERR(Sheet1!T9),\"\",Sheet1!T9))","v":""},{"$f":"TRIM(IF(ISERR(Sheet1!U9),\"\",Sheet1!U9))","v":""},{"$f":"TRIM(IF(ISERR(Sheet1!V9),\"\",Sheet1!V9))","v":""},{"$f":"TRIM(IF(ISERR(Sheet1!W9),\"\",Sheet1!W9))","v":""},{"$f":"TRIM(IF(ISERR(Sheet1!X9),\"\",Sheet1!X9))","v":""},{"$f":"TRIM(IF(ISERR(Sheet1!Y9),\"\",Sheet1!Y9))","v":""},{"$f":"TRIM(IF(ISERR(Sheet1!Z9),\"\",Sheet1!Z9))","v":""},{"$f":"TRIM(IF(ISERR(Sheet1!AA9),\"\",Sheet1!AA9))","v":""},{"$f":"TRIM(IF(ISERR(Sheet1!AB9),\"\",Sheet1!AB9))","v":""},{"$f":"TRIM(IF(ISERR(Sheet1!AC9),\"\",Sheet1!AC9))","v":""},{"$f":"TRIM(IF(ISERR(Sheet1!AD9),\"\",Sheet1!AD9))","v":""},{"$f":"TRIM(IF(ISERR(Sheet1!AE9),\"\",Sheet1!AE9))","v":""},{"$f":"TRIM(IF(ISERR(Sheet1!AF9),\"\",Sheet1!AF9))","v":""},{"$f":"TRIM(IF(ISERR(Sheet1!AG9),\"\",Sheet1!AG9))","v":""},{"$f":"TRIM(IF(ISERR(Sheet1!AH9),\"\",Sheet1!AH9))","v":""},{"$f":"TRIM(IF(ISERR(Sheet1!AI9),\"\",Sheet1!AI9))","v":""},{"$f":"TRIM(IF(ISERR(Sheet1!AJ9),\"\",Sheet1!AJ9))","v":""},{"$f":"TRIM(IF(ISERR(Sheet1!AK9),\"\",Sheet1!AK9))","v":""},{"$f":"TRIM(IF(ISERR(Sheet1!AL9),\"\",Sheet1!AL9))","v":""},{"$f":"TRIM(IF(ISERR(Sheet1!AM9),\"\",Sheet1!AM9))","v":""},{"$f":"TRIM(IF(ISERR(Sheet1!AN9),\"\",Sheet1!AN9))","v":""},{"$f":"TRIM(IF(ISERR(Sheet1!AO9),\"\",Sheet1!AO9))","v":""},{"$f":"TRIM(IF(ISERR(Sheet1!AP9),\"\",Sheet1!AP9))","v":""},{"$f":"TRIM(IF(ISERR(Sheet1!AQ9),\"\",Sheet1!AQ9))","v":""},{"$f":"TRIM(IF(ISERR(Sheet1!AR9),\"\",Sheet1!AR9))","v":""},{"$f":"TRIM(IF(ISERR(Sheet1!AS9),\"\",Sheet1!AS9))","v":""},{"$f":"TRIM(IF(ISERR(Sheet1!AT9),\"\",Sheet1!AT9))","v":""},{"$f":"TRIM(IF(ISERR(Sheet1!AU9),\"\",Sheet1!AU9))","v":""},{"$f":"TRIM(IF(ISERR(Sheet1!AV9),\"\",Sheet1!AV9))","v":""},{"$f":"TRIM(IF(ISERR(Sheet1!AW9),\"\",Sheet1!AW9))","v":""},{"$f":"TRIM(IF(ISERR(Sheet1!AX9),\"\",Sheet1!AX9))","v":""},{"$f":"TRIM(IF(ISERR(Sheet1!AY9),\"\",Sheet1!AY9))","v":""},{"$f":"TRIM(IF(ISERR(Sheet1!AZ9),\"\",Sheet1!AZ9))","v":""},{"$f":"TRIM(IF(ISERR(Sheet1!BA9),\"\",Sheet1!BA9))","v":""},{"$f":"TRIM(IF(ISERR(Sheet1!BB9),\"\",Sheet1!BB9))","v":""},{"$f":"TRIM(IF(ISERR(Sheet1!BC9),\"\",Sheet1!BC9))","v":""},{"$f":"TRIM(IF(ISERR(Sheet1!BD9),\"\",Sheet1!BD9))","v":""},{"$f":"TRIM(IF(ISERR(Sheet1!BE9),\"\",Sheet1!BE9))","v":""},{"$f":"TRIM(IF(ISERR(Sheet1!BF9),\"\",Sheet1!BF9))","v":""},{"$f":"TRIM(IF(ISERR(Sheet1!BG9),\"\",Sheet1!BG9))","v":""}]
[null,null,null,null,null,null,{"$f":"TRIM(IF(ISERR(Sheet1!G10),\"\",Sheet1!G10))","v":""},{"$f":"TRIM(IF(ISERR(Sheet1!H10),\"\",Sheet1!H10))","v":""},{"$f":"TRIM(IF(ISERR(Sheet1!I10),\"\",Sheet1!I10))","v":""},{"$f":"TRIM(IF(ISERR(Sheet1!J10),\"\",Sheet1!J10))","v":""},{"$f":"TRIM(IF(ISERR(Sheet1!K10),\"\",Sheet1!K10))","v":""},{"$f":"TRIM(IF(ISERR(Sheet1!L10),\"\",Sheet1!L10))","v":""},{"$f":"TRIM(IF(ISERR(Sheet1!M10),\"\",Sheet1!M10))","v":""},{"$f":"TRIM(IF(ISERR(Sheet1!N10),\"\",Sheet1!N10))","v":""},{"$f":"TRIM(IF(ISERR(Sheet1!O10),\"\",Sheet1!O10))","v":""},{"$f":"TRIM(IF(ISERR(Sheet1!P10),\"\",Sheet1!P10))","v":""},{"$f":"TRIM(IF(ISERR(Sheet1!Q10),\"\",Sheet1!Q10))","v":""},{"$f":"TRIM(IF(ISERR(Sheet1!R10),\"\",Sheet1!R10))","v":""},{"$f":"TRIM(IF(ISERR(Sheet1!S10),\"\",Sheet1!S10))","v":""},{"$f":"TRIM(IF(ISERR(Sheet1!T10),\"\",Sheet1!T10))","v":""},{"$f":"TRIM(IF(ISERR(Sheet1!U10),\"\",Sheet1!U10))","v":""},{"$f":"TRIM(IF(ISERR(Sheet1!V10),\"\",Sheet1!V10))","v":""},{"$f":"TRIM(IF(ISERR(Sheet1!W10),\"\",Sheet1!W10))","v":""},{"$f":"TRIM(IF(ISERR(Sheet1!X10),\"\",Sheet1!X10))","v":""},{"$f":"TRIM(IF(ISERR(Sheet1!Y10),\"\",Sheet1!Y10))","v":""},{"$f":"TRIM(IF(ISERR(Sheet1!Z10),\"\",Sheet1!Z10))","v":""},{"$f":"TRIM(IF(ISERR(Sheet1!AA10),\"\",Sheet1!AA10))","v":""},{"$f":"TRIM(IF(ISERR(Sheet1!AB10),\"\",Sheet1!AB10))","v":""},{"$f":"TRIM(IF(ISERR(Sheet1!AC10),\"\",Sheet1!AC10))","v":""},{"$f":"TRIM(IF(ISERR(Sheet1!AD10),\"\",Sheet1!AD10))","v":""},{"$f":"TRIM(IF(ISERR(Sheet1!AE10),\"\",Sheet1!AE10))","v":""},{"$f":"TRIM(IF(ISERR(Sheet1!AF10),\"\",Sheet1!AF10))","v":""},{"$f":"TRIM(IF(ISERR(Sheet1!AG10),\"\",Sheet1!AG10))","v":""},{"$f":"TRIM(IF(ISERR(Sheet1!AH10),\"\",Sheet1!AH10))","v":""},{"$f":"TRIM(IF(ISERR(Sheet1!AI10),\"\",Sheet1!AI10))","v":""},{"$f":"TRIM(IF(ISERR(Sheet1!AJ10),\"\",Sheet1!AJ10))","v":""},{"$f":"TRIM(IF(ISERR(Sheet1!AK10),\"\",Sheet1!AK10))","v":""},{"$f":"TRIM(IF(ISERR(Sheet1!AL10),\"\",Sheet1!AL10))","v":""},{"$f":"TRIM(IF(ISERR(Sheet1!AM10),\"\",Sheet1!AM10))","v":""},{"$f":"TRIM(IF(ISERR(Sheet1!AN10),\"\",Sheet1!AN10))","v":""},{"$f":"TRIM(IF(ISERR(Sheet1!AO10),\"\",Sheet1!AO10))","v":""},{"$f":"TRIM(IF(ISERR(Sheet1!AP10),\"\",Sheet1!AP10))","v":""},{"$f":"TRIM(IF(ISERR(Sheet1!AQ10),\"\",Sheet1!AQ10))","v":""},{"$f":"TRIM(IF(ISERR(Sheet1!AR10),\"\",Sheet1!AR10))","v":""},{"$f":"TRIM(IF(ISERR(Sheet1!AS10),\"\",Sheet1!AS10))","v":""},{"$f":"TRIM(IF(ISERR(Sheet1!AT10),\"\",Sheet1!AT10))","v":""},{"$f":"TRIM(IF(ISERR(Sheet1!AU10),\"\",Sheet1!AU10))","v":""},{"$f":"TRIM(IF(ISERR(Sheet1!AV10),\"\",Sheet1!AV10))","v":""},{"$f":"TRIM(IF(ISERR(Sheet1!AW10),\"\",Sheet1!AW10))","v":""},{"$f":"TRIM(IF(ISERR(Sheet1!AX10),\"\",Sheet1!AX10))","v":""},{"$f":"TRIM(IF(ISERR(Sheet1!AY10),\"\",Sheet1!AY10))","v":""},{"$f":"TRIM(IF(ISERR(Sheet1!AZ10),\"\",Sheet1!AZ10))","v":""},{"$f":"TRIM(IF(ISERR(Sheet1!BA10),\"\",Sheet1!BA10))","v":""},{"$f":"TRIM(IF(ISERR(Sheet1!BB10),\"\",Sheet1!BB10))","v":""},{"$f":"TRIM(IF(ISERR(Sheet1!BC10),\"\",Sheet1!BC10))","v":""},{"$f":"TRIM(IF(ISERR(Sheet1!BD10),\"\",Sheet1!BD10))","v":""},{"$f":"TRIM(IF(ISERR(Sheet1!BE10),\"\",Sheet1!BE10))","v":""},{"$f":"TRIM(IF(ISERR(Sheet1!BF10),\"\",Sheet1!BF10))","v":""},{"$f":"TRIM(IF(ISERR(Sheet1!BG10),\"\",Sheet1!BG10))","v":""}]
[null,null,null,null,null,null,{"$f":"TRIM(IF(ISERR(Sheet1!G11),\"\",Sheet1!G11))","v":""},{"$f":"TRIM(IF(ISERR(Sheet1!H11),\"\",Sheet1!H11))","v":""},{"$f":"TRIM(IF(ISERR(Sheet1!I11),\"\",Sheet1!I11))","v":""},{"$f":"TRIM(IF(ISERR(Sheet1!J11),\"\",Sheet1!J11))","v":""},{"$f":"TRIM(IF(ISERR(Sheet1!K11),\"\",Sheet1!K11))","v":""},{"$f":"TRIM(IF(ISERR(Sheet1!L11),\"\",Sheet1!L11))","v":""},{"$f":"TRIM(IF(ISERR(Sheet1!M11),\"\",Sheet1!M11))","v":""},{"$f":"TRIM(IF(ISERR(Sheet1!N11),\"\",Sheet1!N11))","v":""},{"$f":"TRIM(IF(ISERR(Sheet1!O11),\"\",Sheet1!O11))","v":""},{"$f":"TRIM(IF(ISERR(Sheet1!P11),\"\",Sheet1!P11))","v":""},{"$f":"TRIM(IF(ISERR(Sheet1!Q11),\"\",Sheet1!Q11))","v":""},{"$f":"TRIM(IF(ISERR(Sheet1!R11),\"\",Sheet1!R11))","v":""},{"$f":"TRIM(IF(ISERR(Sheet1!S11),\"\",Sheet1!S11))","v":""},{"$f":"TRIM(IF(ISERR(Sheet1!T11),\"\",Sheet1!T11))","v":""},{"$f":"TRIM(IF(ISERR(Sheet1!U11),\"\",Sheet1!U11))","v":""},{"$f":"TRIM(IF(ISERR(Sheet1!V11),\"\",Sheet1!V11))","v":""},{"$f":"TRIM(IF(ISERR(Sheet1!W11),\"\",Sheet1!W11))","v":""},{"$f":"TRIM(IF(ISERR(Sheet1!X11),\"\",Sheet1!X11))","v":""},{"$f":"TRIM(IF(ISERR(Sheet1!Y11),\"\",Sheet1!Y11))","v":""},{"$f":"TRIM(IF(ISERR(Sheet1!Z11),\"\",Sheet1!Z11))","v":""},{"$f":"TRIM(IF(ISERR(Sheet1!AA11),\"\",Sheet1!AA11))","v":""},{"$f":"TRIM(IF(ISERR(Sheet1!AB11),\"\",Sheet1!AB11))","v":""},{"$f":"TRIM(IF(ISERR(Sheet1!AC11),\"\",Sheet1!AC11))","v":""},{"$f":"TRIM(IF(ISERR(Sheet1!AD11),\"\",Sheet1!AD11))","v":""},{"$f":"TRIM(IF(ISERR(Sheet1!AE11),\"\",Sheet1!AE11))","v":""},{"$f":"TRIM(IF(ISERR(Sheet1!AF11),\"\",Sheet1!AF11))","v":""},{"$f":"TRIM(IF(ISERR(Sheet1!AG11),\"\",Sheet1!AG11))","v":""},{"$f":"TRIM(IF(ISERR(Sheet1!AH11),\"\",Sheet1!AH11))","v":""},{"$f":"TRIM(IF(ISERR(Sheet1!AI11),\"\",Sheet1!AI11))","v":""},{"$f":"TRIM(IF(ISERR(Sheet1!AJ11),\"\",Sheet1!AJ11))","v":""},{"$f":"TRIM(IF(ISERR(Sheet1!AK11),\"\",Sheet1!AK11))","v":""},{"$f":"TRIM(IF(ISERR(Sheet1!AL11),\"\",Sheet1!AL11))","v":""},{"$f":"TRIM(IF(ISERR(Sheet1!AM11),\"\",Sheet1!AM11))","v":""},{"$f":"TRIM(IF(ISERR(Sheet1!AN11),\"\",Sheet1!AN11))","v":""},{"$f":"TRIM(IF(ISERR(Sheet1!AO11),\"\",Sheet1!AO11))","v":""},{"$f":"TRIM(IF(ISERR(Sheet1!AP11),\"\",Sheet1!AP11))","v":""},{"$f":"TRIM(IF(ISERR(Sheet1!AQ11),\"\",Sheet1!AQ11))","v":""},{"$f":"TRIM(IF(ISERR(Sheet1!AR11),\"\",Sheet1!AR11))","v":""},{"$f":"TRIM(IF(ISERR(Sheet1!AS11),\"\",Sheet1!AS11))","v":""},{"$f":"TRIM(IF(ISERR(Sheet1!AT11),\"\",Sheet1!AT11))","v":""},{"$f":"TRIM(IF(ISERR(Sheet1!AU11),\"\",Sheet1!AU11))","v":""},{"$f":"TRIM(IF(ISERR(Sheet1!AV11),\"\",Sheet1!AV11))","v":""},{"$f":"TRIM(IF(ISERR(Sheet1!AW11),\"\",Sheet1!AW11))","v":""},{"$f":"TRIM(IF(ISERR(Sheet1!AX11),\"\",Sheet1!AX11))","v":""},{"$f":"TRIM(IF(ISERR(Sheet1!AY11),\"\",Sheet1!AY11))","v":""},{"$f":"TRIM(IF(ISERR(Sheet1!AZ11),\"\",Sheet1!AZ11))","v":""},{"$f":"TRIM(IF(ISERR(Sheet1!BA11),\"\",Sheet1!BA11))","v":""},{"$f":"TRIM(IF(ISERR(Sheet1!BB11),\"\",Sheet1!BB11))","v":""},{"$f":"TRIM(IF(ISERR(Sheet1!BC11),\"\",Sheet1!BC11))","v":""},{"$f":"TRIM(IF(ISERR(Sheet1!BD11),\"\",Sheet1!BD11))","v":""},{"$f":"TRIM(IF(ISERR(Sheet1!BE11),\"\",Sheet1!BE11))","v":""},{"$f":"TRIM(IF(ISERR(Sheet1!BF11),\"\",Sheet1!BF11))","v":""},{"$f":"TRIM(IF(ISERR(Sheet1!BG11),\"\",Sheet1!BG11))","v":""}]
[null,null,null,null,null,null,{"$f":"TRIM(IF(ISERR(Sheet1!G12),\"\",Sheet1!G12))","v":""},{"$f":"TRIM(IF(ISERR(Sheet1!H12),\"\",Sheet1!H12))","v":""},{"$f":"TRIM(IF(ISERR(Sheet1!I12),\"\",Sheet1!I12))","v":""},{"$f":"TRIM(IF(ISERR(Sheet1!J12),\"\",Sheet1!J12))","v":""},{"$f":"TRIM(IF(ISERR(Sheet1!K12),\"\",Sheet1!K12))","v":""},{"$f":"TRIM(IF(ISERR(Sheet1!L12),\"\",Sheet1!L12))","v":""},{"$f":"TRIM(IF(ISERR(Sheet1!M12),\"\",Sheet1!M12))","v":""},{"$f":"TRIM(IF(ISERR(Sheet1!N12),\"\",Sheet1!N12))","v":""},{"$f":"TRIM(IF(ISERR(Sheet1!O12),\"\",Sheet1!O12))","v":""},{"$f":"TRIM(IF(ISERR(Sheet1!P12),\"\",Sheet1!P12))","v":""},{"$f":"TRIM(IF(ISERR(Sheet1!Q12),\"\",Sheet1!Q12))","v":""},{"$f":"TRIM(IF(ISERR(Sheet1!R12),\"\",Sheet1!R12))","v":""},{"$f":"TRIM(IF(ISERR(Sheet1!S12),\"\",Sheet1!S12))","v":""},{"$f":"TRIM(IF(ISERR(Sheet1!T12),\"\",Sheet1!T12))","v":""},{"$f":"TRIM(IF(ISERR(Sheet1!U12),\"\",Sheet1!U12))","v":""},{"$f":"TRIM(IF(ISERR(Sheet1!V12),\"\",Sheet1!V12))","v":""},{"$f":"TRIM(IF(ISERR(Sheet1!W12),\"\",Sheet1!W12))","v":""},{"$f":"TRIM(IF(ISERR(Sheet1!X12),\"\",Sheet1!X12))","v":""},{"$f":"TRIM(IF(ISERR(Sheet1!Y12),\"\",Sheet1!Y12))","v":""},{"$f":"TRIM(IF(ISERR(Sheet1!Z12),\"\",Sheet1!Z12))","v":""},{"$f":"TRIM(IF(ISERR(Sheet1!AA12),\"\",Sheet1!AA12))","v":""},{"$f":"TRIM(IF(ISERR(Sheet1!AB12),\"\",Sheet1!AB12))","v":""},{"$f":"TRIM(IF(ISERR(Sheet1!AC12),\"\",Sheet1!AC12))","v":""},{"$f":"TRIM(IF(ISERR(Sheet1!AD12),\"\",Sheet1!AD12))","v":""},{"$f":"TRIM(IF(ISERR(Sheet1!AE12),\"\",Sheet1!AE12))","v":""},{"$f":"TRIM(IF(ISERR(Sheet1!AF12),\"\",Sheet1!AF12))","v":""},{"$f":"TRIM(IF(ISERR(Sheet1!AG12),\"\",Sheet1!AG12))","v":""},{"$f":"TRIM(IF(ISERR(Sheet1!AH12),\"\",Sheet1!AH12))","v":""},{"$f":"TRIM(IF(ISERR(Sheet1!AI12),\"\",Sheet1!AI12))","v":""},{"$f":"TRIM(IF(ISERR(Sheet1!AJ12),\"\",Sheet1!AJ12))","v":""},{"$f":"TRIM(IF(ISERR(Sheet1!AK12),\"\",Sheet1!AK12))","v":""},{"$f":"TRIM(IF(ISERR(Sheet1!AL12),\"\",Sheet1!AL12))","v":""},{"$f":"TRIM(IF(ISERR(Sheet1!AM12),\"\",Sheet1!AM12))","v":""},{"$f":"TRIM(IF(ISERR(Sheet1!AN12),\"\",Sheet1!AN12))","v":""},{"$f":"TRIM(IF(ISERR(Sheet1!AO12),\"\",Sheet1!AO12))","v":""},{"$f":"TRIM(IF(ISERR(Sheet1!AP12),\"\",Sheet1!AP12))","v":""},{"$f":"TRIM(IF(ISERR(Sheet1!AQ12),\"\",Sheet1!AQ12))","v":""},{"$f":"TRIM(IF(ISERR(Sheet1!AR12),\"\",Sheet1!AR12))","v":""},{"$f":"TRIM(IF(ISERR(Sheet1!AS12),\"\",Sheet1!AS12))","v":""},{"$f":"TRIM(IF(ISERR(Sheet1!AT12),\"\",Sheet1!AT12))","v":""},{"$f":"TRIM(IF(ISERR(Sheet1!AU12),\"\",Sheet1!AU12))","v":""},{"$f":"TRIM(IF(ISERR(Sheet1!AV12),\"\",Sheet1!AV12))","v":""},{"$f":"TRIM(IF(ISERR(Sheet1!AW12),\"\",Sheet1!AW12))","v":""},{"$f":"TRIM(IF(ISERR(Sheet1!AX12),\"\",Sheet1!AX12))","v":""},{"$f":"TRIM(IF(ISERR(Sheet1!AY12),\"\",Sheet1!AY12))","v":""},{"$f":"TRIM(IF(ISERR(Sheet1!AZ12),\"\",Sheet1!AZ12))","v":""},{"$f":"TRIM(IF(ISERR(Sheet1!BA12),\"\",Sheet1!BA12))","v":""},{"$f":"TRIM(IF(ISERR(Sheet1!BB12),\"\",Sheet1!BB12))","v":""},{"$f":"TRIM(IF(ISERR(Sheet1!BC12),\"\",Sheet1!BC12))","v":""},{"$f":"TRIM(IF(ISERR(Sheet1!BD12),\"\",Sheet1!BD12))","v":""},{"$f":"TRIM(IF(ISERR(Sheet1!BE12),\"\",Sheet1!BE12))","v":""},{"$f":"TRIM(IF(ISERR(Sheet1!BF12),\"\",Sheet1!BF12))","v":""},{"$f":"TRIM(IF(ISERR(Sheet1!BG12),\"\",Sheet1!BG12))","v":""}]
[null,null,null,null,null,null,{"$f":"TRIM(IF(ISERR(Sheet1!G13),\"\",Sheet1!G13))","v":""},{"$f":"TRIM(IF(ISERR(Sheet1!H13),\"\",Sheet1!H13))","v":""},{"$f":"TRIM(IF(ISERR(Sheet1!I13),\"\",Sheet1!I13))","v":""},{"$f":"TRIM(IF(ISERR(Sheet1!J13),\"\",Sheet1!J13))","v":""},{"$f":"TRIM(IF(ISERR(Sheet1!K13),\"\",Sheet1!K13))","v":""},{"$f":"TRIM(IF(ISERR(Sheet1!L13),\"\",Sheet1!L13))","v":""},{"$f":"TRIM(IF(ISERR(Sheet1!M13),\"\",Sheet1!M13))","v":""},{"$f":"TRIM(IF(ISERR(Sheet1!N13),\"\",Sheet1!N13))","v":""},{"$f":"TRIM(IF(ISERR(Sheet1!O13),\"\",Sheet1!O13))","v":""},{"$f":"TRIM(IF(ISERR(Sheet1!P13),\"\",Sheet1!P13))","v":""},{"$f":"TRIM(IF(ISERR(Sheet1!Q13),\"\",Sheet1!Q13))","v":""},{"$f":"TRIM(IF(ISERR(Sheet1!R13),\"\",Sheet1!R13))","v":""},{"$f":"TRIM(IF(ISERR(Sheet1!S13),\"\",Sheet1!S13))","v":""},{"$f":"TRIM(IF(ISERR(Sheet1!T13),\"\",Sheet1!T13))","v":""},{"$f":"TRIM(IF(ISERR(Sheet1!U13),\"\",Sheet1!U13))","v":""},{"$f":"TRIM(IF(ISERR(Sheet1!V13),\"\",Sheet1!V13))","v":""},{"$f":"TRIM(IF(ISERR(Sheet1!W13),\"\",Sheet1!W13))","v":""},{"$f":"TRIM(IF(ISERR(Sheet1!X13),\"\",Sheet1!X13))","v":""},{"$f":"TRIM(IF(ISERR(Sheet1!Y13),\"\",Sheet1!Y13))","v":""},{"$f":"TRIM(IF(ISERR(Sheet1!Z13),\"\",Sheet1!Z13))","v":""},{"$f":"TRIM(IF(ISERR(Sheet1!AA13),\"\",Sheet1!AA13))","v":""},{"$f":"TRIM(IF(ISERR(Sheet1!AB13),\"\",Sheet1!AB13))","v":""},{"$f":"TRIM(IF(ISERR(Sheet1!AC13),\"\",Sheet1!AC13))","v":""},{"$f":"TRIM(IF(ISERR(Sheet1!AD13),\"\",Sheet1!AD13))","v":""},{"$f":"TRIM(IF(ISERR(Sheet1!AE13),\"\",Sheet1!AE13))","v":""},{"$f":"TRIM(IF(ISERR(Sheet1!AF13),\"\",Sheet1!AF13))","v":""},{"$f":"TRIM(IF(ISERR(Sheet1!AG13),\"\",Sheet1!AG13))","v":""},{"$f":"TRIM(IF(ISERR(Sheet1!AH13),\"\",Sheet1!AH13))","v":""},{"$f":"TRIM(IF(ISERR(Sheet1!AI13),\"\",Sheet1!AI13))","v":""},{"$f":"TRIM(IF(ISERR(Sheet1!AJ13),\"\",Sheet1!AJ13))","v":""},{"$f":"TRIM(IF(ISERR(Sheet1!AK13),\"\",Sheet1!AK13))","v":""},{"$f":"TRIM(IF(ISERR(Sheet1!AL13),\"\",Sheet1!AL13))","v":""},{"$f":"TRIM(IF(ISERR(Sheet1!AM13),\"\",Sheet1!AM13))","v":""},{"$f":"TRIM(IF(ISERR(Sheet1!AN13),\"\",Sheet1!AN13))","v":""},{"$f":"TRIM(IF(ISERR(Sheet1!AO13),\"\",Sheet1!AO13))","v":""},{"$f":"TRIM(IF(ISERR(Sheet1!AP13),\"\",Sheet1!AP13))","v":""},{"$f":"TRIM(IF(ISERR(Sheet1!AQ13),\"\",Sheet1!AQ13))","v":""},{"$f":"TRIM(IF(ISERR(Sheet1!AR13),\"\",Sheet1!AR13))","v":""},{"$f":"TRIM(IF(ISERR(Sheet1!AS13),\"\",Sheet1!AS13))","v":""},{"$f":"TRIM(IF(ISERR(Sheet1!AT13),\"\",Sheet1!AT13))","v":""},{"$f":"TRIM(IF(ISERR(Sheet1!AU13),\"\",Sheet1!AU13))","v":""},{"$f":"TRIM(IF(ISERR(Sheet1!AV13),\"\",Sheet1!AV13))","v":""},{"$f":"TRIM(IF(ISERR(Sheet1!AW13),\"\",Sheet1!AW13))","v":""},{"$f":"TRIM(IF(ISERR(Sheet1!AX13),\"\",Sheet1!AX13))","v":""},{"$f":"TRIM(IF(ISERR(Sheet1!AY13),\"\",Sheet1!AY13))","v":""},{"$f":"TRIM(IF(ISERR(Sheet1!AZ13),\"\",Sheet1!AZ13))","v":""},{"$f":"TRIM(IF(ISERR(Sheet1!BA13),\"\",Sheet1!BA13))","v":""},{"$f":"TRIM(IF(ISERR(Sheet1!BB13),\"\",Sheet1!BB13))","v":""},{"$f":"TRIM(IF(ISERR(Sheet1!BC13),\"\",Sheet1!BC13))","v":""},{"$f":"TRIM(IF(ISERR(Sheet1!BD13),\"\",Sheet1!BD13))","v":""},{"$f":"TRIM(IF(ISERR(Sheet1!BE13),\"\",Sheet1!BE13))","v":""},{"$f":"TRIM(IF(ISERR(Sheet1!BF13),\"\",Sheet1!BF13))","v":""},{"$f":"TRIM(IF(ISERR(Sheet1!BG13),\"\",Sheet1!BG13))","v":""}]
[null,null,null,null,null,null,{"$f":"TRIM(IF(ISERR(Sheet1!G14),\"\",Sheet1!G14))","v":""},{"$f":"TRIM(IF(ISERR(Sheet1!H14),\"\",Sheet1!H14))","v":""},{"$f":"TRIM(IF(ISERR(Sheet1!I14),\"\",Sheet1!I14))","v":""},{"$f":"TRIM(IF(ISERR(Sheet1!J14),\"\",Sheet1!J14))","v":""},{"$f":"TRIM(IF(ISERR(Sheet1!K14),\"\",Sheet1!K14))","v":""},{"$f":"TRIM(IF(ISERR(Sheet1!L14),\"\",Sheet1!L14))","v":""},{"$f":"TRIM(IF(ISERR(Sheet1!M14),\"\",Sheet1!M14))","v":""},{"$f":"TRIM(IF(ISERR(Sheet1!N14),\"\",Sheet1!N14))","v":""},{"$f":"TRIM(IF(ISERR(Sheet1!O14),\"\",Sheet1!O14))","v":""},{"$f":"TRIM(IF(ISERR(Sheet1!P14),\"\",Sheet1!P14))","v":""},{"$f":"TRIM(IF(ISERR(Sheet1!Q14),\"\",Sheet1!Q14))","v":""},{"$f":"TRIM(IF(ISERR(Sheet1!R14),\"\",Sheet1!R14))","v":""},{"$f":"TRIM(IF(ISERR(Sheet1!S14),\"\",Sheet1!S14))","v":""},{"$f":"TRIM(IF(ISERR(Sheet1!T14),\"\",Sheet1!T14))","v":""},{"$f":"TRIM(IF(ISERR(Sheet1!U14),\"\",Sheet1!U14))","v":""},{"$f":"TRIM(IF(ISERR(Sheet1!V14),\"\",Sheet1!V14))","v":""},{"$f":"TRIM(IF(ISERR(Sheet1!W14),\"\",Sheet1!W14))","v":""},{"$f":"TRIM(IF(ISERR(Sheet1!X14),\"\",Sheet1!X14))","v":""},{"$f":"TRIM(IF(ISERR(Sheet1!Y14),\"\",Sheet1!Y14))","v":""},{"$f":"TRIM(IF(ISERR(Sheet1!Z14),\"\",Sheet1!Z14))","v":""},{"$f":"TRIM(IF(ISERR(Sheet1!AA14),\"\",Sheet1!AA14))","v":""},{"$f":"TRIM(IF(ISERR(Sheet1!AB14),\"\",Sheet1!AB14))","v":""},{"$f":"TRIM(IF(ISERR(Sheet1!AC14),\"\",Sheet1!AC14))","v":""},{"$f":"TRIM(IF(ISERR(Sheet1!AD14),\"\",Sheet1!AD14))","v":""},{"$f":"TRIM(IF(ISERR(Sheet1!AE14),\"\",Sheet1!AE14))","v":""},{"$f":"TRIM(IF(ISERR(Sheet1!AF14),\"\",Sheet1!AF14))","v":""},{"$f":"TRIM(IF(ISERR(Sheet1!AG14),\"\",Sheet1!AG14))","v":""},{"$f":"TRIM(IF(ISERR(Sheet1!AH14),\"\",Sheet1!AH14))","v":""},{"$f":"TRIM(IF(ISERR(Sheet1!AI14),\"\",Sheet1!AI14))","v":""},{"$f":"TRIM(IF(ISERR(Sheet1!AJ14),\"\",Sheet1!AJ14))","v":""},{"$f":"TRIM(IF(ISERR(Sheet1!AK14),\"\",Sheet1!AK14))","v":""},{"$f":"TRIM(IF(ISERR(Sheet1!AL14),\"\",Sheet1!AL14))","v":""},{"$f":"TRIM(IF(ISERR(Sheet1!AM14),\"\",Sheet1!AM14))","v":""},{"$f":"TRIM(IF(ISERR(Sheet1!AN14),\"\",Sheet1!AN14))","v":""},{"$f":"TRIM(IF(ISERR(Sheet1!AO14),\"\",Sheet1!AO14))","v":""},{"$f":"TRIM(IF(ISERR(Sheet1!AP14),\"\",Sheet1!AP14))","v":""},{"$f":"TRIM(IF(ISERR(Sheet1!AQ14),\"\",Sheet1!AQ14))","v":""},{"$f":"TRIM(IF(ISERR(Sheet1!AR14),\"\",Sheet1!AR14))","v":""},{"$f":"TRIM(IF(ISERR(Sheet1!AS14),\"\",Sheet1!AS14))","v":""},{"$f":"TRIM(IF(ISERR(Sheet1!AT14),\"\",Sheet1!AT14))","v":""},{"$f":"TRIM(IF(ISERR(Sheet1!AU14),\"\",Sheet1!AU14))","v":""},{"$f":"TRIM(IF(ISERR(Sheet1!AV14),\"\",Sheet1!AV14))","v":""},{"$f":"TRIM(IF(ISERR(Sheet1!AW14),\"\",Sheet1!AW14))","v":""},{"$f":"TRIM(IF(ISERR(Sheet1!AX14),\"\",Sheet1!AX14))","v":""},{"$f":"TRIM(IF(ISERR(Sheet1!AY14),\"\",Sheet1!AY14))","v":""},{"$f":"TRIM(IF(ISERR(Sheet1!AZ14),\"\",Sheet1!AZ14))","v":""},{"$f":"TRIM(IF(ISERR(Sheet1!BA14),\"\",Sheet1!BA14))","v":""},{"$f":"TRIM(IF(ISERR(Sheet1!BB14),\"\",Sheet1!BB14))","v":""},{"$f":"TRIM(IF(ISERR(Sheet1!BC14),\"\",Sheet1!BC14))","v":""},{"$f":"TRIM(IF(ISERR(Sheet1!BD14),\"\",Sheet1!BD14))","v":""},{"$f":"TRIM(IF(ISERR(Sheet1!BE14),\"\",Sheet1!BE14))","v":""},{"$f":"TRIM(IF(ISERR(Sheet1!BF14),\"\",Sheet1!BF14))","v":""},{"$f":"TRIM(IF(ISERR(Sheet1!BG14),\"\",Sheet1!BG14))","v":""}]
[null,null,{"$f":"TRIM(IF(ISERR(Sheet1!C15),\"\",Sheet1!C15))","v":""},{"$f":"TRIM(IF(ISERR(Sheet1!D15),\"\",Sheet1!D15))","v":""},{"$f":"TRIM(IF(ISERR(Sheet1!E15),\"\",Sheet1!E15))","v":""},{"$f":"TRIM(IF(ISERR(Sheet1!F15),\"\",Sheet1!F15))","v":""},{"$f":"TRIM(IF(ISERR(Sheet1!G15),\"\",Sheet1!G15))","v":""},{"$f":"TRIM(IF(ISERR(Sheet1!H15),\"\",Sheet1!H15))","v":""},{"$f":"TRIM(IF(ISERR(Sheet1!I15),\"\",Sheet1!I15))","v":""},{"$f":"TRIM(IF(ISERR(Sheet1!J15),\"\",Sheet1!J15))","v":""},{"$f":"TRIM(IF(ISERR(Sheet1!K15),\"\",Sheet1!K15))","v":""},{"$f":"TRIM(IF(ISERR(Sheet1!L15),\"\",Sheet1!L15))","v":""},{"$f":"TRIM(IF(ISERR(Sheet1!M15),\"\",Sheet1!M15))","v":""},{"$f":"TRIM(IF(ISERR(Sheet1!N15),\"\",Sheet1!N15))","v":""},{"$f":"TRIM(IF(ISERR(Sheet1!O15),\"\",Sheet1!O15))","v":""},{"$f":"TRIM(IF(ISERR(Sheet1!P15),\"\",Sheet1!P15))","v":""},{"$f":"TRIM(IF(ISERR(Sheet1!Q15),\"\",Sheet1!Q15))","v":""},{"$f":"TRIM(IF(ISERR(Sheet1!R15),\"\",Sheet1!R15))","v":""},{"$f":"TRIM(IF(ISERR(Sheet1!S15),\"\",Sheet1!S15))","v":""},{"$f":"TRIM(IF(ISERR(Sheet1!T15),\"\",Sheet1!T15))","v":""},{"$f":"TRIM(IF(ISERR(Sheet1!U15),\"\",Sheet1!U15))","v":""},{"$f":"TRIM(IF(ISERR(Sheet1!V15),\"\",Sheet1!V15))","v":""},{"$f":"TRIM(IF(ISERR(Sheet1!W15),\"\",Sheet1!W15))","v":""},{"$f":"TRIM(IF(ISERR(Sheet1!X15),\"\",Sheet1!X15))","v":""},{"$f":"TRIM(IF(ISERR(Sheet1!Y15),\"\",Sheet1!Y15))","v":""},{"$f":"TRIM(IF(ISERR(Sheet1!Z15),\"\",Sheet1!Z15))","v":""},{"$f":"TRIM(IF(ISERR(Sheet1!AA15),\"\",Sheet1!AA15))","v":""},{"$f":"TRIM(IF(ISERR(Sheet1!AB15),\"\",Sheet1!AB15))","v":""},{"$f":"TRIM(IF(ISERR(Sheet1!AC15),\"\",Sheet1!AC15))","v":""},{"$f":"TRIM(IF(ISERR(Sheet1!AD15),\"\",Sheet1!AD15))","v":""},{"$f":"TRIM(IF(ISERR(Sheet1!AE15),\"\",Sheet1!AE15))","v":""},{"$f":"TRIM(IF(ISERR(Sheet1!AF15),\"\",Sheet1!AF15))","v":""},{"$f":"TRIM(IF(ISERR(Sheet1!AG15),\"\",Sheet1!AG15))","v":""},{"$f":"TRIM(IF(ISERR(Sheet1!AH15),\"\",Sheet1!AH15))","v":""},{"$f":"TRIM(IF(ISERR(Sheet1!AI15),\"\",Sheet1!AI15))","v":""},{"$f":"TRIM(IF(ISERR(Sheet1!AJ15),\"\",Sheet1!AJ15))","v":""},{"$f":"TRIM(IF(ISERR(Sheet1!AK15),\"\",Sheet1!AK15))","v":""},{"$f":"TRIM(IF(ISERR(Sheet1!AL15),\"\",Sheet1!AL15))","v":""},{"$f":"TRIM(IF(ISERR(Sheet1!AM15),\"\",Sheet1!AM15))","v":""},{"$f":"TRIM(IF(ISERR(Sheet1!AN15),\"\",Sheet1!AN15))","v":""},{"$f":"TRIM(IF(ISERR(Sheet1!AO15),\"\",Sheet1!AO15))","v":""},{"$f":"TRIM(IF(ISERR(Sheet1!AP15),\"\",Sheet1!AP15))","v":""},{"$f":"TRIM(IF(ISERR(Sheet1!AQ15),\"\",Sheet1!AQ15))","v":""},{"$f":"TRIM(IF(ISERR(Sheet1!AR15),\"\",Sheet1!AR15))","v":""},{"$f":"TRIM(IF(ISERR(Sheet1!AS15),\"\",Sheet1!AS15))","v":""},{"$f":"TRIM(IF(ISERR(Sheet1!AT15),\"\",Sheet1!AT15))","v":""},{"$f":"TRIM(IF(ISERR(Sheet1!AU15),\"\",Sheet1!AU15))","v":""},{"$f":"TRIM(IF(ISERR(Sheet1!AV15),\"\",Sheet1!AV15))","v":""},{"$f":"TRIM(IF(ISERR(Sheet1!AW15),\"\",Sheet1!AW15))","v":""},{"$f":"TRIM(IF(ISERR(Sheet1!AX15),\"\",Sheet1!AX15))","v":""},{"$f":"TRIM(IF(ISERR(Sheet1!AY15),\"\",Sheet1!AY15))","v":""},{"$f":"TRIM(IF(ISERR(Sheet1!AZ15),\"\",Sheet1!AZ15))","v":""},{"$f":"TRIM(IF(ISERR(Sheet1!BA15),\"\",Sheet1!BA15))","v":""},{"$f":"TRIM(IF(ISERR(Sheet1!BB15),\"\",Sheet1!BB15))","v":""},{"$f":"TRIM(IF(ISERR(Sheet1!BC15),\"\",Sheet1!BC15))","v":""},{"$f":"TRIM(IF(ISERR(Sheet1!BD15),\"\",Sheet1!BD15))","v":""},{"$f":"TRIM(IF(ISERR(Sheet1!BE15),\"\",Sheet1!BE15))","v":""},{"$f":"TRIM(IF(ISERR(Sheet1!BF15),\"\",Sheet1!BF15))","v":""},{"$f":"TRIM(IF(ISERR(Sheet1!BG15),\"\",Sheet1!BG15))","v":""}]
[null,null,{"$f":"TRIM(IF(ISERR(Sheet1!C16),\"\",Sheet1!C16))","v":""},{"$f":"TRIM(IF(ISERR(Sheet1!D16),\"\",Sheet1!D16))","v":""},{"$f":"TRIM(IF(ISERR(Sheet1!E16),\"\",Sheet1!E16))","v":""},{"$f":"TRIM(IF(ISERR(Sheet1!F16),\"\",Sheet1!F16))","v":""},{"$f":"TRIM(IF(ISERR(Sheet1!G16),\"\",Sheet1!G16))","v":""},{"$f":"TRIM(IF(ISERR(Sheet1!H16),\"\",Sheet1!H16))","v":""},{"$f":"TRIM(IF(ISERR(Sheet1!I16),\"\",Sheet1!I16))","v":""},{"$f":"TRIM(IF(ISERR(Sheet1!J16),\"\",Sheet1!J16))","v":""},{"$f":"TRIM(IF(ISERR(Sheet1!K16),\"\",Sheet1!K16))","v":""},{"$f":"TRIM(IF(ISERR(Sheet1!L16),\"\",Sheet1!L16))","v":""},{"$f":"TRIM(IF(ISERR(Sheet1!M16),\"\",Sheet1!M16))","v":""},{"$f":"TRIM(IF(ISERR(Sheet1!N16),\"\",Sheet1!N16))","v":""},{"$f":"TRIM(IF(ISERR(Sheet1!O16),\"\",Sheet1!O16))","v":""},{"$f":"TRIM(IF(ISERR(Sheet1!P16),\"\",Sheet1!P16))","v":""},{"$f":"TRIM(IF(ISERR(Sheet1!Q16),\"\",Sheet1!Q16))","v":""},{"$f":"TRIM(IF(ISERR(Sheet1!R16),\"\",Sheet1!R16))","v":""},{"$f":"TRIM(IF(ISERR(Sheet1!S16),\"\",Sheet1!S16))","v":""},{"$f":"TRIM(IF(ISERR(Sheet1!T16),\"\",Sheet1!T16))","v":""},{"$f":"TRIM(IF(ISERR(Sheet1!U16),\"\",Sheet1!U16))","v":""},{"$f":"TRIM(IF(ISERR(Sheet1!V16),\"\",Sheet1!V16))","v":""},{"$f":"TRIM(IF(ISERR(Sheet1!W16),\"\",Sheet1!W16))","v":""},{"$f":"TRIM(IF(ISERR(Sheet1!X16),\"\",Sheet1!X16))","v":""},{"$f":"TRIM(IF(ISERR(Sheet1!Y16),\"\",Sheet1!Y16))","v":""},{"$f":"TRIM(IF(ISERR(Sheet1!Z16),\"\",Sheet1!Z16))","v":""},{"$f":"TRIM(IF(ISERR(Sheet1!AA16),\"\",Sheet1!AA16))","v":""},{"$f":"TRIM(IF(ISERR(Sheet1!AB16),\"\",Sheet1!AB16))","v":""},{"$f":"TRIM(IF(ISERR(Sheet1!AC16),\"\",Sheet1!AC16))","v":""},{"$f":"TRIM(IF(ISERR(Sheet1!AD16),\"\",Sheet1!AD16))","v":""},{"$f":"TRIM(IF(ISERR(Sheet1!AE16),\"\",Sheet1!AE16))","v":""},{"$f":"TRIM(IF(ISERR(Sheet1!AF16),\"\",Sheet1!AF16))","v":""},{"$f":"TRIM(IF(ISERR(Sheet1!AG16),\"\",Sheet1!AG16))","v":""},{"$f":"TRIM(IF(ISERR(Sheet1!AH16),\"\",Sheet1!AH16))","v":""},{"$f":"TRIM(IF(ISERR(Sheet1!AI16),\"\",Sheet1!AI16))","v":""},{"$f":"TRIM(IF(ISERR(Sheet1!AJ16),\"\",Sheet1!AJ16))","v":""},{"$f":"TRIM(IF(ISERR(Sheet1!AK16),\"\",Sheet1!AK16))","v":""},{"$f":"TRIM(IF(ISERR(Sheet1!AL16),\"\",Sheet1!AL16))","v":""},{"$f":"TRIM(IF(ISERR(Sheet1!AM16),\"\",Sheet1!AM16))","v":""},{"$f":"TRIM(IF(ISERR(Sheet1!AN16),\"\",Sheet1!AN16))","v":""},{"$f":"TRIM(IF(ISERR(Sheet1!AO16),\"\",Sheet1!AO16))","v":""},{"$f":"TRIM(IF(ISERR(Sheet1!AP16),\"\",Sheet1!AP16))","v":""},{"$f":"TRIM(IF(ISERR(Sheet1!AQ16),\"\",Sheet1!AQ16))","v":""},{"$f":"TRIM(IF(ISERR(Sheet1!AR16),\"\",Sheet1!AR16))","v":""},{"$f":"TRIM(IF(ISERR(Sheet1!AS16),\"\",Sheet1!AS16))","v":""},{"$f":"TRIM(IF(ISERR(Sheet1!AT16),\"\",Sheet1!AT16))","v":""},{"$f":"TRIM(IF(ISERR(Sheet1!AU16),\"\",Sheet1!AU16))","v":""},{"$f":"TRIM(IF(ISERR(Sheet1!AV16),\"\",Sheet1!AV16))","v":""},{"$f":"TRIM(IF(ISERR(Sheet1!AW16),\"\",Sheet1!AW16))","v":""},{"$f":"TRIM(IF(ISERR(Sheet1!AX16),\"\",Sheet1!AX16))","v":""},{"$f":"TRIM(IF(ISERR(Sheet1!AY16),\"\",Sheet1!AY16))","v":""},{"$f":"TRIM(IF(ISERR(Sheet1!AZ16),\"\",Sheet1!AZ16))","v":""},{"$f":"TRIM(IF(ISERR(Sheet1!BA16),\"\",Sheet1!BA16))","v":""},{"$f":"TRIM(IF(ISERR(Sheet1!BB16),\"\",Sheet1!BB16))","v":""},{"$f":"TRIM(IF(ISERR(Sheet1!BC16),\"\",Sheet1!BC16))","v":""},{"$f":"TRIM(IF(ISERR(Sheet1!BD16),\"\",Sheet1!BD16))","v":""},{"$f":"TRIM(IF(ISERR(Sheet1!BE16),\"\",Sheet1!BE16))","v":""},{"$f":"TRIM(IF(ISERR(Sheet1!BF16),\"\",Sheet1!BF16))","v":""},{"$f":"TRIM(IF(ISERR(Sheet1!BG16),\"\",Sheet1!BG16))","v":""}]
[null,null,{"$f":"TRIM(IF(ISERR(Sheet1!C17),\"\",Sheet1!C17))","v":""},{"$f":"TRIM(IF(ISERR(Sheet1!D17),\"\",Sheet1!D17))","v":""},{"$f":"TRIM(IF(ISERR(Sheet1!E17),\"\",Sheet1!E17))","v":""},{"$f":"TRIM(IF(ISERR(Sheet1!F17),\"\",Sheet1!F17))","v":""},{"$f":"TRIM(IF(ISERR(Sheet1!G17),\"\",Sheet1!G17))","v":""},{"$f":"TRIM(IF(ISERR(Sheet1!H17),\"\",Sheet1!H17))","v":""},{"$f":"TRIM(IF(ISERR(Sheet1!I17),\"\",Sheet1!I17))","v":""},{"$f":"TRIM(IF(ISERR(Sheet1!J17),\"\",Sheet1!J17))","v":""},{"$f":"TRIM(IF(ISERR(Sheet1!K17),\"\",Sheet1!K17))","v":""},{"$f":"TRIM(IF(ISERR(Sheet1!L17),\"\",Sheet1!L17))","v":""},{"$f":"TRIM(IF(ISERR(Sheet1!M17),\"\",Sheet1!M17))","v":""},{"$f":"TRIM(IF(ISERR(Sheet1!N17),\"\",Sheet1!N17))","v":""},{"$f":"TRIM(IF(ISERR(Sheet1!O17),\"\",Sheet1!O17))","v":""},{"$f":"TRIM(IF(ISERR(Sheet1!P17),\"\",Sheet1!P17))","v":""},{"$f":"TRIM(IF(ISERR(Sheet1!Q17),\"\",Sheet1!Q17))","v":""},{"$f":"TRIM(IF(ISERR(Sheet1!R17),\"\",Sheet1!R17))","v":""},{"$f":"TRIM(IF(ISERR(Sheet1!S17),\"\",Sheet1!S17))","v":""},{"$f":"TRIM(IF(ISERR(Sheet1!T17),\"\",Sheet1!T17))","v":""},{"$f":"TRIM(IF(ISERR(Sheet1!U17),\"\",Sheet1!U17))","v":""},{"$f":"TRIM(IF(ISERR(Sheet1!V17),\"\",Sheet1!V17))","v":""},{"$f":"TRIM(IF(ISERR(Sheet1!W17),\"\",Sheet1!W17))","v":""},{"$f":"TRIM(IF(ISERR(Sheet1!X17),\"\",Sheet1!X17))","v":""},{"$f":"TRIM(IF(ISERR(Sheet1!Y17),\"\",Sheet1!Y17))","v":""},{"$f":"TRIM(IF(ISERR(Sheet1!Z17),\"\",Sheet1!Z17))","v":""},{"$f":"TRIM(IF(ISERR(Sheet1!AA17),\"\",Sheet1!AA17))","v":""},{"$f":"TRIM(IF(ISERR(Sheet1!AB17),\"\",Sheet1!AB17))","v":""},{"$f":"TRIM(IF(ISERR(Sheet1!AC17),\"\",Sheet1!AC17))","v":""},{"$f":"TRIM(IF(ISERR(Sheet1!AD17),\"\",Sheet1!AD17))","v":""},{"$f":"TRIM(IF(ISERR(Sheet1!AE17),\"\",Sheet1!AE17))","v":""},{"$f":"TRIM(IF(ISERR(Sheet1!AF17),\"\",Sheet1!AF17))","v":""},{"$f":"TRIM(IF(ISERR(Sheet1!AG17),\"\",Sheet1!AG17))","v":""},{"$f":"TRIM(IF(ISERR(Sheet1!AH17),\"\",Sheet1!AH17))","v":""},{"$f":"TRIM(IF(ISERR(Sheet1!AI17),\"\",Sheet1!AI17))","v":""},{"$f":"TRIM(IF(ISERR(Sheet1!AJ17),\"\",Sheet1!AJ17))","v":""},{"$f":"TRIM(IF(ISERR(Sheet1!AK17),\"\",Sheet1!AK17))","v":""},{"$f":"TRIM(IF(ISERR(Sheet1!AL17),\"\",Sheet1!AL17))","v":""},{"$f":"TRIM(IF(ISERR(Sheet1!AM17),\"\",Sheet1!AM17))","v":""},{"$f":"TRIM(IF(ISERR(Sheet1!AN17),\"\",Sheet1!AN17))","v":""},{"$f":"TRIM(IF(ISERR(Sheet1!AO17),\"\",Sheet1!AO17))","v":""},{"$f":"TRIM(IF(ISERR(Sheet1!AP17),\"\",Sheet1!AP17))","v":""},{"$f":"TRIM(IF(ISERR(Sheet1!AQ17),\"\",Sheet1!AQ17))","v":""},{"$f":"TRIM(IF(ISERR(Sheet1!AR17),\"\",Sheet1!AR17))","v":""},{"$f":"TRIM(IF(ISERR(Sheet1!AS17),\"\",Sheet1!AS17))","v":""},{"$f":"TRIM(IF(ISERR(Sheet1!AT17),\"\",Sheet1!AT17))","v":""},{"$f":"TRIM(IF(ISERR(Sheet1!AU17),\"\",Sheet1!AU17))","v":""},{"$f":"TRIM(IF(ISERR(Sheet1!AV17),\"\",Sheet1!AV17))","v":""},{"$f":"TRIM(IF(ISERR(Sheet1!AW17),\"\",Sheet1!AW17))","v":""},{"$f":"TRIM(IF(ISERR(Sheet1!AX17),\"\",Sheet1!AX17))","v":""},{"$f":"TRIM(IF(ISERR(Sheet1!AY17),\"\",Sheet1!AY17))","v":""},{"$f":"TRIM(IF(ISERR(Sheet1!AZ17),\"\",Sheet1!AZ17))","v":""},{"$f":"TRIM(IF(ISERR(Sheet1!BA17),\"\",Sheet1!BA17))","v":""},{"$f":"TRIM(IF(ISERR(Sheet1!BB17),\"\",Sheet1!BB17))","v":""},{"$f":"TRIM(IF(ISERR(Sheet1!BC17),\"\",Sheet1!BC17))","v":""},{"$f":"TRIM(IF(ISERR(Sheet1!BD17),\"\",Sheet1!BD17))","v":""},{"$f":"TRIM(IF(ISERR(Sheet1!BE17),\"\",Sheet1!BE17))","v":""},{"$f":"TRIM(IF(ISERR(Sheet1!BF17),\"\",Sheet1!BF17))","v":""},{"$f":"TRIM(IF(ISERR(Sheet1!BG17),\"\",Sheet1!BG17))","v":""}]
[null,null,{"$f":"TRIM(IF(ISERR(Sheet1!C18),\"\",Sheet1!C18))","v":""},{"$f":"TRIM(IF(ISERR(Sheet1!D18),\"\",Sheet1!D18))","v":""},{"$f":"TRIM(IF(ISERR(Sheet1!E18),\"\",Sheet1!E18))","v":""},{"$f":"TRIM(IF(ISERR(Sheet1!F18),\"\",Sheet1!F18))","v":""},{"$f":"TRIM(IF(ISERR(Sheet1!G18),\"\",Sheet1!G18))","v":""},{"$f":"TRIM(IF(ISERR(Sheet1!H18),\"\",Sheet1!H18))","v":""},{"$f":"TRIM(IF(ISERR(Sheet1!I18),\"\",Sheet1!I18))","v":""},{"$f":"TRIM(IF(ISERR(Sheet1!J18),\"\",Sheet1!J18))","v":""},{"$f":"TRIM(IF(ISERR(Sheet1!K18),\"\",Sheet1!K18))","v":""},{"$f":"TRIM(IF(ISERR(Sheet1!L18),\"\",Sheet1!L18))","v":""},{"$f":"TRIM(IF(ISERR(Sheet1!M18),\"\",Sheet1!M18))","v":""},{"$f":"TRIM(IF(ISERR(Sheet1!N18),\"\",Sheet1!N18))","v":""},{"$f":"TRIM(IF(ISERR(Sheet1!O18),\"\",Sheet1!O18))","v":""},{"$f":"TRIM(IF(ISERR(Sheet1!P18),\"\",Sheet1!P18))","v":""},{"$f":"TRIM(IF(ISERR(Sheet1!Q18),\"\",Sheet1!Q18))","v":""},{"$f":"TRIM(IF(ISERR(Sheet1!R18),\"\",Sheet1!R18))","v":""},{"$f":"TRIM(IF(ISERR(Sheet1!S18),\"\",Sheet1!S18))","v":""},{"$f":"TRIM(IF(ISERR(Sheet1!T18),\"\",Sheet1!T18))","v":""},{"$f":"TRIM(IF(ISERR(Sheet1!U18),\"\",Sheet1!U18))","v":""},{"$f":"TRIM(IF(ISERR(Sheet1!V18),\"\",Sheet1!V18))","v":""},{"$f":"TRIM(IF(ISERR(Sheet1!W18),\"\",Sheet1!W18))","v":""},{"$f":"TRIM(IF(ISERR(Sheet1!X18),\"\",Sheet1!X18))","v":""},{"$f":"TRIM(IF(ISERR(Sheet1!Y18),\"\",Sheet1!Y18))","v":""},{"$f":"TRIM(IF(ISERR(Sheet1!Z18),\"\",Sheet1!Z18))","v":""},{"$f":"TRIM(IF(ISERR(Sheet1!AA18),\"\",Sheet1!AA18))","v":""},{"$f":"TRIM(IF(ISERR(Sheet1!AB18),\"\",Sheet1!AB18))","v":""},{"$f":"TRIM(IF(ISERR(Sheet1!AC18),\"\",Sheet1!AC18))","v":""},{"$f":"TRIM(IF(ISERR(Sheet1!AD18),\"\",Sheet1!AD18))","v":""},{"$f":"TRIM(IF(ISERR(Sheet1!AE18),\"\",Sheet1!AE18))","v":""},{"$f":"TRIM(IF(ISERR(Sheet1!AF18),\"\",Sheet1!AF18))","v":""},{"$f":"TRIM(IF(ISERR(Sheet1!AG18),\"\",Sheet1!AG18))","v":""},{"$f":"TRIM(IF(ISERR(Sheet1!AH18),\"\",Sheet1!AH18))","v":""},{"$f":"TRIM(IF(ISERR(Sheet1!AI18),\"\",Sheet1!AI18))","v":""},{"$f":"TRIM(IF(ISERR(Sheet1!AJ18),\"\",Sheet1!AJ18))","v":""},{"$f":"TRIM(IF(ISERR(Sheet1!AK18),\"\",Sheet1!AK18))","v":""},{"$f":"TRIM(IF(ISERR(Sheet1!AL18),\"\",Sheet1!AL18))","v":""},{"$f":"TRIM(IF(ISERR(Sheet1!AM18),\"\",Sheet1!AM18))","v":""},{"$f":"TRIM(IF(ISERR(Sheet1!AN18),\"\",Sheet1!AN18))","v":""},{"$f":"TRIM(IF(ISERR(Sheet1!AO18),\"\",Sheet1!AO18))","v":""},{"$f":"TRIM(IF(ISERR(Sheet1!AP18),\"\",Sheet1!AP18))","v":""},{"$f":"TRIM(IF(ISERR(Sheet1!AQ18),\"\",Sheet1!AQ18))","v":""},{"$f":"TRIM(IF(ISERR(Sheet1!AR18),\"\",Sheet1!AR18))","v":""},{"$f":"TRIM(IF(ISERR(Sheet1!AS18),\"\",Sheet1!AS18))","v":""},{"$f":"TRIM(IF(ISERR(Sheet1!AT18),\"\",Sheet1!AT18))","v":""},{"$f":"TRIM(IF(ISERR(Sheet1!AU18),\"\",Sheet1!AU18))","v":""},{"$f":"TRIM(IF(ISERR(Sheet1!AV18),\"\",Sheet1!AV18))","v":""},{"$f":"TRIM(IF(ISERR(Sheet1!AW18),\"\",Sheet1!AW18))","v":""},{"$f":"TRIM(IF(ISERR(Sheet1!AX18),\"\",Sheet1!AX18))","v":""},{"$f":"TRIM(IF(ISERR(Sheet1!AY18),\"\",Sheet1!AY18))","v":""},{"$f":"TRIM(IF(ISERR(Sheet1!AZ18),\"\",Sheet1!AZ18))","v":""},{"$f":"TRIM(IF(ISERR(Sheet1!BA18),\"\",Sheet1!BA18))","v":""},{"$f":"TRIM(IF(ISERR(Sheet1!BB18),\"\",Sheet1!BB18))","v":""},{"$f":"TRIM(IF(ISERR(Sheet1!BC18),\"\",Sheet1!BC18))","v":""},{"$f":"TRIM(IF(ISERR(Sheet1!BD18),\"\",Sheet1!BD18))","v":""},{"$f":"TRIM(IF(ISERR(Sheet1!BE18),\"\",Sheet1!BE18))","v":""},{"$f":"TRIM(IF(ISERR(Sheet1!BF18),\"\",Sheet1!BF18))","v":""},{"$f":"TRIM(IF(ISERR(Sheet1!BG18),\"\",Sheet1!BG18))","v":""}]
[null,null,{"$f":"TRIM(IF(ISERR(Sheet1!C19),\"\",Sheet1!C19))","v":""},{"$f":"TRIM(IF(ISERR(Sheet1!D19),\"\",Sheet1!D19))","v":""},{"$f":"TRIM(IF(ISERR(Sheet1!E19),\"\",Sheet1!E19))","v":""},{"$f":"TRIM(IF(ISERR(Sheet1!F19),\"\",Sheet1!F19))","v":""},{"$f":"TRIM(IF(ISERR(Sheet1!G19),\"\",Sheet1!G19))","v":""},{"$f":"TRIM(IF(ISERR(Sheet1!H19),\"\",Sheet1!H19))","v":""},{"$f":"TRIM(IF(ISERR(Sheet1!I19),\"\",Sheet1!I19))","v":""},{"$f":"TRIM(IF(ISERR(Sheet1!J19),\"\",Sheet1!J19))","v":""},{"$f":"TRIM(IF(ISERR(Sheet1!K19),\"\",Sheet1!K19))","v":""},{"$f":"TRIM(IF(ISERR(Sheet1!L19),\"\",Sheet1!L19))","v":""},{"$f":"TRIM(IF(ISERR(Sheet1!M19),\"\",Sheet1!M19))","v":""},{"$f":"TRIM(IF(ISERR(Sheet1!N19),\"\",Sheet1!N19))","v":""},{"$f":"TRIM(IF(ISERR(Sheet1!O19),\"\",Sheet1!O19))","v":""},{"$f":"TRIM(IF(ISERR(Sheet1!P19),\"\",Sheet1!P19))","v":""},{"$f":"TRIM(IF(ISERR(Sheet1!Q19),\"\",Sheet1!Q19))","v":""},{"$f":"TRIM(IF(ISERR(Sheet1!R19),\"\",Sheet1!R19))","v":""},{"$f":"TRIM(IF(ISERR(Sheet1!S19),\"\",Sheet1!S19))","v":""},{"$f":"TRIM(IF(ISERR(Sheet1!T19),\"\",Sheet1!T19))","v":""},{"$f":"TRIM(IF(ISERR(Sheet1!U19),\"\",Sheet1!U19))","v":""},{"$f":"TRIM(IF(ISERR(Sheet1!V19),\"\",Sheet1!V19))","v":""},{"$f":"TRIM(IF(ISERR(Sheet1!W19),\"\",Sheet1!W19))","v":""},{"$f":"TRIM(IF(ISERR(Sheet1!X19),\"\",Sheet1!X19))","v":""},{"$f":"TRIM(IF(ISERR(Sheet1!Y19),\"\",Sheet1!Y19))","v":""},{"$f":"TRIM(IF(ISERR(Sheet1!Z19),\"\",Sheet1!Z19))","v":""},{"$f":"TRIM(IF(ISERR(Sheet1!AA19),\"\",Sheet1!AA19))","v":""},{"$f":"TRIM(IF(ISERR(Sheet1!AB19),\"\",Sheet1!AB19))","v":""},{"$f":"TRIM(IF(ISERR(Sheet1!AC19),\"\",Sheet1!AC19))","v":""},{"$f":"TRIM(IF(ISERR(Sheet1!AD19),\"\",Sheet1!AD19))","v":""},{"$f":"TRIM(IF(ISERR(Sheet1!AE19),\"\",Sheet1!AE19))","v":""},{"$f":"TRIM(IF(ISERR(Sheet1!AF19),\"\",Sheet1!AF19))","v":""},{"$f":"TRIM(IF(ISERR(Sheet1!AG19),\"\",Sheet1!AG19))","v":""},{"$f":"TRIM(IF(ISERR(Sheet1!AH19),\"\",Sheet1!AH19))","v":""},{"$f":"TRIM(IF(ISERR(Sheet1!AI19),\"\",Sheet1!AI19))","v":""},{"$f":"TRIM(IF(ISERR(Sheet1!AJ19),\"\",Sheet1!AJ19))","v":""},{"$f":"TRIM(IF(ISERR(Sheet1!AK19),\"\",Sheet1!AK19))","v":""},{"$f":"TRIM(IF(ISERR(Sheet1!AL19),\"\",Sheet1!AL19))","v":""},{"$f":"TRIM(IF(ISERR(Sheet1!AM19),\"\",Sheet1!AM19))","v":""},{"$f":"TRIM(IF(ISERR(Sheet1!AN19),\"\",Sheet1!AN19))","v":""},{"$f":"TRIM(IF(ISERR(Sheet1!AO19),\"\",Sheet1!AO19))","v":""},{"$f":"TRIM(IF(ISERR(Sheet1!AP19),\"\",Sheet1!AP19))","v":""},{"$f":"TRIM(IF(ISERR(Sheet1!AQ19),\"\",Sheet1!AQ19))","v":""},{"$f":"TRIM(IF(ISERR(Sheet1!AR19),\"\",Sheet1!AR19))","v":""},{"$f":"TRIM(IF(ISERR(Sheet1!AS19),\"\",Sheet1!AS19))","v":""},{"$f":"TRIM(IF(ISERR(Sheet1!AT19),\"\",Sheet1!AT19))","v":""},{"$f":"TRIM(IF(ISERR(Sheet1!AU19),\"\",Sheet1!AU19))","v":""},{"$f":"TRIM(IF(ISERR(Sheet1!AV19),\"\",Sheet1!AV19))","v":""},{"$f":"TRIM(IF(ISERR(Sheet1!AW19),\"\",Sheet1!AW19))","v":""},{"$f":"TRIM(IF(ISERR(Sheet1!AX19),\"\",Sheet1!AX19))","v":""},{"$f":"TRIM(IF(ISERR(Sheet1!AY19),\"\",Sheet1!AY19))","v":""},{"$f":"TRIM(IF(ISERR(Sheet1!AZ19),\"\",Sheet1!AZ19))","v":""},{"$f":"TRIM(IF(ISERR(Sheet1!BA19),\"\",Sheet1!BA19))","v":""},{"$f":"TRIM(IF(ISERR(Sheet1!BB19),\"\",Sheet1!BB19))","v":""},{"$f":"TRIM(IF(ISERR(Sheet1!BC19),\"\",Sheet1!BC19))","v":""},{"$f":"TRIM(IF(ISERR(Sheet1!BD19),\"\",Sheet1!BD19))","v":""},{"$f":"TRIM(IF(ISERR(Sheet1!BE19),\"\",Sheet1!BE19))","v":""},{"$f":"TRIM(IF(ISERR(Sheet1!BF19),\"\",Sheet1!BF19))","v":""},{"$f":"TRIM(IF(ISERR(Sheet1!BG19),\"\",Sheet1!BG19))","v":""}]
[null,null,{"$f":"TRIM(IF(ISERR(Sheet1!C20),\"\",Sheet1!C20))","v":""},{"$f":"TRIM(IF(ISERR(Sheet1!D20),\"\",Sheet1!D20))","v":""},{"$f":"TRIM(IF(ISERR(Sheet1!E20),\"\",Sheet1!E20))","v":""},{"$f":"TRIM(IF(ISERR(Sheet1!F20),\"\",Sheet1!F20))","v":""},{"$f":"TRIM(IF(ISERR(Sheet1!G20),\"\",Sheet1!G20))","v":""},{"$f":"TRIM(IF(ISERR(Sheet1!H20),\"\",Sheet1!H20))","v":""},{"$f":"TRIM(IF(ISERR(Sheet1!I20),\"\",Sheet1!I20))","v":""},{"$f":"TRIM(IF(ISERR(Sheet1!J20),\"\",Sheet1!J20))","v":""},{"$f":"TRIM(IF(ISERR(Sheet1!K20),\"\",Sheet1!K20))","v":""},{"$f":"TRIM(IF(ISERR(Sheet1!L20),\"\",Sheet1!L20))","v":""},{"$f":"TRIM(IF(ISERR(Sheet1!M20),\"\",Sheet1!M20))","v":""},{"$f":"TRIM(IF(ISERR(Sheet1!N20),\"\",Sheet1!N20))","v":""},{"$f":"TRIM(IF(ISERR(Sheet1!O20),\"\",Sheet1!O20))","v":""},{"$f":"TRIM(IF(ISERR(Sheet1!P20),\"\",Sheet1!P20))","v":""},{"$f":"TRIM(IF(ISERR(Sheet1!Q20),\"\",Sheet1!Q20))","v":""},{"$f":"TRIM(IF(ISERR(Sheet1!R20),\"\",Sheet1!R20))","v":""},{"$f":"TRIM(IF(ISERR(Sheet1!S20),\"\",Sheet1!S20))","v":""},{"$f":"TRIM(IF(ISERR(Sheet1!T20),\"\",Sheet1!T20))","v":""},{"$f":"TRIM(IF(ISERR(Sheet1!U20),\"\",Sheet1!U20))","v":""},{"$f":"TRIM(IF(ISERR(Sheet1!V20),\"\",Sheet1!V20))","v":""},{"$f":"TRIM(IF(ISERR(Sheet1!W20),\"\",Sheet1!W20))","v":""},{"$f":"TRIM(IF(ISERR(Sheet1!X20),\"\",Sheet1!X20))","v":""},{"$f":"TRIM(IF(ISERR(Sheet1!Y20),\"\",Sheet1!Y20))","v":""},{"$f":"TRIM(IF(ISERR(Sheet1!Z20),\"\",Sheet1!Z20))","v":""},{"$f":"TRIM(IF(ISERR(Sheet1!AA20),\"\",Sheet1!AA20))","v":""},{"$f":"TRIM(IF(ISERR(Sheet1!AB20),\"\",Sheet1!AB20))","v":""},{"$f":"TRIM(IF(ISERR(Sheet1!AC20),\"\",Sheet1!AC20))","v":""},{"$f":"TRIM(IF(ISERR(Sheet1!AD20),\"\",Sheet1!AD20))","v":""},{"$f":"TRIM(IF(ISERR(Sheet1!AE20),\"\",Sheet1!AE20))","v":""},{"$f":"TRIM(IF(ISERR(Sheet1!AF20),\"\",Sheet1!AF20))","v":""},{"$f":"TRIM(IF(ISERR(Sheet1!AG20),\"\",Sheet1!AG20))","v":""},{"$f":"TRIM(IF(ISERR(Sheet1!AH20),\"\",Sheet1!AH20))","v":""},{"$f":"TRIM(IF(ISERR(Sheet1!AI20),\"\",Sheet1!AI20))","v":""},{"$f":"TRIM(IF(ISERR(Sheet1!AJ20),\"\",Sheet1!AJ20))","v":""},{"$f":"TRIM(IF(ISERR(Sheet1!AK20),\"\",Sheet1!AK20))","v":""},{"$f":"TRIM(IF(ISERR(Sheet1!AL20),\"\",Sheet1!AL20))","v":""},{"$f":"TRIM(IF(ISERR(Sheet1!AM20),\"\",Sheet1!AM20))","v":""},{"$f":"TRIM(IF(ISERR(Sheet1!AN20),\"\",Sheet1!AN20))","v":""},{"$f":"TRIM(IF(ISERR(Sheet1!AO20),\"\",Sheet1!AO20))","v":""},{"$f":"TRIM(IF(ISERR(Sheet1!AP20),\"\",Sheet1!AP20))","v":""},{"$f":"TRIM(IF(ISERR(Sheet1!AQ20),\"\",Sheet1!AQ20))","v":""},{"$f":"TRIM(IF(ISERR(Sheet1!AR20),\"\",Sheet1!AR20))","v":""},{"$f":"TRIM(IF(ISERR(Sheet1!AS20),\"\",Sheet1!AS20))","v":""},{"$f":"TRIM(IF(ISERR(Sheet1!AT20),\"\",Sheet1!AT20))","v":""},{"$f":"TRIM(IF(ISERR(Sheet1!AU20),\"\",Sheet1!AU20))","v":""},{"$f":"TRIM(IF(ISERR(Sheet1!AV20),\"\",Sheet1!AV20))","v":""},{"$f":"TRIM(IF(ISERR(Sheet1!AW20),\"\",Sheet1!AW20))","v":""},{"$f":"TRIM(IF(ISERR(Sheet1!AX20),\"\",Sheet1!AX20))","v":""},{"$f":"TRIM(IF(ISERR(Sheet1!AY20),\"\",Sheet1!AY20))","v":""},{"$f":"TRIM(IF(ISERR(Sheet1!AZ20),\"\",Sheet1!AZ20))","v":""},{"$f":"TRIM(IF(ISERR(Sheet1!BA20),\"\",Sheet1!BA20))","v":""},{"$f":"TRIM(IF(ISERR(Sheet1!BB20),\"\",Sheet1!BB20))","v":""},{"$f":"TRIM(IF(ISERR(Sheet1!BC20),\"\",Sheet1!BC20))","v":""},{"$f":"TRIM(IF(ISERR(Sheet1!BD20),\"\",Sheet1!BD20))","v":""},{"$f":"TRIM(IF(ISERR(Sheet1!BE20),\"\",Sheet1!BE20))","v":""},{"$f":"TRIM(IF(ISERR(Sheet1!BF20),\"\",Sheet1!BF20))","v":""},{"$f":"TRIM(IF(ISERR(Sheet1!BG20),\"\",Sheet1!BG20))","v":""},null,null,null,null,null,null,null,null,null,null,null,null,null,null,null,null,null,null,null,null,null,null,null,null,null,null,null,null,null,"←","このボタンは保護解除後有効となります"]
[null,null,{"$f":"TRIM(IF(ISERR(Sheet1!C21),\"\",Sheet1!C21))","v":""},{"$f":"TRIM(IF(ISERR(Sheet1!D21),\"\",Sheet1!D21))","v":""},{"$f":"TRIM(IF(ISERR(Sheet1!E21),\"\",Sheet1!E21))","v":""},{"$f":"TRIM(IF(ISERR(Sheet1!F21),\"\",Sheet1!F21))","v":""},{"$f":"TRIM(IF(ISERR(Sheet1!G21),\"\",Sheet1!G21))","v":""},{"$f":"TRIM(IF(ISERR(Sheet1!H21),\"\",Sheet1!H21))","v":""},{"$f":"TRIM(IF(ISERR(Sheet1!I21),\"\",Sheet1!I21))","v":""},{"$f":"TRIM(IF(ISERR(Sheet1!J21),\"\",Sheet1!J21))","v":""},{"$f":"TRIM(IF(ISERR(Sheet1!K21),\"\",Sheet1!K21))","v":""},{"$f":"TRIM(IF(ISERR(Sheet1!L21),\"\",Sheet1!L21))","v":""},{"$f":"TRIM(IF(ISERR(Sheet1!M21),\"\",Sheet1!M21))","v":""},{"$f":"TRIM(IF(ISERR(Sheet1!N21),\"\",Sheet1!N21))","v":""},{"$f":"TRIM(IF(ISERR(Sheet1!O21),\"\",Sheet1!O21))","v":""},{"$f":"TRIM(IF(ISERR(Sheet1!P21),\"\",Sheet1!P21))","v":""},{"$f":"TRIM(IF(ISERR(Sheet1!Q21),\"\",Sheet1!Q21))","v":""},{"$f":"TRIM(IF(ISERR(Sheet1!R21),\"\",Sheet1!R21))","v":""},{"$f":"TRIM(IF(ISERR(Sheet1!S21),\"\",Sheet1!S21))","v":""},{"$f":"TRIM(IF(ISERR(Sheet1!T21),\"\",Sheet1!T21))","v":""},{"$f":"TRIM(IF(ISERR(Sheet1!U21),\"\",Sheet1!U21))","v":""},{"$f":"TRIM(IF(ISERR(Sheet1!V21),\"\",Sheet1!V21))","v":""},{"$f":"TRIM(IF(ISERR(Sheet1!W21),\"\",Sheet1!W21))","v":""},{"$f":"TRIM(IF(ISERR(Sheet1!X21),\"\",Sheet1!X21))","v":""},{"$f":"TRIM(IF(ISERR(Sheet1!Y21),\"\",Sheet1!Y21))","v":""},{"$f":"TRIM(IF(ISERR(Sheet1!Z21),\"\",Sheet1!Z21))","v":""},{"$f":"TRIM(IF(ISERR(Sheet1!AA21),\"\",Sheet1!AA21))","v":""},{"$f":"TRIM(IF(ISERR(Sheet1!AB21),\"\",Sheet1!AB21))","v":""},{"$f":"TRIM(IF(ISERR(Sheet1!AC21),\"\",Sheet1!AC21))","v":""},{"$f":"TRIM(IF(ISERR(Sheet1!AD21),\"\",Sheet1!AD21))","v":""},{"$f":"TRIM(IF(ISERR(Sheet1!AE21),\"\",Sheet1!AE21))","v":""},{"$f":"TRIM(IF(ISERR(Sheet1!AF21),\"\",Sheet1!AF21))","v":""},{"$f":"TRIM(IF(ISERR(Sheet1!AG21),\"\",Sheet1!AG21))","v":""},{"$f":"TRIM(IF(ISERR(Sheet1!AH21),\"\",Sheet1!AH21))","v":""},{"$f":"TRIM(IF(ISERR(Sheet1!AI21),\"\",Sheet1!AI21))","v":""},{"$f":"TRIM(IF(ISERR(Sheet1!AJ21),\"\",Sheet1!AJ21))","v":""},{"$f":"TRIM(IF(ISERR(Sheet1!AK21),\"\",Sheet1!AK21))","v":""},{"$f":"TRIM(IF(ISERR(Sheet1!AL21),\"\",Sheet1!AL21))","v":""},{"$f":"TRIM(IF(ISERR(Sheet1!AM21),\"\",Sheet1!AM21))","v":""},{"$f":"TRIM(IF(ISERR(Sheet1!AN21),\"\",Sheet1!AN21))","v":""},{"$f":"TRIM(IF(ISERR(Sheet1!AO21),\"\",Sheet1!AO21))","v":""},{"$f":"TRIM(IF(ISERR(Sheet1!AP21),\"\",Sheet1!AP21))","v":""},{"$f":"TRIM(IF(ISERR(Sheet1!AQ21),\"\",Sheet1!AQ21))","v":""},{"$f":"TRIM(IF(ISERR(Sheet1!AR21),\"\",Sheet1!AR21))","v":""},{"$f":"TRIM(IF(ISERR(Sheet1!AS21),\"\",Sheet1!AS21))","v":""},{"$f":"TRIM(IF(ISERR(Sheet1!AT21),\"\",Sheet1!AT21))","v":""},{"$f":"TRIM(IF(ISERR(Sheet1!AU21),\"\",Sheet1!AU21))","v":""},{"$f":"TRIM(IF(ISERR(Sheet1!AV21),\"\",Sheet1!AV21))","v":""},{"$f":"TRIM(IF(ISERR(Sheet1!AW21),\"\",Sheet1!AW21))","v":""},{"$f":"TRIM(IF(ISERR(Sheet1!AX21),\"\",Sheet1!AX21))","v":""},{"$f":"TRIM(IF(ISERR(Sheet1!AY21),\"\",Sheet1!AY21))","v":""},{"$f":"TRIM(IF(ISERR(Sheet1!AZ21),\"\",Sheet1!AZ21))","v":""},{"$f":"TRIM(IF(ISERR(Sheet1!BA21),\"\",Sheet1!BA21))","v":""},{"$f":"TRIM(IF(ISERR(Sheet1!BB21),\"\",Sheet1!BB21))","v":""},{"$f":"TRIM(IF(ISERR(Sheet1!BC21),\"\",Sheet1!BC21))","v":""},{"$f":"TRIM(IF(ISERR(Sheet1!BD21),\"\",Sheet1!BD21))","v":""},{"$f":"TRIM(IF(ISERR(Sheet1!BE21),\"\",Sheet1!BE21))","v":""},{"$f":"TRIM(IF(ISERR(Sheet1!BF21),\"\",Sheet1!BF21))","v":""},{"$f":"TRIM(IF(ISERR(Sheet1!BG21),\"\",Sheet1!BG21))","v":""}]
[null,null,{"$f":"TRIM(IF(ISERR(Sheet1!C22),\"\",Sheet1!C22))","v":""},{"$f":"TRIM(IF(ISERR(Sheet1!D22),\"\",Sheet1!D22))","v":""},{"$f":"TRIM(IF(ISERR(Sheet1!E22),\"\",Sheet1!E22))","v":""},{"$f":"TRIM(IF(ISERR(Sheet1!F22),\"\",Sheet1!F22))","v":""},{"$f":"TRIM(IF(ISERR(Sheet1!G22),\"\",Sheet1!G22))","v":""},{"$f":"TRIM(IF(ISERR(Sheet1!H22),\"\",Sheet1!H22))","v":""},{"$f":"TRIM(IF(ISERR(Sheet1!I22),\"\",Sheet1!I22))","v":""},{"$f":"TRIM(IF(ISERR(Sheet1!J22),\"\",Sheet1!J22))","v":""},{"$f":"TRIM(IF(ISERR(Sheet1!K22),\"\",Sheet1!K22))","v":""},{"$f":"TRIM(IF(ISERR(Sheet1!L22),\"\",Sheet1!L22))","v":""},{"$f":"TRIM(IF(ISERR(Sheet1!M22),\"\",Sheet1!M22))","v":""},{"$f":"TRIM(IF(ISERR(Sheet1!N22),\"\",Sheet1!N22))","v":""},{"$f":"TRIM(IF(ISERR(Sheet1!O22),\"\",Sheet1!O22))","v":""},{"$f":"TRIM(IF(ISERR(Sheet1!P22),\"\",Sheet1!P22))","v":""},{"$f":"TRIM(IF(ISERR(Sheet1!Q22),\"\",Sheet1!Q22))","v":""},{"$f":"TRIM(IF(ISERR(Sheet1!R22),\"\",Sheet1!R22))","v":""},{"$f":"TRIM(IF(ISERR(Sheet1!S22),\"\",Sheet1!S22))","v":""},{"$f":"TRIM(IF(ISERR(Sheet1!T22),\"\",Sheet1!T22))","v":""},{"$f":"TRIM(IF(ISERR(Sheet1!U22),\"\",Sheet1!U22))","v":""},{"$f":"TRIM(IF(ISERR(Sheet1!V22),\"\",Sheet1!V22))","v":""},{"$f":"TRIM(IF(ISERR(Sheet1!W22),\"\",Sheet1!W22))","v":""},{"$f":"TRIM(IF(ISERR(Sheet1!X22),\"\",Sheet1!X22))","v":""},{"$f":"TRIM(IF(ISERR(Sheet1!Y22),\"\",Sheet1!Y22))","v":""},{"$f":"TRIM(IF(ISERR(Sheet1!Z22),\"\",Sheet1!Z22))","v":""},{"$f":"TRIM(IF(ISERR(Sheet1!AA22),\"\",Sheet1!AA22))","v":""},{"$f":"TRIM(IF(ISERR(Sheet1!AB22),\"\",Sheet1!AB22))","v":""},{"$f":"TRIM(IF(ISERR(Sheet1!AC22),\"\",Sheet1!AC22))","v":""},{"$f":"TRIM(IF(ISERR(Sheet1!AD22),\"\",Sheet1!AD22))","v":""},{"$f":"TRIM(IF(ISERR(Sheet1!AE22),\"\",Sheet1!AE22))","v":""},{"$f":"TRIM(IF(ISERR(Sheet1!AF22),\"\",Sheet1!AF22))","v":""},{"$f":"TRIM(IF(ISERR(Sheet1!AG22),\"\",Sheet1!AG22))","v":""},{"$f":"TRIM(IF(ISERR(Sheet1!AH22),\"\",Sheet1!AH22))","v":""},{"$f":"TRIM(IF(ISERR(Sheet1!AI22),\"\",Sheet1!AI22))","v":""},{"$f":"TRIM(IF(ISERR(Sheet1!AJ22),\"\",Sheet1!AJ22))","v":""},{"$f":"TRIM(IF(ISERR(Sheet1!AK22),\"\",Sheet1!AK22))","v":""},{"$f":"TRIM(IF(ISERR(Sheet1!AL22),\"\",Sheet1!AL22))","v":""},{"$f":"TRIM(IF(ISERR(Sheet1!AM22),\"\",Sheet1!AM22))","v":""},{"$f":"TRIM(IF(ISERR(Sheet1!AN22),\"\",Sheet1!AN22))","v":""},{"$f":"TRIM(IF(ISERR(Sheet1!AO22),\"\",Sheet1!AO22))","v":""},{"$f":"TRIM(IF(ISERR(Sheet1!AP22),\"\",Sheet1!AP22))","v":""},{"$f":"TRIM(IF(ISERR(Sheet1!AQ22),\"\",Sheet1!AQ22))","v":""},{"$f":"TRIM(IF(ISERR(Sheet1!AR22),\"\",Sheet1!AR22))","v":""},{"$f":"TRIM(IF(ISERR(Sheet1!AS22),\"\",Sheet1!AS22))","v":""},{"$f":"TRIM(IF(ISERR(Sheet1!AT22),\"\",Sheet1!AT22))","v":""},{"$f":"TRIM(IF(ISERR(Sheet1!AU22),\"\",Sheet1!AU22))","v":""},{"$f":"TRIM(IF(ISERR(Sheet1!AV22),\"\",Sheet1!AV22))","v":""},{"$f":"TRIM(IF(ISERR(Sheet1!AW22),\"\",Sheet1!AW22))","v":""},{"$f":"TRIM(IF(ISERR(Sheet1!AX22),\"\",Sheet1!AX22))","v":""},{"$f":"TRIM(IF(ISERR(Sheet1!AY22),\"\",Sheet1!AY22))","v":""},{"$f":"TRIM(IF(ISERR(Sheet1!AZ22),\"\",Sheet1!AZ22))","v":""},{"$f":"TRIM(IF(ISERR(Sheet1!BA22),\"\",Sheet1!BA22))","v":""},{"$f":"TRIM(IF(ISERR(Sheet1!BB22),\"\",Sheet1!BB22))","v":""},{"$f":"TRIM(IF(ISERR(Sheet1!BC22),\"\",Sheet1!BC22))","v":""},{"$f":"TRIM(IF(ISERR(Sheet1!BD22),\"\",Sheet1!BD22))","v":""},{"$f":"TRIM(IF(ISERR(Sheet1!BE22),\"\",Sheet1!BE22))","v":""},{"$f":"TRIM(IF(ISERR(Sheet1!BF22),\"\",Sheet1!BF22))","v":""},{"$f":"TRIM(IF(ISERR(Sheet1!BG22),\"\",Sheet1!BG22))","v":""},null,null,null,null,null,null,null,null,null,null,null,null,null,null,null,null,null,"このワークシートを印刷したマークシートは、専用ソフト「マーくん（V4.5以降)」を用いて読取り・採点ができます。(下記サイトよりダウンロード)\n"]
[null,null,{"$f":"TRIM(IF(ISERR(Sheet1!C23),\"\",Sheet1!C23))","v":""},{"$f":"TRIM(IF(ISERR(Sheet1!D23),\"\",Sheet1!D23))","v":""},{"$f":"TRIM(IF(ISERR(Sheet1!E23),\"\",Sheet1!E23))","v":""},{"$f":"TRIM(IF(ISERR(Sheet1!F23),\"\",Sheet1!F23))","v":""},{"$f":"TRIM(IF(ISERR(Sheet1!G23),\"\",Sheet1!G23))","v":""},{"$f":"TRIM(IF(ISERR(Sheet1!H23),\"\",Sheet1!H23))","v":""},{"$f":"TRIM(IF(ISERR(Sheet1!I23),\"\",Sheet1!I23))","v":""},{"$f":"TRIM(IF(ISERR(Sheet1!J23),\"\",Sheet1!J23))","v":""},{"$f":"TRIM(IF(ISERR(Sheet1!K23),\"\",Sheet1!K23))","v":""},{"$f":"TRIM(IF(ISERR(Sheet1!L23),\"\",Sheet1!L23))","v":""},{"$f":"TRIM(IF(ISERR(Sheet1!M23),\"\",Sheet1!M23))","v":""},{"$f":"TRIM(IF(ISERR(Sheet1!N23),\"\",Sheet1!N23))","v":""},{"$f":"TRIM(IF(ISERR(Sheet1!O23),\"\",Sheet1!O23))","v":""},{"$f":"TRIM(IF(ISERR(Sheet1!P23),\"\",Sheet1!P23))","v":""},{"$f":"TRIM(IF(ISERR(Sheet1!Q23),\"\",Sheet1!Q23))","v":""},{"$f":"TRIM(IF(ISERR(Sheet1!R23),\"\",Sheet1!R23))","v":""},{"$f":"TRIM(IF(ISERR(Sheet1!S23),\"\",Sheet1!S23))","v":""},{"$f":"TRIM(IF(ISERR(Sheet1!T23),\"\",Sheet1!T23))","v":""},{"$f":"TRIM(IF(ISERR(Sheet1!U23),\"\",Sheet1!U23))","v":""},{"$f":"TRIM(IF(ISERR(Sheet1!V23),\"\",Sheet1!V23))","v":""},{"$f":"TRIM(IF(ISERR(Sheet1!W23),\"\",Sheet1!W23))","v":""},{"$f":"TRIM(IF(ISERR(Sheet1!X23),\"\",Sheet1!X23))","v":""},{"$f":"TRIM(IF(ISERR(Sheet1!Y23),\"\",Sheet1!Y23))","v":""},{"$f":"TRIM(IF(ISERR(Sheet1!Z23),\"\",Sheet1!Z23))","v":""},{"$f":"TRIM(IF(ISERR(Sheet1!AA23),\"\",Sheet1!AA23))","v":""},{"$f":"TRIM(IF(ISERR(Sheet1!AB23),\"\",Sheet1!AB23))","v":""},{"$f":"TRIM(IF(ISERR(Sheet1!AC23),\"\",Sheet1!AC23))","v":""},{"$f":"TRIM(IF(ISERR(Sheet1!AD23),\"\",Sheet1!AD23))","v":""},{"$f":"TRIM(IF(ISERR(Sheet1!AE23),\"\",Sheet1!AE23))","v":""},{"$f":"TRIM(IF(ISERR(Sheet1!AF23),\"\",Sheet1!AF23))","v":""},{"$f":"TRIM(IF(ISERR(Sheet1!AG23),\"\",Sheet1!AG23))","v":""},{"$f":"TRIM(IF(ISERR(Sheet1!AH23),\"\",Sheet1!AH23))","v":""},{"$f":"TRIM(IF(ISERR(Sheet1!AI23),\"\",Sheet1!AI23))","v":""},{"$f":"TRIM(IF(ISERR(Sheet1!AJ23),\"\",Sheet1!AJ23))","v":""},{"$f":"TRIM(IF(ISERR(Sheet1!AK23),\"\",Sheet1!AK23))","v":""},{"$f":"TRIM(IF(ISERR(Sheet1!AL23),\"\",Sheet1!AL23))","v":""},{"$f":"TRIM(IF(ISERR(Sheet1!AM23),\"\",Sheet1!AM23))","v":""},{"$f":"TRIM(IF(ISERR(Sheet1!AN23),\"\",Sheet1!AN23))","v":""},{"$f":"TRIM(IF(ISERR(Sheet1!AO23),\"\",Sheet1!AO23))","v":""},{"$f":"TRIM(IF(ISERR(Sheet1!AP23),\"\",Sheet1!AP23))","v":""},{"$f":"TRIM(IF(ISERR(Sheet1!AQ23),\"\",Sheet1!AQ23))","v":""},{"$f":"TRIM(IF(ISERR(Sheet1!AR23),\"\",Sheet1!AR23))","v":""},{"$f":"TRIM(IF(ISERR(Sheet1!AS23),\"\",Sheet1!AS23))","v":""},{"$f":"TRIM(IF(ISERR(Sheet1!AT23),\"\",Sheet1!AT23))","v":""},{"$f":"TRIM(IF(ISERR(Sheet1!AU23),\"\",Sheet1!AU23))","v":""},{"$f":"TRIM(IF(ISERR(Sheet1!AV23),\"\",Sheet1!AV23))","v":""},{"$f":"TRIM(IF(ISERR(Sheet1!AW23),\"\",Sheet1!AW23))","v":""},{"$f":"TRIM(IF(ISERR(Sheet1!AX23),\"\",Sheet1!AX23))","v":""},{"$f":"TRIM(IF(ISERR(Sheet1!AY23),\"\",Sheet1!AY23))","v":""},{"$f":"TRIM(IF(ISERR(Sheet1!AZ23),\"\",Sheet1!AZ23))","v":""},{"$f":"TRIM(IF(ISERR(Sheet1!BA23),\"\",Sheet1!BA23))","v":""},{"$f":"TRIM(IF(ISERR(Sheet1!BB23),\"\",Sheet1!BB23))","v":""},{"$f":"TRIM(IF(ISERR(Sheet1!BC23),\"\",Sheet1!BC23))","v":""},{"$f":"TRIM(IF(ISERR(Sheet1!BD23),\"\",Sheet1!BD23))","v":""},{"$f":"TRIM(IF(ISERR(Sheet1!BE23),\"\",Sheet1!BE23))","v":""},{"$f":"TRIM(IF(ISERR(Sheet1!BF23),\"\",Sheet1!BF23))","v":""},{"$f":"TRIM(IF(ISERR(Sheet1!BG23),\"\",Sheet1!BG23))","v":""}]
[null,null,{"$f":"TRIM(IF(ISERR(Sheet1!C24),\"\",Sheet1!C24))","v":""},{"$f":"TRIM(IF(ISERR(Sheet1!D24),\"\",Sheet1!D24))","v":""},{"$f":"TRIM(IF(ISERR(Sheet1!E24),\"\",Sheet1!E24))","v":""},{"$f":"TRIM(IF(ISERR(Sheet1!F24),\"\",Sheet1!F24))","v":""},{"$f":"TRIM(IF(ISERR(Sheet1!G24),\"\",Sheet1!G24))","v":""},{"$f":"TRIM(IF(ISERR(Sheet1!H24),\"\",Sheet1!H24))","v":""},{"$f":"TRIM(IF(ISERR(Sheet1!I24),\"\",Sheet1!I24))","v":""},{"$f":"TRIM(IF(ISERR(Sheet1!J24),\"\",Sheet1!J24))","v":""},{"$f":"TRIM(IF(ISERR(Sheet1!K24),\"\",Sheet1!K24))","v":""},{"$f":"TRIM(IF(ISERR(Sheet1!L24),\"\",Sheet1!L24))","v":""},{"$f":"TRIM(IF(ISERR(Sheet1!M24),\"\",Sheet1!M24))","v":""},{"$f":"TRIM(IF(ISERR(Sheet1!N24),\"\",Sheet1!N24))","v":""},{"$f":"TRIM(IF(ISERR(Sheet1!O24),\"\",Sheet1!O24))","v":""},{"$f":"TRIM(IF(ISERR(Sheet1!P24),\"\",Sheet1!P24))","v":""},{"$f":"TRIM(IF(ISERR(Sheet1!Q24),\"\",Sheet1!Q24))","v":""},{"$f":"TRIM(IF(ISERR(Sheet1!R24),\"\",Sheet1!R24))","v":""},{"$f":"TRIM(IF(ISERR(Sheet1!S24),\"\",Sheet1!S24))","v":""},{"$f":"TRIM(IF(ISERR(Sheet1!T24),\"\",Sheet1!T24))","v":""},{"$f":"TRIM(IF(ISERR(Sheet1!U24),\"\",Sheet1!U24))","v":""},{"$f":"TRIM(IF(ISERR(Sheet1!V24),\"\",Sheet1!V24))","v":""},{"$f":"TRIM(IF(ISERR(Sheet1!W24),\"\",Sheet1!W24))","v":""},{"$f":"TRIM(IF(ISERR(Sheet1!X24),\"\",Sheet1!X24))","v":""},{"$f":"TRIM(IF(ISERR(Sheet1!Y24),\"\",Sheet1!Y24))","v":""},{"$f":"TRIM(IF(ISERR(Sheet1!Z24),\"\",Sheet1!Z24))","v":""},{"$f":"TRIM(IF(ISERR(Sheet1!AA24),\"\",Sheet1!AA24))","v":""},{"$f":"TRIM(IF(ISERR(Sheet1!AB24),\"\",Sheet1!AB24))","v":""},{"$f":"TRIM(IF(ISERR(Sheet1!AC24),\"\",Sheet1!AC24))","v":""},{"$f":"TRIM(IF(ISERR(Sheet1!AD24),\"\",Sheet1!AD24))","v":""},{"$f":"TRIM(IF(ISERR(Sheet1!AE24),\"\",Sheet1!AE24))","v":""},{"$f":"TRIM(IF(ISERR(Sheet1!AF24),\"\",Sheet1!AF24))","v":""},{"$f":"TRIM(IF(ISERR(Sheet1!AG24),\"\",Sheet1!AG24))","v":""},{"$f":"TRIM(IF(ISERR(Sheet1!AH24),\"\",Sheet1!AH24))","v":""},{"$f":"TRIM(IF(ISERR(Sheet1!AI24),\"\",Sheet1!AI24))","v":""},{"$f":"TRIM(IF(ISERR(Sheet1!AJ24),\"\",Sheet1!AJ24))","v":""},{"$f":"TRIM(IF(ISERR(Sheet1!AK24),\"\",Sheet1!AK24))","v":""},{"$f":"TRIM(IF(ISERR(Sheet1!AL24),\"\",Sheet1!AL24))","v":""},{"$f":"TRIM(IF(ISERR(Sheet1!AM24),\"\",Sheet1!AM24))","v":""},{"$f":"TRIM(IF(ISERR(Sheet1!AN24),\"\",Sheet1!AN24))","v":""},{"$f":"TRIM(IF(ISERR(Sheet1!AO24),\"\",Sheet1!AO24))","v":""},{"$f":"TRIM(IF(ISERR(Sheet1!AP24),\"\",Sheet1!AP24))","v":""},{"$f":"TRIM(IF(ISERR(Sheet1!AQ24),\"\",Sheet1!AQ24))","v":""},{"$f":"TRIM(IF(ISERR(Sheet1!AR24),\"\",Sheet1!AR24))","v":""},{"$f":"TRIM(IF(ISERR(Sheet1!AS24),\"\",Sheet1!AS24))","v":""},{"$f":"TRIM(IF(ISERR(Sheet1!AT24),\"\",Sheet1!AT24))","v":""},{"$f":"TRIM(IF(ISERR(Sheet1!AU24),\"\",Sheet1!AU24))","v":""},{"$f":"TRIM(IF(ISERR(Sheet1!AV24),\"\",Sheet1!AV24))","v":""},{"$f":"TRIM(IF(ISERR(Sheet1!AW24),\"\",Sheet1!AW24))","v":""},{"$f":"TRIM(IF(ISERR(Sheet1!AX24),\"\",Sheet1!AX24))","v":""},{"$f":"TRIM(IF(ISERR(Sheet1!AY24),\"\",Sheet1!AY24))","v":""},{"$f":"TRIM(IF(ISERR(Sheet1!AZ24),\"\",Sheet1!AZ24))","v":""},{"$f":"TRIM(IF(ISERR(Sheet1!BA24),\"\",Sheet1!BA24))","v":""},{"$f":"TRIM(IF(ISERR(Sheet1!BB24),\"\",Sheet1!BB24))","v":""},{"$f":"TRIM(IF(ISERR(Sheet1!BC24),\"\",Sheet1!BC24))","v":""},{"$f":"TRIM(IF(ISERR(Sheet1!BD24),\"\",Sheet1!BD24))","v":""},{"$f":"TRIM(IF(ISERR(Sheet1!BE24),\"\",Sheet1!BE24))","v":""},{"$f":"TRIM(IF(ISERR(Sheet1!BF24),\"\",Sheet1!BF24))","v":""},{"$f":"TRIM(IF(ISERR(Sheet1!BG24),\"\",Sheet1!BG24))","v":""}]
[null,null,{"$f":"TRIM(IF(ISERR(Sheet1!C25),\"\",Sheet1!C25))","v":""},{"$f":"TRIM(IF(ISERR(Sheet1!D25),\"\",Sheet1!D25))","v":""},{"$f":"TRIM(IF(ISERR(Sheet1!E25),\"\",Sheet1!E25))","v":""},{"$f":"TRIM(IF(ISERR(Sheet1!F25),\"\",Sheet1!F25))","v":""},{"$f":"TRIM(IF(ISERR(Sheet1!G25),\"\",Sheet1!G25))","v":""},{"$f":"TRIM(IF(ISERR(Sheet1!H25),\"\",Sheet1!H25))","v":""},{"$f":"TRIM(IF(ISERR(Sheet1!I25),\"\",Sheet1!I25))","v":""},{"$f":"TRIM(IF(ISERR(Sheet1!J25),\"\",Sheet1!J25))","v":""},{"$f":"TRIM(IF(ISERR(Sheet1!K25),\"\",Sheet1!K25))","v":""},{"$f":"TRIM(IF(ISERR(Sheet1!L25),\"\",Sheet1!L25))","v":""},{"$f":"TRIM(IF(ISERR(Sheet1!M25),\"\",Sheet1!M25))","v":""},{"$f":"TRIM(IF(ISERR(Sheet1!N25),\"\",Sheet1!N25))","v":""},{"$f":"TRIM(IF(ISERR(Sheet1!O25),\"\",Sheet1!O25))","v":""},{"$f":"TRIM(IF(ISERR(Sheet1!P25),\"\",Sheet1!P25))","v":""},{"$f":"TRIM(IF(ISERR(Sheet1!Q25),\"\",Sheet1!Q25))","v":""},{"$f":"TRIM(IF(ISERR(Sheet1!R25),\"\",Sheet1!R25))","v":""},{"$f":"TRIM(IF(ISERR(Sheet1!S25),\"\",Sheet1!S25))","v":""},{"$f":"TRIM(IF(ISERR(Sheet1!T25),\"\",Sheet1!T25))","v":""},{"$f":"TRIM(IF(ISERR(Sheet1!U25),\"\",Sheet1!U25))","v":""},{"$f":"TRIM(IF(ISERR(Sheet1!V25),\"\",Sheet1!V25))","v":""},{"$f":"TRIM(IF(ISERR(Sheet1!W25),\"\",Sheet1!W25))","v":""},{"$f":"TRIM(IF(ISERR(Sheet1!X25),\"\",Sheet1!X25))","v":""},{"$f":"TRIM(IF(ISERR(Sheet1!Y25),\"\",Sheet1!Y25))","v":""},{"$f":"TRIM(IF(ISERR(Sheet1!Z25),\"\",Sheet1!Z25))","v":""},{"$f":"TRIM(IF(ISERR(Sheet1!AA25),\"\",Sheet1!AA25))","v":""},{"$f":"TRIM(IF(ISERR(Sheet1!AB25),\"\",Sheet1!AB25))","v":""},{"$f":"TRIM(IF(ISERR(Sheet1!AC25),\"\",Sheet1!AC25))","v":""},{"$f":"TRIM(IF(ISERR(Sheet1!AD25),\"\",Sheet1!AD25))","v":""},{"$f":"TRIM(IF(ISERR(Sheet1!AE25),\"\",Sheet1!AE25))","v":""},{"$f":"TRIM(IF(ISERR(Sheet1!AF25),\"\",Sheet1!AF25))","v":""},{"$f":"TRIM(IF(ISERR(Sheet1!AG25),\"\",Sheet1!AG25))","v":""},{"$f":"TRIM(IF(ISERR(Sheet1!AH25),\"\",Sheet1!AH25))","v":""},{"$f":"TRIM(IF(ISERR(Sheet1!AI25),\"\",Sheet1!AI25))","v":""},{"$f":"TRIM(IF(ISERR(Sheet1!AJ25),\"\",Sheet1!AJ25))","v":""},{"$f":"TRIM(IF(ISERR(Sheet1!AK25),\"\",Sheet1!AK25))","v":""},{"$f":"TRIM(IF(ISERR(Sheet1!AL25),\"\",Sheet1!AL25))","v":""},{"$f":"TRIM(IF(ISERR(Sheet1!AM25),\"\",Sheet1!AM25))","v":""},{"$f":"TRIM(IF(ISERR(Sheet1!AN25),\"\",Sheet1!AN25))","v":""},{"$f":"TRIM(IF(ISERR(Sheet1!AO25),\"\",Sheet1!AO25))","v":""},{"$f":"TRIM(IF(ISERR(Sheet1!AP25),\"\",Sheet1!AP25))","v":""},{"$f":"TRIM(IF(ISERR(Sheet1!AQ25),\"\",Sheet1!AQ25))","v":""},{"$f":"TRIM(IF(ISERR(Sheet1!AR25),\"\",Sheet1!AR25))","v":""},{"$f":"TRIM(IF(ISERR(Sheet1!AS25),\"\",Sheet1!AS25))","v":""},{"$f":"TRIM(IF(ISERR(Sheet1!AT25),\"\",Sheet1!AT25))","v":""},{"$f":"TRIM(IF(ISERR(Sheet1!AU25),\"\",Sheet1!AU25))","v":""},{"$f":"TRIM(IF(ISERR(Sheet1!AV25),\"\",Sheet1!AV25))","v":""},{"$f":"TRIM(IF(ISERR(Sheet1!AW25),\"\",Sheet1!AW25))","v":""},{"$f":"TRIM(IF(ISERR(Sheet1!AX25),\"\",Sheet1!AX25))","v":""},{"$f":"TRIM(IF(ISERR(Sheet1!AY25),\"\",Sheet1!AY25))","v":""},{"$f":"TRIM(IF(ISERR(Sheet1!AZ25),\"\",Sheet1!AZ25))","v":""},{"$f":"TRIM(IF(ISERR(Sheet1!BA25),\"\",Sheet1!BA25))","v":""},{"$f":"TRIM(IF(ISERR(Sheet1!BB25),\"\",Sheet1!BB25))","v":""},{"$f":"TRIM(IF(ISERR(Sheet1!BC25),\"\",Sheet1!BC25))","v":""},{"$f":"TRIM(IF(ISERR(Sheet1!BD25),\"\",Sheet1!BD25))","v":""},{"$f":"TRIM(IF(ISERR(Sheet1!BE25),\"\",Sheet1!BE25))","v":""},{"$f":"TRIM(IF(ISERR(Sheet1!BF25),\"\",Sheet1!BF25))","v":""},{"$f":"TRIM(IF(ISERR(Sheet1!BG25),\"\",Sheet1!BG25))","v":""}]
[null,null,{"$f":"TRIM(IF(ISERR(Sheet1!C26),\"\",Sheet1!C26))","v":""},{"$f":"TRIM(IF(ISERR(Sheet1!D26),\"\",Sheet1!D26))","v":""},{"$f":"TRIM(IF(ISERR(Sheet1!E26),\"\",Sheet1!E26))","v":""},{"$f":"TRIM(IF(ISERR(Sheet1!F26),\"\",Sheet1!F26))","v":""},{"$f":"TRIM(IF(ISERR(Sheet1!G26),\"\",Sheet1!G26))","v":""},{"$f":"TRIM(IF(ISERR(Sheet1!H26),\"\",Sheet1!H26))","v":""},{"$f":"TRIM(IF(ISERR(Sheet1!I26),\"\",Sheet1!I26))","v":""},{"$f":"TRIM(IF(ISERR(Sheet1!J26),\"\",Sheet1!J26))","v":""},{"$f":"TRIM(IF(ISERR(Sheet1!K26),\"\",Sheet1!K26))","v":""},{"$f":"TRIM(IF(ISERR(Sheet1!L26),\"\",Sheet1!L26))","v":""},{"$f":"TRIM(IF(ISERR(Sheet1!M26),\"\",Sheet1!M26))","v":""},{"$f":"TRIM(IF(ISERR(Sheet1!N26),\"\",Sheet1!N26))","v":""},{"$f":"TRIM(IF(ISERR(Sheet1!O26),\"\",Sheet1!O26))","v":""},{"$f":"TRIM(IF(ISERR(Sheet1!P26),\"\",Sheet1!P26))","v":""},{"$f":"TRIM(IF(ISERR(Sheet1!Q26),\"\",Sheet1!Q26))","v":""},{"$f":"TRIM(IF(ISERR(Sheet1!R26),\"\",Sheet1!R26))","v":""},{"$f":"TRIM(IF(ISERR(Sheet1!S26),\"\",Sheet1!S26))","v":""},{"$f":"TRIM(IF(ISERR(Sheet1!T26),\"\",Sheet1!T26))","v":""},{"$f":"TRIM(IF(ISERR(Sheet1!U26),\"\",Sheet1!U26))","v":""},{"$f":"TRIM(IF(ISERR(Sheet1!V26),\"\",Sheet1!V26))","v":""},{"$f":"TRIM(IF(ISERR(Sheet1!W26),\"\",Sheet1!W26))","v":""},{"$f":"TRIM(IF(ISERR(Sheet1!X26),\"\",Sheet1!X26))","v":""},{"$f":"TRIM(IF(ISERR(Sheet1!Y26),\"\",Sheet1!Y26))","v":""},{"$f":"TRIM(IF(ISERR(Sheet1!Z26),\"\",Sheet1!Z26))","v":""},{"$f":"TRIM(IF(ISERR(Sheet1!AA26),\"\",Sheet1!AA26))","v":""},{"$f":"TRIM(IF(ISERR(Sheet1!AB26),\"\",Sheet1!AB26))","v":""},{"$f":"TRIM(IF(ISERR(Sheet1!AC26),\"\",Sheet1!AC26))","v":""},{"$f":"TRIM(IF(ISERR(Sheet1!AD26),\"\",Sheet1!AD26))","v":""},{"$f":"TRIM(IF(ISERR(Sheet1!AE26),\"\",Sheet1!AE26))","v":""},{"$f":"TRIM(IF(ISERR(Sheet1!AF26),\"\",Sheet1!AF26))","v":""},{"$f":"TRIM(IF(ISERR(Sheet1!AG26),\"\",Sheet1!AG26))","v":""},{"$f":"TRIM(IF(ISERR(Sheet1!AH26),\"\",Sheet1!AH26))","v":""},{"$f":"TRIM(IF(ISERR(Sheet1!AI26),\"\",Sheet1!AI26))","v":""},{"$f":"TRIM(IF(ISERR(Sheet1!AJ26),\"\",Sheet1!AJ26))","v":""},{"$f":"TRIM(IF(ISERR(Sheet1!AK26),\"\",Sheet1!AK26))","v":""},{"$f":"TRIM(IF(ISERR(Sheet1!AL26),\"\",Sheet1!AL26))","v":""},{"$f":"TRIM(IF(ISERR(Sheet1!AM26),\"\",Sheet1!AM26))","v":""},{"$f":"TRIM(IF(ISERR(Sheet1!AN26),\"\",Sheet1!AN26))","v":""},{"$f":"TRIM(IF(ISERR(Sheet1!AO26),\"\",Sheet1!AO26))","v":""},{"$f":"TRIM(IF(ISERR(Sheet1!AP26),\"\",Sheet1!AP26))","v":""},{"$f":"TRIM(IF(ISERR(Sheet1!AQ26),\"\",Sheet1!AQ26))","v":""},{"$f":"TRIM(IF(ISERR(Sheet1!AR26),\"\",Sheet1!AR26))","v":""},{"$f":"TRIM(IF(ISERR(Sheet1!AS26),\"\",Sheet1!AS26))","v":""},{"$f":"TRIM(IF(ISERR(Sheet1!AT26),\"\",Sheet1!AT26))","v":""},{"$f":"TRIM(IF(ISERR(Sheet1!AU26),\"\",Sheet1!AU26))","v":""},{"$f":"TRIM(IF(ISERR(Sheet1!AV26),\"\",Sheet1!AV26))","v":""},{"$f":"TRIM(IF(ISERR(Sheet1!AW26),\"\",Sheet1!AW26))","v":""},{"$f":"TRIM(IF(ISERR(Sheet1!AX26),\"\",Sheet1!AX26))","v":""},{"$f":"TRIM(IF(ISERR(Sheet1!AY26),\"\",Sheet1!AY26))","v":""},{"$f":"TRIM(IF(ISERR(Sheet1!AZ26),\"\",Sheet1!AZ26))","v":""},{"$f":"TRIM(IF(ISERR(Sheet1!BA26),\"\",Sheet1!BA26))","v":""},{"$f":"TRIM(IF(ISERR(Sheet1!BB26),\"\",Sheet1!BB26))","v":""},{"$f":"TRIM(IF(ISERR(Sheet1!BC26),\"\",Sheet1!BC26))","v":""},{"$f":"TRIM(IF(ISERR(Sheet1!BD26),\"\",Sheet1!BD26))","v":""},{"$f":"TRIM(IF(ISERR(Sheet1!BE26),\"\",Sheet1!BE26))","v":""},{"$f":"TRIM(IF(ISERR(Sheet1!BF26),\"\",Sheet1!BF26))","v":""},{"$f":"TRIM(IF(ISERR(Sheet1!BG26),\"\",Sheet1!BG26))","v":""}]
[null,null,{"$f":"TRIM(IF(ISERR(Sheet1!C27),\"\",Sheet1!C27))","v":""},{"$f":"TRIM(IF(ISERR(Sheet1!D27),\"\",Sheet1!D27))","v":""},{"$f":"TRIM(IF(ISERR(Sheet1!E27),\"\",Sheet1!E27))","v":""},{"$f":"TRIM(IF(ISERR(Sheet1!F27),\"\",Sheet1!F27))","v":""},{"$f":"TRIM(IF(ISERR(Sheet1!G27),\"\",Sheet1!G27))","v":""},{"$f":"TRIM(IF(ISERR(Sheet1!H27),\"\",Sheet1!H27))","v":""},{"$f":"TRIM(IF(ISERR(Sheet1!I27),\"\",Sheet1!I27))","v":""},{"$f":"TRIM(IF(ISERR(Sheet1!J27),\"\",Sheet1!J27))","v":""},{"$f":"TRIM(IF(ISERR(Sheet1!K27),\"\",Sheet1!K27))","v":""},{"$f":"TRIM(IF(ISERR(Sheet1!L27),\"\",Sheet1!L27))","v":""},{"$f":"TRIM(IF(ISERR(Sheet1!M27),\"\",Sheet1!M27))","v":""},{"$f":"TRIM(IF(ISERR(Sheet1!N27),\"\",Sheet1!N27))","v":""},{"$f":"TRIM(IF(ISERR(Sheet1!O27),\"\",Sheet1!O27))","v":""},{"$f":"TRIM(IF(ISERR(Sheet1!P27),\"\",Sheet1!P27))","v":""},{"$f":"TRIM(IF(ISERR(Sheet1!Q27),\"\",Sheet1!Q27))","v":""},{"$f":"TRIM(IF(ISERR(Sheet1!R27),\"\",Sheet1!R27))","v":""},{"$f":"TRIM(IF(ISERR(Sheet1!S27),\"\",Sheet1!S27))","v":""},{"$f":"TRIM(IF(ISERR(Sheet1!T27),\"\",Sheet1!T27))","v":""},{"$f":"TRIM(IF(ISERR(Sheet1!U27),\"\",Sheet1!U27))","v":""},{"$f":"TRIM(IF(ISERR(Sheet1!V27),\"\",Sheet1!V27))","v":""},{"$f":"TRIM(IF(ISERR(Sheet1!W27),\"\",Sheet1!W27))","v":""},{"$f":"TRIM(IF(ISERR(Sheet1!X27),\"\",Sheet1!X27))","v":""},{"$f":"TRIM(IF(ISERR(Sheet1!Y27),\"\",Sheet1!Y27))","v":""},{"$f":"TRIM(IF(ISERR(Sheet1!Z27),\"\",Sheet1!Z27))","v":""},{"$f":"TRIM(IF(ISERR(Sheet1!AA27),\"\",Sheet1!AA27))","v":""},{"$f":"TRIM(IF(ISERR(Sheet1!AB27),\"\",Sheet1!AB27))","v":""},{"$f":"TRIM(IF(ISERR(Sheet1!AC27),\"\",Sheet1!AC27))","v":""},{"$f":"TRIM(IF(ISERR(Sheet1!AD27),\"\",Sheet1!AD27))","v":""},{"$f":"TRIM(IF(ISERR(Sheet1!AE27),\"\",Sheet1!AE27))","v":""},{"$f":"TRIM(IF(ISERR(Sheet1!AF27),\"\",Sheet1!AF27))","v":""},{"$f":"TRIM(IF(ISERR(Sheet1!AG27),\"\",Sheet1!AG27))","v":""},{"$f":"TRIM(IF(ISERR(Sheet1!AH27),\"\",Sheet1!AH27))","v":""},{"$f":"TRIM(IF(ISERR(Sheet1!AI27),\"\",Sheet1!AI27))","v":""},{"$f":"TRIM(IF(ISERR(Sheet1!AJ27),\"\",Sheet1!AJ27))","v":""},{"$f":"TRIM(IF(ISERR(Sheet1!AK27),\"\",Sheet1!AK27))","v":""},{"$f":"TRIM(IF(ISERR(Sheet1!AL27),\"\",Sheet1!AL27))","v":""},{"$f":"TRIM(IF(ISERR(Sheet1!AM27),\"\",Sheet1!AM27))","v":""},{"$f":"TRIM(IF(ISERR(Sheet1!AN27),\"\",Sheet1!AN27))","v":""},{"$f":"TRIM(IF(ISERR(Sheet1!AO27),\"\",Sheet1!AO27))","v":""},{"$f":"TRIM(IF(ISERR(Sheet1!AP27),\"\",Sheet1!AP27))","v":""},{"$f":"TRIM(IF(ISERR(Sheet1!AQ27),\"\",Sheet1!AQ27))","v":""},{"$f":"TRIM(IF(ISERR(Sheet1!AR27),\"\",Sheet1!AR27))","v":""},{"$f":"TRIM(IF(ISERR(Sheet1!AS27),\"\",Sheet1!AS27))","v":""},{"$f":"TRIM(IF(ISERR(Sheet1!AT27),\"\",Sheet1!AT27))","v":""},{"$f":"TRIM(IF(ISERR(Sheet1!AU27),\"\",Sheet1!AU27))","v":""},{"$f":"TRIM(IF(ISERR(Sheet1!AV27),\"\",Sheet1!AV27))","v":""},{"$f":"TRIM(IF(ISERR(Sheet1!AW27),\"\",Sheet1!AW27))","v":""},{"$f":"TRIM(IF(ISERR(Sheet1!AX27),\"\",Sheet1!AX27))","v":""},{"$f":"TRIM(IF(ISERR(Sheet1!AY27),\"\",Sheet1!AY27))","v":""},{"$f":"TRIM(IF(ISERR(Sheet1!AZ27),\"\",Sheet1!AZ27))","v":""},{"$f":"TRIM(IF(ISERR(Sheet1!BA27),\"\",Sheet1!BA27))","v":""},{"$f":"TRIM(IF(ISERR(Sheet1!BB27),\"\",Sheet1!BB27))","v":""},{"$f":"TRIM(IF(ISERR(Sheet1!BC27),\"\",Sheet1!BC27))","v":""},{"$f":"TRIM(IF(ISERR(Sheet1!BD27),\"\",Sheet1!BD27))","v":""},{"$f":"TRIM(IF(ISERR(Sheet1!BE27),\"\",Sheet1!BE27))","v":""},{"$f":"TRIM(IF(ISERR(Sheet1!BF27),\"\",Sheet1!BF27))","v":""},{"$f":"TRIM(IF(ISERR(Sheet1!BG27),\"\",Sheet1!BG27))","v":""}]
[null,null,{"$f":"TRIM(IF(ISERR(Sheet1!C28),\"\",Sheet1!C28))","v":""},{"$f":"TRIM(IF(ISERR(Sheet1!D28),\"\",Sheet1!D28))","v":""},{"$f":"TRIM(IF(ISERR(Sheet1!E28),\"\",Sheet1!E28))","v":""},{"$f":"TRIM(IF(ISERR(Sheet1!F28),\"\",Sheet1!F28))","v":""},{"$f":"TRIM(IF(ISERR(Sheet1!G28),\"\",Sheet1!G28))","v":""},{"$f":"TRIM(IF(ISERR(Sheet1!H28),\"\",Sheet1!H28))","v":""},{"$f":"TRIM(IF(ISERR(Sheet1!I28),\"\",Sheet1!I28))","v":""},{"$f":"TRIM(IF(ISERR(Sheet1!J28),\"\",Sheet1!J28))","v":""},{"$f":"TRIM(IF(ISERR(Sheet1!K28),\"\",Sheet1!K28))","v":""},{"$f":"TRIM(IF(ISERR(Sheet1!L28),\"\",Sheet1!L28))","v":""},{"$f":"TRIM(IF(ISERR(Sheet1!M28),\"\",Sheet1!M28))","v":""},{"$f":"TRIM(IF(ISERR(Sheet1!N28),\"\",Sheet1!N28))","v":""},{"$f":"TRIM(IF(ISERR(Sheet1!O28),\"\",Sheet1!O28))","v":""},{"$f":"TRIM(IF(ISERR(Sheet1!P28),\"\",Sheet1!P28))","v":""},{"$f":"TRIM(IF(ISERR(Sheet1!Q28),\"\",Sheet1!Q28))","v":""},{"$f":"TRIM(IF(ISERR(Sheet1!R28),\"\",Sheet1!R28))","v":""},{"$f":"TRIM(IF(ISERR(Sheet1!S28),\"\",Sheet1!S28))","v":""},{"$f":"TRIM(IF(ISERR(Sheet1!T28),\"\",Sheet1!T28))","v":""},{"$f":"TRIM(IF(ISERR(Sheet1!U28),\"\",Sheet1!U28))","v":""},{"$f":"TRIM(IF(ISERR(Sheet1!V28),\"\",Sheet1!V28))","v":""},{"$f":"TRIM(IF(ISERR(Sheet1!W28),\"\",Sheet1!W28))","v":""},{"$f":"TRIM(IF(ISERR(Sheet1!X28),\"\",Sheet1!X28))","v":""},{"$f":"TRIM(IF(ISERR(Sheet1!Y28),\"\",Sheet1!Y28))","v":""},{"$f":"TRIM(IF(ISERR(Sheet1!Z28),\"\",Sheet1!Z28))","v":""},{"$f":"TRIM(IF(ISERR(Sheet1!AA28),\"\",Sheet1!AA28))","v":""},{"$f":"TRIM(IF(ISERR(Sheet1!AB28),\"\",Sheet1!AB28))","v":""},{"$f":"TRIM(IF(ISERR(Sheet1!AC28),\"\",Sheet1!AC28))","v":""},{"$f":"TRIM(IF(ISERR(Sheet1!AD28),\"\",Sheet1!AD28))","v":""},{"$f":"TRIM(IF(ISERR(Sheet1!AE28),\"\",Sheet1!AE28))","v":""},{"$f":"TRIM(IF(ISERR(Sheet1!AF28),\"\",Sheet1!AF28))","v":""},{"$f":"TRIM(IF(ISERR(Sheet1!AG28),\"\",Sheet1!AG28))","v":""},{"$f":"TRIM(IF(ISERR(Sheet1!AH28),\"\",Sheet1!AH28))","v":""},{"$f":"TRIM(IF(ISERR(Sheet1!AI28),\"\",Sheet1!AI28))","v":""},{"$f":"TRIM(IF(ISERR(Sheet1!AJ28),\"\",Sheet1!AJ28))","v":""},{"$f":"TRIM(IF(ISERR(Sheet1!AK28),\"\",Sheet1!AK28))","v":""},{"$f":"TRIM(IF(ISERR(Sheet1!AL28),\"\",Sheet1!AL28))","v":""},{"$f":"TRIM(IF(ISERR(Sheet1!AM28),\"\",Sheet1!AM28))","v":""},{"$f":"TRIM(IF(ISERR(Sheet1!AN28),\"\",Sheet1!AN28))","v":""},{"$f":"TRIM(IF(ISERR(Sheet1!AO28),\"\",Sheet1!AO28))","v":""},{"$f":"TRIM(IF(ISERR(Sheet1!AP28),\"\",Sheet1!AP28))","v":""},{"$f":"TRIM(IF(ISERR(Sheet1!AQ28),\"\",Sheet1!AQ28))","v":""},{"$f":"TRIM(IF(ISERR(Sheet1!AR28),\"\",Sheet1!AR28))","v":""},{"$f":"TRIM(IF(ISERR(Sheet1!AS28),\"\",Sheet1!AS28))","v":""},{"$f":"TRIM(IF(ISERR(Sheet1!AT28),\"\",Sheet1!AT28))","v":""},{"$f":"TRIM(IF(ISERR(Sheet1!AU28),\"\",Sheet1!AU28))","v":""},{"$f":"TRIM(IF(ISERR(Sheet1!AV28),\"\",Sheet1!AV28))","v":""},{"$f":"TRIM(IF(ISERR(Sheet1!AW28),\"\",Sheet1!AW28))","v":""},{"$f":"TRIM(IF(ISERR(Sheet1!AX28),\"\",Sheet1!AX28))","v":""},{"$f":"TRIM(IF(ISERR(Sheet1!AY28),\"\",Sheet1!AY28))","v":""},{"$f":"TRIM(IF(ISERR(Sheet1!AZ28),\"\",Sheet1!AZ28))","v":""},{"$f":"TRIM(IF(ISERR(Sheet1!BA28),\"\",Sheet1!BA28))","v":""},{"$f":"TRIM(IF(ISERR(Sheet1!BB28),\"\",Sheet1!BB28))","v":""},{"$f":"TRIM(IF(ISERR(Sheet1!BC28),\"\",Sheet1!BC28))","v":""},{"$f":"TRIM(IF(ISERR(Sheet1!BD28),\"\",Sheet1!BD28))","v":""},{"$f":"TRIM(IF(ISERR(Sheet1!BE28),\"\",Sheet1!BE28))","v":""},{"$f":"TRIM(IF(ISERR(Sheet1!BF28),\"\",Sheet1!BF28))","v":""},{"$f":"TRIM(IF(ISERR(Sheet1!BG28),\"\",Sheet1!BG28))","v":""}]
[null,null,{"$f":"TRIM(IF(ISERR(Sheet1!C29),\"\",Sheet1!C29))","v":""},{"$f":"TRIM(IF(ISERR(Sheet1!D29),\"\",Sheet1!D29))","v":""},{"$f":"TRIM(IF(ISERR(Sheet1!E29),\"\",Sheet1!E29))","v":""},{"$f":"TRIM(IF(ISERR(Sheet1!F29),\"\",Sheet1!F29))","v":""},{"$f":"TRIM(IF(ISERR(Sheet1!G29),\"\",Sheet1!G29))","v":""},{"$f":"TRIM(IF(ISERR(Sheet1!H29),\"\",Sheet1!H29))","v":""},{"$f":"TRIM(IF(ISERR(Sheet1!I29),\"\",Sheet1!I29))","v":""},{"$f":"TRIM(IF(ISERR(Sheet1!J29),\"\",Sheet1!J29))","v":""},{"$f":"TRIM(IF(ISERR(Sheet1!K29),\"\",Sheet1!K29))","v":""},{"$f":"TRIM(IF(ISERR(Sheet1!L29),\"\",Sheet1!L29))","v":""},{"$f":"TRIM(IF(ISERR(Sheet1!M29),\"\",Sheet1!M29))","v":""},{"$f":"TRIM(IF(ISERR(Sheet1!N29),\"\",Sheet1!N29))","v":""},{"$f":"TRIM(IF(ISERR(Sheet1!O29),\"\",Sheet1!O29))","v":""},{"$f":"TRIM(IF(ISERR(Sheet1!P29),\"\",Sheet1!P29))","v":""},{"$f":"TRIM(IF(ISERR(Sheet1!Q29),\"\",Sheet1!Q29))","v":""},{"$f":"TRIM(IF(ISERR(Sheet1!R29),\"\",Sheet1!R29))","v":""},{"$f":"TRIM(IF(ISERR(Sheet1!S29),\"\",Sheet1!S29))","v":""},{"$f":"TRIM(IF(ISERR(Sheet1!T29),\"\",Sheet1!T29))","v":""},{"$f":"TRIM(IF(ISERR(Sheet1!U29),\"\",Sheet1!U29))","v":""},{"$f":"TRIM(IF(ISERR(Sheet1!V29),\"\",Sheet1!V29))","v":""},{"$f":"TRIM(IF(ISERR(Sheet1!W29),\"\",Sheet1!W29))","v":""},{"$f":"TRIM(IF(ISERR(Sheet1!X29),\"\",Sheet1!X29))","v":""},{"$f":"TRIM(IF(ISERR(Sheet1!Y29),\"\",Sheet1!Y29))","v":""},{"$f":"TRIM(IF(ISERR(Sheet1!Z29),\"\",Sheet1!Z29))","v":""},{"$f":"TRIM(IF(ISERR(Sheet1!AA29),\"\",Sheet1!AA29))","v":""},{"$f":"TRIM(IF(ISERR(Sheet1!AB29),\"\",Sheet1!AB29))","v":""},{"$f":"TRIM(IF(ISERR(Sheet1!AC29),\"\",Sheet1!AC29))","v":""},{"$f":"TRIM(IF(ISERR(Sheet1!AD29),\"\",Sheet1!AD29))","v":""},{"$f":"TRIM(IF(ISERR(Sheet1!AE29),\"\",Sheet1!AE29))","v":""},{"$f":"TRIM(IF(ISERR(Sheet1!AF29),\"\",Sheet1!AF29))","v":""},{"$f":"TRIM(IF(ISERR(Sheet1!AG29),\"\",Sheet1!AG29))","v":""},{"$f":"TRIM(IF(ISERR(Sheet1!AH29),\"\",Sheet1!AH29))","v":""},{"$f":"TRIM(IF(ISERR(Sheet1!AI29),\"\",Sheet1!AI29))","v":""},{"$f":"TRIM(IF(ISERR(Sheet1!AJ29),\"\",Sheet1!AJ29))","v":""},{"$f":"TRIM(IF(ISERR(Sheet1!AK29),\"\",Sheet1!AK29))","v":""},{"$f":"TRIM(IF(ISERR(Sheet1!AL29),\"\",Sheet1!AL29))","v":""},{"$f":"TRIM(IF(ISERR(Sheet1!AM29),\"\",Sheet1!AM29))","v":""},{"$f":"TRIM(IF(ISERR(Sheet1!AN29),\"\",Sheet1!AN29))","v":""},{"$f":"TRIM(IF(ISERR(Sheet1!AO29),\"\",Sheet1!AO29))","v":""},{"$f":"TRIM(IF(ISERR(Sheet1!AP29),\"\",Sheet1!AP29))","v":""},{"$f":"TRIM(IF(ISERR(Sheet1!AQ29),\"\",Sheet1!AQ29))","v":""},{"$f":"TRIM(IF(ISERR(Sheet1!AR29),\"\",Sheet1!AR29))","v":""},{"$f":"TRIM(IF(ISERR(Sheet1!AS29),\"\",Sheet1!AS29))","v":""},{"$f":"TRIM(IF(ISERR(Sheet1!AT29),\"\",Sheet1!AT29))","v":""},{"$f":"TRIM(IF(ISERR(Sheet1!AU29),\"\",Sheet1!AU29))","v":""},{"$f":"TRIM(IF(ISERR(Sheet1!AV29),\"\",Sheet1!AV29))","v":""},{"$f":"TRIM(IF(ISERR(Sheet1!AW29),\"\",Sheet1!AW29))","v":""},{"$f":"TRIM(IF(ISERR(Sheet1!AX29),\"\",Sheet1!AX29))","v":""},{"$f":"TRIM(IF(ISERR(Sheet1!AY29),\"\",Sheet1!AY29))","v":""},{"$f":"TRIM(IF(ISERR(Sheet1!AZ29),\"\",Sheet1!AZ29))","v":""},{"$f":"TRIM(IF(ISERR(Sheet1!BA29),\"\",Sheet1!BA29))","v":""},{"$f":"TRIM(IF(ISERR(Sheet1!BB29),\"\",Sheet1!BB29))","v":""},{"$f":"TRIM(IF(ISERR(Sheet1!BC29),\"\",Sheet1!BC29))","v":""},{"$f":"TRIM(IF(ISERR(Sheet1!BD29),\"\",Sheet1!BD29))","v":""},{"$f":"TRIM(IF(ISERR(Sheet1!BE29),\"\",Sheet1!BE29))","v":""},{"$f":"TRIM(IF(ISERR(Sheet1!BF29),\"\",Sheet1!BF29))","v":""},{"$f":"TRIM(IF(ISERR(Sheet1!BG29),\"\",Sheet1!BG29))","v":""}]
[null,null,{"$f":"TRIM(IF(ISERR(Sheet1!C30),\"\",Sheet1!C30))","v":""},{"$f":"TRIM(IF(ISERR(Sheet1!D30),\"\",Sheet1!D30))","v":""},{"$f":"TRIM(IF(ISERR(Sheet1!E30),\"\",Sheet1!E30))","v":""},{"$f":"TRIM(IF(ISERR(Sheet1!F30),\"\",Sheet1!F30))","v":""},{"$f":"TRIM(IF(ISERR(Sheet1!G30),\"\",Sheet1!G30))","v":""},{"$f":"TRIM(IF(ISERR(Sheet1!H30),\"\",Sheet1!H30))","v":""},{"$f":"TRIM(IF(ISERR(Sheet1!I30),\"\",Sheet1!I30))","v":""},{"$f":"TRIM(IF(ISERR(Sheet1!J30),\"\",Sheet1!J30))","v":""},{"$f":"TRIM(IF(ISERR(Sheet1!K30),\"\",Sheet1!K30))","v":""},{"$f":"TRIM(IF(ISERR(Sheet1!L30),\"\",Sheet1!L30))","v":""},{"$f":"TRIM(IF(ISERR(Sheet1!M30),\"\",Sheet1!M30))","v":""},{"$f":"TRIM(IF(ISERR(Sheet1!N30),\"\",Sheet1!N30))","v":""},{"$f":"TRIM(IF(ISERR(Sheet1!O30),\"\",Sheet1!O30))","v":""},{"$f":"TRIM(IF(ISERR(Sheet1!P30),\"\",Sheet1!P30))","v":""},{"$f":"TRIM(IF(ISERR(Sheet1!Q30),\"\",Sheet1!Q30))","v":""},{"$f":"TRIM(IF(ISERR(Sheet1!R30),\"\",Sheet1!R30))","v":""},{"$f":"TRIM(IF(ISERR(Sheet1!S30),\"\",Sheet1!S30))","v":""},{"$f":"TRIM(IF(ISERR(Sheet1!T30),\"\",Sheet1!T30))","v":""},{"$f":"TRIM(IF(ISERR(Sheet1!U30),\"\",Sheet1!U30))","v":""},{"$f":"TRIM(IF(ISERR(Sheet1!V30),\"\",Sheet1!V30))","v":""},{"$f":"TRIM(IF(ISERR(Sheet1!W30),\"\",Sheet1!W30))","v":""},{"$f":"TRIM(IF(ISERR(Sheet1!X30),\"\",Sheet1!X30))","v":""},{"$f":"TRIM(IF(ISERR(Sheet1!Y30),\"\",Sheet1!Y30))","v":""},{"$f":"TRIM(IF(ISERR(Sheet1!Z30),\"\",Sheet1!Z30))","v":""},{"$f":"TRIM(IF(ISERR(Sheet1!AA30),\"\",Sheet1!AA30))","v":""},{"$f":"TRIM(IF(ISERR(Sheet1!AB30),\"\",Sheet1!AB30))","v":""},{"$f":"TRIM(IF(ISERR(Sheet1!AC30),\"\",Sheet1!AC30))","v":""},{"$f":"TRIM(IF(ISERR(Sheet1!AD30),\"\",Sheet1!AD30))","v":""},{"$f":"TRIM(IF(ISERR(Sheet1!AE30),\"\",Sheet1!AE30))","v":""},{"$f":"TRIM(IF(ISERR(Sheet1!AF30),\"\",Sheet1!AF30))","v":""},{"$f":"TRIM(IF(ISERR(Sheet1!AG30),\"\",Sheet1!AG30))","v":""},{"$f":"TRIM(IF(ISERR(Sheet1!AH30),\"\",Sheet1!AH30))","v":""},{"$f":"TRIM(IF(ISERR(Sheet1!AI30),\"\",Sheet1!AI30))","v":""},{"$f":"TRIM(IF(ISERR(Sheet1!AJ30),\"\",Sheet1!AJ30))","v":""},{"$f":"TRIM(IF(ISERR(Sheet1!AK30),\"\",Sheet1!AK30))","v":""},{"$f":"TRIM(IF(ISERR(Sheet1!AL30),\"\",Sheet1!AL30))","v":""},{"$f":"TRIM(IF(ISERR(Sheet1!AM30),\"\",Sheet1!AM30))","v":""},{"$f":"TRIM(IF(ISERR(Sheet1!AN30),\"\",Sheet1!AN30))","v":""},{"$f":"TRIM(IF(ISERR(Sheet1!AO30),\"\",Sheet1!AO30))","v":""},{"$f":"TRIM(IF(ISERR(Sheet1!AP30),\"\",Sheet1!AP30))","v":""},{"$f":"TRIM(IF(ISERR(Sheet1!AQ30),\"\",Sheet1!AQ30))","v":""},{"$f":"TRIM(IF(ISERR(Sheet1!AR30),\"\",Sheet1!AR30))","v":""},{"$f":"TRIM(IF(ISERR(Sheet1!AS30),\"\",Sheet1!AS30))","v":""},{"$f":"TRIM(IF(ISERR(Sheet1!AT30),\"\",Sheet1!AT30))","v":""},{"$f":"TRIM(IF(ISERR(Sheet1!AU30),\"\",Sheet1!AU30))","v":""},{"$f":"TRIM(IF(ISERR(Sheet1!AV30),\"\",Sheet1!AV30))","v":""},{"$f":"TRIM(IF(ISERR(Sheet1!AW30),\"\",Sheet1!AW30))","v":""},{"$f":"TRIM(IF(ISERR(Sheet1!AX30),\"\",Sheet1!AX30))","v":""},{"$f":"TRIM(IF(ISERR(Sheet1!AY30),\"\",Sheet1!AY30))","v":""},{"$f":"TRIM(IF(ISERR(Sheet1!AZ30),\"\",Sheet1!AZ30))","v":""},{"$f":"TRIM(IF(ISERR(Sheet1!BA30),\"\",Sheet1!BA30))","v":""},{"$f":"TRIM(IF(ISERR(Sheet1!BB30),\"\",Sheet1!BB30))","v":""},{"$f":"TRIM(IF(ISERR(Sheet1!BC30),\"\",Sheet1!BC30))","v":""},{"$f":"TRIM(IF(ISERR(Sheet1!BD30),\"\",Sheet1!BD30))","v":""},{"$f":"TRIM(IF(ISERR(Sheet1!BE30),\"\",Sheet1!BE30))","v":""},{"$f":"TRIM(IF(ISERR(Sheet1!BF30),\"\",Sheet1!BF30))","v":""},{"$f":"TRIM(IF(ISERR(Sheet1!BG30),\"\",Sheet1!BG30))","v":""}]
[]
[]
[]
[]
[1,null,1,1,{"$f":"E42","v":0},1,0,0,0,0,0,{"$f":"L42","v":0},0,0,0,0,0,0,0,0,0,0,0,0,0,0,0,0,0,0,0,0,0,0,0,0,0,0,0,0,0,0,0,0,0,0,0,0,0,0,0,0,0,0,0,0,0,0,0]
[]
[null,null,null,null,null,null,null,null,1,2,3,4,5,6,7,8,9,10,11,12,13,14,15,16,17,18,19,20,21,22,23,24,25,26,27,28,29,30,31,32,33,34,35,36,37,38,39,40,41,42,43,44,45,46,47,48,49,50,51,52,53,54,55,56,57,58,59,60,61,62,63,64,65,65]
[1,2,3,4,5,6,7,8,9,10,11,12,13,14,15,16,17,18,19,20,21,22,23,24,25,26,27,28,29,30,31,32,33,34,35,36,37,38,39,40,41,42,43,44,45,46,47,48,49,50,51,52,53,54,55,56,57,58,59,60,61,62,63,64,65,66,67,68,69,70,71,72,73,73]
["（注意）\n37～47行\nの全ての\n内容は\n変更しない\nでください"]
[null,null,null,null,null,null,null,null,{"$f":"IF(ISNA(VLOOKUP(I37,Editor!$BM$39:$BN$48,2,FALSE)),0,VLOOKUP(I37,Editor!$BM$39:$BN$48,2,FALSE))","v":1},{"$f":"IF(ISNA(VLOOKUP(J37,Editor!$BM$39:$BN$48,2,FALSE)),0,VLOOKUP(J37,Editor!$BM$39:$BN$48,2,FALSE))","v":0},{"$f":"IF(ISNA(VLOOKUP(K37,Editor!$BM$39:$BN$48,2,FALSE)),0,VLOOKUP(K37,Editor!$BM$39:$BN$48,2,FALSE))","v":0},{"$f":"IF(ISNA(VLOOKUP(L37,Editor!$BM$39:$BN$48,2,FALSE)),0,VLOOKUP(L37,Editor!$BM$39:$BN$48,2,FALSE))","v":0},{"$f":"IF(ISNA(VLOOKUP(M37,Editor!$BM$39:$BN$48,2,FALSE)),0,VLOOKUP(M37,Editor!$BM$39:$BN$48,2,FALSE))","v":0},{"$f":"IF(ISNA(VLOOKUP(N37,Editor!$BM$39:$BN$48,2,FALSE)),0,VLOOKUP(N37,Editor!$BM$39:$BN$48,2,FALSE))","v":0},{"$f":"IF(ISNA(VLOOKUP(O37,Editor!$BM$39:$BN$48,2,FALSE)),0,VLOOKUP(O37,Editor!$BM$39:$BN$48,2,FALSE))","v":0},{"$f":"IF(ISNA(VLOOKUP(P37,Editor!$BM$39:$BN$48,2,FALSE)),0,VLOOKUP(P37,Editor!$BM$39:$BN$48,2,FALSE))","v":0},{"$f":"IF(ISNA(VLOOKUP(Q37,Editor!$BM$39:$BN$48,2,FALSE)),0,VLOOKUP(Q37,Editor!$BM$39:$BN$48,2,FALSE))","v":0},{"$f":"IF(ISNA(VLOOKUP(R37,Editor!$BM$39:$BN$48,2,FALSE)),0,VLOOKUP(R37,Editor!$BM$39:$BN$48,2,FALSE))","v":0},{"$f":"IF(ISNA(VLOOKUP(S37,Editor!$BM$39:$BN$48,2,FALSE)),0,VLOOKUP(S37,Editor!$BM$39:$BN$48,2,FALSE))","v":0},{"$f":"IF(ISNA(VLOOKUP(T37,Editor!$BM$39:$BN$48,2,FALSE)),0,VLOOKUP(T37,Editor!$BM$39:$BN$48,2,FALSE))","v":0},{"$f":"IF(ISNA(VLOOKUP(U37,Editor!$BM$39:$BN$48,2,FALSE)),0,VLOOKUP(U37,Editor!$BM$39:$BN$48,2,FALSE))","v":0},{"$f":"IF(ISNA(VLOOKUP(V37,Editor!$BM$39:$BN$48,2,FALSE)),0,VLOOKUP(V37,Editor!$BM$39:$BN$48,2,FALSE))","v":0},{"$f":"IF(ISNA(VLOOKUP(W37,Editor!$BM$39:$BN$48,2,FALSE)),0,VLOOKUP(W37,Editor!$BM$39:$BN$48,2,FALSE))","v":0},{"$f":"IF(ISNA(VLOOKUP(X37,Editor!$BM$39:$BN$48,2,FALSE)),0,VLOOKUP(X37,Editor!$BM$39:$BN$48,2,FALSE))","v":0},{"$f":"IF(ISNA(VLOOKUP(Y37,Editor!$BM$39:$BN$48,2,FALSE)),0,VLOOKUP(Y37,Editor!$BM$39:$BN$48,2,FALSE))","v":0},{"$f":"IF(ISNA(VLOOKUP(Z37,Editor!$BM$39:$BN$48,2,FALSE)),0,VLOOKUP(Z37,Editor!$BM$39:$BN$48,2,FALSE))","v":0},{"$f":"IF(ISNA(VLOOKUP(AA37,Editor!$BM$39:$BN$48,2,FALSE)),0,VLOOKUP(AA37,Editor!$BM$39:$BN$48,2,FALSE))","v":0},{"$f":"IF(ISNA(VLOOKUP(AB37,Editor!$BM$39:$BN$48,2,FALSE)),0,VLOOKUP(AB37,Editor!$BM$39:$BN$48,2,FALSE))","v":0},{"$f":"IF(ISNA(VLOOKUP(AC37,Editor!$BM$39:$BN$48,2,FALSE)),0,VLOOKUP(AC37,Editor!$BM$39:$BN$48,2,FALSE))","v":0},{"$f":"IF(ISNA(VLOOKUP(AD37,Editor!$BM$39:$BN$48,2,FALSE)),0,VLOOKUP(AD37,Editor!$BM$39:$BN$48,2,FALSE))","v":0},{"$f":"IF(ISNA(VLOOKUP(AE37,Editor!$BM$39:$BN$48,2,FALSE)),0,VLOOKUP(AE37,Editor!$BM$39:$BN$48,2,FALSE))","v":0},{"$f":"IF(ISNA(VLOOKUP(AF37,Editor!$BM$39:$BN$48,2,FALSE)),0,VLOOKUP(AF37,Editor!$BM$39:$BN$48,2,FALSE))","v":0},{"$f":"IF(ISNA(VLOOKUP(AG37,Editor!$BM$39:$BN$48,2,FALSE)),0,VLOOKUP(AG37,Editor!$BM$39:$BN$48,2,FALSE))","v":0},{"$f":"IF(ISNA(VLOOKUP(AH37,Editor!$BM$39:$BN$48,2,FALSE)),0,VLOOKUP(AH37,Editor!$BM$39:$BN$48,2,FALSE))","v":0},{"$f":"IF(ISNA(VLOOKUP(AI37,Editor!$BM$39:$BN$48,2,FALSE)),0,VLOOKUP(AI37,Editor!$BM$39:$BN$48,2,FALSE))","v":0},{"$f":"IF(ISNA(VLOOKUP(AJ37,Editor!$BM$39:$BN$48,2,FALSE)),0,VLOOKUP(AJ37,Editor!$BM$39:$BN$48,2,FALSE))","v":0},{"$f":"IF(ISNA(VLOOKUP(AK37,Editor!$BM$39:$BN$48,2,FALSE)),0,VLOOKUP(AK37,Editor!$BM$39:$BN$48,2,FALSE))","v":0},{"$f":"IF(ISNA(VLOOKUP(AL37,Editor!$BM$39:$BN$48,2,FALSE)),0,VLOOKUP(AL37,Editor!$BM$39:$BN$48,2,FALSE))","v":0},{"$f":"IF(ISNA(VLOOKUP(AM37,Editor!$BM$39:$BN$48,2,FALSE)),0,VLOOKUP(AM37,Editor!$BM$39:$BN$48,2,FALSE))","v":0},{"$f":"IF(ISNA(VLOOKUP(AN37,Editor!$BM$39:$BN$48,2,FALSE)),0,VLOOKUP(AN37,Editor!$BM$39:$BN$48,2,FALSE))","v":0},{"$f":"IF(ISNA(VLOOKUP(AO37,Editor!$BM$39:$BN$48,2,FALSE)),0,VLOOKUP(AO37,Editor!$BM$39:$BN$48,2,FALSE))","v":0},{"$f":"IF(ISNA(VLOOKUP(AP37,Editor!$BM$39:$BN$48,2,FALSE)),0,VLOOKUP(AP37,Editor!$BM$39:$BN$48,2,FALSE))","v":0},{"$f":"IF(ISNA(VLOOKUP(AQ37,Editor!$BM$39:$BN$48,2,FALSE)),0,VLOOKUP(AQ37,Editor!$BM$39:$BN$48,2,FALSE))","v":0},{"$f":"IF(ISNA(VLOOKUP(AR37,Editor!$BM$39:$BN$48,2,FALSE)),0,VLOOKUP(AR37,Editor!$BM$39:$BN$48,2,FALSE))","v":0},{"$f":"IF(ISNA(VLOOKUP(AS37,Editor!$BM$39:$BN$48,2,FALSE)),0,VLOOKUP(AS37,Editor!$BM$39:$BN$48,2,FALSE))","v":0},{"$f":"IF(ISNA(VLOOKUP(AT37,Editor!$BM$39:$BN$48,2,FALSE)),0,VLOOKUP(AT37,Editor!$BM$39:$BN$48,2,FALSE))","v":0},{"$f":"IF(ISNA(VLOOKUP(AU37,Editor!$BM$39:$BN$48,2,FALSE)),0,VLOOKUP(AU37,Editor!$BM$39:$BN$48,2,FALSE))","v":0},{"$f":"IF(ISNA(VLOOKUP(AV37,Editor!$BM$39:$BN$48,2,FALSE)),0,VLOOKUP(AV37,Editor!$BM$39:$BN$48,2,FALSE))","v":0},{"$f":"IF(ISNA(VLOOKUP(AW37,Editor!$BM$39:$BN$48,2,FALSE)),0,VLOOKUP(AW37,Editor!$BM$39:$BN$48,2,FALSE))","v":0},{"$f":"IF(ISNA(VLOOKUP(AX37,Editor!$BM$39:$BN$48,2,FALSE)),0,VLOOKUP(AX37,Editor!$BM$39:$BN$48,2,FALSE))","v":0},{"$f":"IF(ISNA(VLOOKUP(AY37,Editor!$BM$39:$BN$48,2,FALSE)),0,VLOOKUP(AY37,Editor!$BM$39:$BN$48,2,FALSE))","v":0},{"$f":"IF(ISNA(VLOOKUP(AZ37,Editor!$BM$39:$BN$48,2,FALSE)),0,VLOOKUP(AZ37,Editor!$BM$39:$BN$48,2,FALSE))","v":0},{"$f":"IF(ISNA(VLOOKUP(BA37,Editor!$BM$39:$BN$48,2,FALSE)),0,VLOOKUP(BA37,Editor!$BM$39:$BN$48,2,FALSE))","v":0},{"$f":"IF(ISNA(VLOOKUP(BB37,Editor!$BM$39:$BN$48,2,FALSE)),0,VLOOKUP(BB37,Editor!$BM$39:$BN$48,2,FALSE))","v":0},{"$f":"IF(ISNA(VLOOKUP(BC37,Editor!$BM$39:$BN$48,2,FALSE)),0,VLOOKUP(BC37,Editor!$BM$39:$BN$48,2,FALSE))","v":0},{"$f":"IF(ISNA(VLOOKUP(BD37,Editor!$BM$39:$BN$48,2,FALSE)),0,VLOOKUP(BD37,Editor!$BM$39:$BN$48,2,FALSE))","v":0},{"$f":"IF(ISNA(VLOOKUP(BE37,Editor!$BM$39:$BN$48,2,FALSE)),0,VLOOKUP(BE37,Editor!$BM$39:$BN$48,2,FALSE))","v":0},{"$f":"IF(ISNA(VLOOKUP(BF37,Editor!$BM$39:$BN$48,2,FALSE)),0,VLOOKUP(BF37,Editor!$BM$39:$BN$48,2,FALSE))","v":0},{"$f":"IF(ISNA(VLOOKUP(BG37,Editor!$BM$39:$BN$48,2,FALSE)),0,VLOOKUP(BG37,Editor!$BM$39:$BN$48,2,FALSE))","v":0},{"$f":"IF(ISNA(VLOOKUP(BH37,Editor!$BM$39:$BN$48,2,FALSE)),0,VLOOKUP(BH37,Editor!$BM$39:$BN$48,2,FALSE))","v":0},{"$f":"IF(ISNA(VLOOKUP(BI37,Editor!$BM$39:$BN$48,2,FALSE)),0,VLOOKUP(BI37,Editor!$BM$39:$BN$48,2,FALSE))","v":0},{"$f":"IF(ISNA(VLOOKUP(BJ37,Editor!$BM$39:$BN$48,2,FALSE)),0,VLOOKUP(BJ37,Editor!$BM$39:$BN$48,2,FALSE))","v":0},{"$f":"IF(ISNA(VLOOKUP(BK37,Editor!$BM$39:$BN$48,2,FALSE)),0,VLOOKUP(BK37,Editor!$BM$39:$BN$48,2,FALSE))","v":0},{"$f":"IF(ISNA(VLOOKUP(BL37,Editor!$BM$39:$BN$48,2,FALSE)),0,VLOOKUP(BL37,Editor!$BM$39:$BN$48,2,FALSE))","v":0},{"$f":"IF(ISNA(VLOOKUP(BM37,Editor!$BM$39:$BN$48,2,FALSE)),0,VLOOKUP(BM37,Editor!$BM$39:$BN$48,2,FALSE))","v":0},{"$f":"IF(ISNA(VLOOKUP(BN37,Editor!$BM$39:$BN$48,2,FALSE)),0,VLOOKUP(BN37,Editor!$BM$39:$BN$48,2,FALSE))","v":0},{"$f":"IF(ISNA(VLOOKUP(BO37,Editor!$BM$39:$BN$48,2,FALSE)),0,VLOOKUP(BO37,Editor!$BM$39:$BN$48,2,FALSE))","v":0},{"$f":"IF(ISNA(VLOOKUP(BP37,Editor!$BM$39:$BN$48,2,FALSE)),0,VLOOKUP(BP37,Editor!$BM$39:$BN$48,2,FALSE))","v":0},{"$f":"IF(ISNA(VLOOKUP(BQ37,Editor!$BM$39:$BN$48,2,FALSE)),0,VLOOKUP(BQ37,Editor!$BM$39:$BN$48,2,FALSE))","v":0},{"$f":"IF(ISNA(VLOOKUP(BR37,Editor!$BM$39:$BN$48,2,FALSE)),0,VLOOKUP(BR37,Editor!$BM$39:$BN$48,2,FALSE))","v":0},{"$f":"IF(ISNA(VLOOKUP(BS37,Editor!$BM$39:$BN$48,2,FALSE)),0,VLOOKUP(BS37,Editor!$BM$39:$BN$48,2,FALSE))","v":0},{"$f":"IF(ISNA(VLOOKUP(BT37,Editor!$BM$39:$BN$48,2,FALSE)),0,VLOOKUP(BT37,Editor!$BM$39:$BN$48,2,FALSE))","v":0},{"$f":"IF(ISNA(VLOOKUP(BU37,Editor!$BM$39:$BN$48,2,FALSE)),0,VLOOKUP(BU37,Editor!$BM$39:$BN$48,2,FALSE))","v":0},{"$f":"IF(ISNA(VLOOKUP(BV37,Editor!$BM$39:$BN$48,2,FALSE)),0,VLOOKUP(BV37,Editor!$BM$39:$BN$48,2,FALSE))","v":0}]
[null,null,null,null,null,null,null,null,{"$f":"IF(ISNA(VLOOKUP(I37,Editor!$BO$39:$BP$48,2,FALSE)),0,VLOOKUP(I37,Editor!$BO$39:$BP$48,2,FALSE))","v":0},{"$f":"IF(ISNA(VLOOKUP(J37,Editor!$BO$39:$BP$48,2,FALSE)),0,VLOOKUP(J37,Editor!$BO$39:$BP$48,2,FALSE))","v":0},{"$f":"IF(ISNA(VLOOKUP(K37,Editor!$BO$39:$BP$48,2,FALSE)),0,VLOOKUP(K37,Editor!$BO$39:$BP$48,2,FALSE))","v":0},{"$f":"IF(ISNA(VLOOKUP(L37,Editor!$BO$39:$BP$48,2,FALSE)),0,VLOOKUP(L37,Editor!$BO$39:$BP$48,2,FALSE))","v":0},{"$f":"IF(ISNA(VLOOKUP(M37,Editor!$BO$39:$BP$48,2,FALSE)),0,VLOOKUP(M37,Editor!$BO$39:$BP$48,2,FALSE))","v":0},{"$f":"IF(ISNA(VLOOKUP(N37,Editor!$BO$39:$BP$48,2,FALSE)),0,VLOOKUP(N37,Editor!$BO$39:$BP$48,2,FALSE))","v":0},{"$f":"IF(ISNA(VLOOKUP(O37,Editor!$BO$39:$BP$48,2,FALSE)),0,VLOOKUP(O37,Editor!$BO$39:$BP$48,2,FALSE))","v":0},{"$f":"IF(ISNA(VLOOKUP(P37,Editor!$BO$39:$BP$48,2,FALSE)),0,VLOOKUP(P37,Editor!$BO$39:$BP$48,2,FALSE))","v":0},{"$f":"IF(ISNA(VLOOKUP(Q37,Editor!$BO$39:$BP$48,2,FALSE)),0,VLOOKUP(Q37,Editor!$BO$39:$BP$48,2,FALSE))","v":0},{"$f":"IF(ISNA(VLOOKUP(R37,Editor!$BO$39:$BP$48,2,FALSE)),0,VLOOKUP(R37,Editor!$BO$39:$BP$48,2,FALSE))","v":0},{"$f":"IF(ISNA(VLOOKUP(S37,Editor!$BO$39:$BP$48,2,FALSE)),0,VLOOKUP(S37,Editor!$BO$39:$BP$48,2,FALSE))","v":0},{"$f":"IF(ISNA(VLOOKUP(T37,Editor!$BO$39:$BP$48,2,FALSE)),0,VLOOKUP(T37,Editor!$BO$39:$BP$48,2,FALSE))","v":0},{"$f":"IF(ISNA(VLOOKUP(U37,Editor!$BO$39:$BP$48,2,FALSE)),0,VLOOKUP(U37,Editor!$BO$39:$BP$48,2,FALSE))","v":0},{"$f":"IF(ISNA(VLOOKUP(V37,Editor!$BO$39:$BP$48,2,FALSE)),0,VLOOKUP(V37,Editor!$BO$39:$BP$48,2,FALSE))","v":0},{"$f":"IF(ISNA(VLOOKUP(W37,Editor!$BO$39:$BP$48,2,FALSE)),0,VLOOKUP(W37,Editor!$BO$39:$BP$48,2,FALSE))","v":0},{"$f":"IF(ISNA(VLOOKUP(X37,Editor!$BO$39:$BP$48,2,FALSE)),0,VLOOKUP(X37,Editor!$BO$39:$BP$48,2,FALSE))","v":0},{"$f":"IF(ISNA(VLOOKUP(Y37,Editor!$BO$39:$BP$48,2,FALSE)),0,VLOOKUP(Y37,Editor!$BO$39:$BP$48,2,FALSE))","v":0},{"$f":"IF(ISNA(VLOOKUP(Z37,Editor!$BO$39:$BP$48,2,FALSE)),0,VLOOKUP(Z37,Editor!$BO$39:$BP$48,2,FALSE))","v":0},{"$f":"IF(ISNA(VLOOKUP(AA37,Editor!$BO$39:$BP$48,2,FALSE)),0,VLOOKUP(AA37,Editor!$BO$39:$BP$48,2,FALSE))","v":0},{"$f":"IF(ISNA(VLOOKUP(AB37,Editor!$BO$39:$BP$48,2,FALSE)),0,VLOOKUP(AB37,Editor!$BO$39:$BP$48,2,FALSE))","v":0},{"$f":"IF(ISNA(VLOOKUP(AC37,Editor!$BO$39:$BP$48,2,FALSE)),0,VLOOKUP(AC37,Editor!$BO$39:$BP$48,2,FALSE))","v":0},{"$f":"IF(ISNA(VLOOKUP(AD37,Editor!$BO$39:$BP$48,2,FALSE)),0,VLOOKUP(AD37,Editor!$BO$39:$BP$48,2,FALSE))","v":0},{"$f":"IF(ISNA(VLOOKUP(AE37,Editor!$BO$39:$BP$48,2,FALSE)),0,VLOOKUP(AE37,Editor!$BO$39:$BP$48,2,FALSE))","v":0},{"$f":"IF(ISNA(VLOOKUP(AF37,Editor!$BO$39:$BP$48,2,FALSE)),0,VLOOKUP(AF37,Editor!$BO$39:$BP$48,2,FALSE))","v":0},{"$f":"IF(ISNA(VLOOKUP(AG37,Editor!$BO$39:$BP$48,2,FALSE)),0,VLOOKUP(AG37,Editor!$BO$39:$BP$48,2,FALSE))","v":0},{"$f":"IF(ISNA(VLOOKUP(AH37,Editor!$BO$39:$BP$48,2,FALSE)),0,VLOOKUP(AH37,Editor!$BO$39:$BP$48,2,FALSE))","v":0},{"$f":"IF(ISNA(VLOOKUP(AI37,Editor!$BO$39:$BP$48,2,FALSE)),0,VLOOKUP(AI37,Editor!$BO$39:$BP$48,2,FALSE))","v":0},{"$f":"IF(ISNA(VLOOKUP(AJ37,Editor!$BO$39:$BP$48,2,FALSE)),0,VLOOKUP(AJ37,Editor!$BO$39:$BP$48,2,FALSE))","v":0},{"$f":"IF(ISNA(VLOOKUP(AK37,Editor!$BO$39:$BP$48,2,FALSE)),0,VLOOKUP(AK37,Editor!$BO$39:$BP$48,2,FALSE))","v":0},{"$f":"IF(ISNA(VLOOKUP(AL37,Editor!$BO$39:$BP$48,2,FALSE)),0,VLOOKUP(AL37,Editor!$BO$39:$BP$48,2,FALSE))","v":0},{"$f":"IF(ISNA(VLOOKUP(AM37,Editor!$BO$39:$BP$48,2,FALSE)),0,VLOOKUP(AM37,Editor!$BO$39:$BP$48,2,FALSE))","v":0},{"$f":"IF(ISNA(VLOOKUP(AN37,Editor!$BO$39:$BP$48,2,FALSE)),0,VLOOKUP(AN37,Editor!$BO$39:$BP$48,2,FALSE))","v":0},{"$f":"IF(ISNA(VLOOKUP(AO37,Editor!$BO$39:$BP$48,2,FALSE)),0,VLOOKUP(AO37,Editor!$BO$39:$BP$48,2,FALSE))","v":0},{"$f":"IF(ISNA(VLOOKUP(AP37,Editor!$BO$39:$BP$48,2,FALSE)),0,VLOOKUP(AP37,Editor!$BO$39:$BP$48,2,FALSE))","v":0},{"$f":"IF(ISNA(VLOOKUP(AQ37,Editor!$BO$39:$BP$48,2,FALSE)),0,VLOOKUP(AQ37,Editor!$BO$39:$BP$48,2,FALSE))","v":0},{"$f":"IF(ISNA(VLOOKUP(AR37,Editor!$BO$39:$BP$48,2,FALSE)),0,VLOOKUP(AR37,Editor!$BO$39:$BP$48,2,FALSE))","v":0},{"$f":"IF(ISNA(VLOOKUP(AS37,Editor!$BO$39:$BP$48,2,FALSE)),0,VLOOKUP(AS37,Editor!$BO$39:$BP$48,2,FALSE))","v":0},{"$f":"IF(ISNA(VLOOKUP(AT37,Editor!$BO$39:$BP$48,2,FALSE)),0,VLOOKUP(AT37,Editor!$BO$39:$BP$48,2,FALSE))","v":0},{"$f":"IF(ISNA(VLOOKUP(AU37,Editor!$BO$39:$BP$48,2,FALSE)),0,VLOOKUP(AU37,Editor!$BO$39:$BP$48,2,FALSE))","v":0},{"$f":"IF(ISNA(VLOOKUP(AV37,Editor!$BO$39:$BP$48,2,FALSE)),0,VLOOKUP(AV37,Editor!$BO$39:$BP$48,2,FALSE))","v":0},{"$f":"IF(ISNA(VLOOKUP(AW37,Editor!$BO$39:$BP$48,2,FALSE)),0,VLOOKUP(AW37,Editor!$BO$39:$BP$48,2,FALSE))","v":0},{"$f":"IF(ISNA(VLOOKUP(AX37,Editor!$BO$39:$BP$48,2,FALSE)),0,VLOOKUP(AX37,Editor!$BO$39:$BP$48,2,FALSE))","v":0},{"$f":"IF(ISNA(VLOOKUP(AY37,Editor!$BO$39:$BP$48,2,FALSE)),0,VLOOKUP(AY37,Editor!$BO$39:$BP$48,2,FALSE))","v":0},{"$f":"IF(ISNA(VLOOKUP(AZ37,Editor!$BO$39:$BP$48,2,FALSE)),0,VLOOKUP(AZ37,Editor!$BO$39:$BP$48,2,FALSE))","v":0},{"$f":"IF(ISNA(VLOOKUP(BA37,Editor!$BO$39:$BP$48,2,FALSE)),0,VLOOKUP(BA37,Editor!$BO$39:$BP$48,2,FALSE))","v":0},{"$f":"IF(ISNA(VLOOKUP(BB37,Editor!$BO$39:$BP$48,2,FALSE)),0,VLOOKUP(BB37,Editor!$BO$39:$BP$48,2,FALSE))","v":0},{"$f":"IF(ISNA(VLOOKUP(BC37,Editor!$BO$39:$BP$48,2,FALSE)),0,VLOOKUP(BC37,Editor!$BO$39:$BP$48,2,FALSE))","v":0},{"$f":"IF(ISNA(VLOOKUP(BD37,Editor!$BO$39:$BP$48,2,FALSE)),0,VLOOKUP(BD37,Editor!$BO$39:$BP$48,2,FALSE))","v":0},{"$f":"IF(ISNA(VLOOKUP(BE37,Editor!$BO$39:$BP$48,2,FALSE)),0,VLOOKUP(BE37,Editor!$BO$39:$BP$48,2,FALSE))","v":0},{"$f":"IF(ISNA(VLOOKUP(BF37,Editor!$BO$39:$BP$48,2,FALSE)),0,VLOOKUP(BF37,Editor!$BO$39:$BP$48,2,FALSE))","v":0},{"$f":"IF(ISNA(VLOOKUP(BG37,Editor!$BO$39:$BP$48,2,FALSE)),0,VLOOKUP(BG37,Editor!$BO$39:$BP$48,2,FALSE))","v":0},{"$f":"IF(ISNA(VLOOKUP(BH37,Editor!$BO$39:$BP$48,2,FALSE)),0,VLOOKUP(BH37,Editor!$BO$39:$BP$48,2,FALSE))","v":0},{"$f":"IF(ISNA(VLOOKUP(BI37,Editor!$BO$39:$BP$48,2,FALSE)),0,VLOOKUP(BI37,Editor!$BO$39:$BP$48,2,FALSE))","v":0},{"$f":"IF(ISNA(VLOOKUP(BJ37,Editor!$BO$39:$BP$48,2,FALSE)),0,VLOOKUP(BJ37,Editor!$BO$39:$BP$48,2,FALSE))","v":0},{"$f":"IF(ISNA(VLOOKUP(BK37,Editor!$BO$39:$BP$48,2,FALSE)),0,VLOOKUP(BK37,Editor!$BO$39:$BP$48,2,FALSE))","v":0},{"$f":"IF(ISNA(VLOOKUP(BL37,Editor!$BO$39:$BP$48,2,FALSE)),0,VLOOKUP(BL37,Editor!$BO$39:$BP$48,2,FALSE))","v":0},{"$f":"IF(ISNA(VLOOKUP(BM37,Editor!$BO$39:$BP$48,2,FALSE)),0,VLOOKUP(BM37,Editor!$BO$39:$BP$48,2,FALSE))","v":0},{"$f":"IF(ISNA(VLOOKUP(BN37,Editor!$BO$39:$BP$48,2,FALSE)),0,VLOOKUP(BN37,Editor!$BO$39:$BP$48,2,FALSE))","v":0},{"$f":"IF(ISNA(VLOOKUP(BO37,Editor!$BO$39:$BP$48,2,FALSE)),0,VLOOKUP(BO37,Editor!$BO$39:$BP$48,2,FALSE))","v":0},{"$f":"IF(ISNA(VLOOKUP(BP37,Editor!$BO$39:$BP$48,2,FALSE)),0,VLOOKUP(BP37,Editor!$BO$39:$BP$48,2,FALSE))","v":0},{"$f":"IF(ISNA(VLOOKUP(BQ37,Editor!$BO$39:$BP$48,2,FALSE)),0,VLOOKUP(BQ37,Editor!$BO$39:$BP$48,2,FALSE))","v":0},{"$f":"IF(ISNA(VLOOKUP(BR37,Editor!$BO$39:$BP$48,2,FALSE)),0,VLOOKUP(BR37,Editor!$BO$39:$BP$48,2,FALSE))","v":0},{"$f":"IF(ISNA(VLOOKUP(BS37,Editor!$BO$39:$BP$48,2,FALSE)),0,VLOOKUP(BS37,Editor!$BO$39:$BP$48,2,FALSE))","v":0},{"$f":"IF(ISNA(VLOOKUP(BT37,Editor!$BO$39:$BP$48,2,FALSE)),0,VLOOKUP(BT37,Editor!$BO$39:$BP$48,2,FALSE))","v":0},{"$f":"IF(ISNA(VLOOKUP(BU37,Editor!$BO$39:$BP$48,2,FALSE)),0,VLOOKUP(BU37,Editor!$BO$39:$BP$48,2,FALSE))","v":0},{"$f":"IF(ISNA(VLOOKUP(BV37,Editor!$BO$39:$BP$48,2,FALSE)),0,VLOOKUP(BV37,Editor!$BO$39:$BP$48,2,FALSE))","v":0}]
[null,null,null,null,null,{"$f":"IF(E38=Editor!$AJ$4,1,0)","v":1},null,null,{"$f":"IF(I47=32,0,I41+I40)","v":0},{"$f":"IF(J47=32,0,J41+J40)","v":0},{"$f":"IF(K47=32,0,K41+K40)","v":0},0,0,0,0,0,0,0,0,0,0,0,0,0,0,0,0,0,0,0,0,0,0,0,0,0,0,0,0,0,0,0,0,0,0,0,0,0,0,0,0,0,0,0,0,0,0,0,0,0,0,0,0,0,0,0,0,0,0,0,0,0,0,{"$f":"IF(BV47=32,0,BV41+BV40)","v":0}]
[null,null,null,null,null,{"$f":"IF(E39=Editor!$AJ$4,1,0)","v":0},null,null,1,{"$f":"IF(J42=1,1,I43+1)","v":2},{"$f":"IF(K42=1,1,J43+1)","v":3},4,5,6,7,8,9,10,11,12,13,14,15,16,17,18,19,20,21,22,23,24,25,26,27,28,29,30,31,32,33,34,35,36,37,38,39,40,41,42,43,44,45,46,47,48,49,50,51,52,53,54,55,56,57,58,59,60,61,62,63,64,65,66]
[null,null,null,null,null,null,null,null,{"$f":"COUNTIF(I2:I33,\"\")","v":32},{"$f":"COUNTIF(J2:J33,\"\")","v":32},32,32,32,32,32,32,32,32,32,32,32,32,32,32,32,32,32,32,32,32,32,32,32,32,32,32,32,32,32,32,32,32,32,32,32,32,32,32,32,32,32,32,32,32,32,32,32,32,32,32,32,32,32,32,32,32,32,32,32,32,32,32,32,{"$f":"COUNTIF(BV2:BV33,\"\")","v":32}]
[null,null,null,null,null,null,null,null,{"$f":"COUNTIF(I2:I33,\".\")","v":0},{"$f":"COUNTIF(J2:J33,\".\")","v":0},0,0,0,0,0,0,0,0,0,0,0,0,0,0,0,0,0,0,0,0,0,0,0,0,0,0,0,0,0,0,0,0,0,0,0,0,0,0,0,0,0,0,0,0,0,0,0,0,0,0,0,0,0,0,0,0,0,0,0,0,0,0,0,{"$f":"COUNTIF(BV2:BV33,\".\")","v":0},{"$f":"COUNTIF(BW2:BW33,\".\")","v":0}]
[null,null,null,null,null,null,null,null,{"$f":"COUNTIF(I2:I33,\"_\")","v":0},{"$f":"COUNTIF(J2:J33,\"_\")","v":0},0,0,0,0,0,0,0,0,0,0,0,0,0,0,0,0,0,0,0,0,0,0,0,0,0,0,0,0,0,0,0,0,0,0,0,0,0,0,0,0,0,0,0,0,0,0,0,0,0,0,0,0,0,0,0,0,0,0,0,0,0,0,0,{"$f":"COUNTIF(BV2:BV33,\"_\")","v":0}]
[null,null,null,null,null,null,null,null,{"$f":"I45+I44+I46","v":32},{"$f":"J45+J44+J46","v":32},32,32,32,32,32,32,32,32,32,32,32,32,32,32,32,32,32,32,32,32,32,32,32,32,32,32,32,32,32,32,32,32,32,32,32,32,32,32,32,32,32,32,32,32,32,32,32,32,32,32,32,32,32,32,32,32,32,32,32,32,32,32,32,{"$f":"BV45+BV44+BV46","v":32}]
[null,null,null,null,null,null,null,null,null,null,null,null,null,null,null,null,null,null,null,null,null,null,null,null,null,null,null,null,"Copyright (C) 2010 ＰＣソリューション・ヨシダ All Rights Reserved.",null,null,null,null,null,null,null,null,null,null,null,null,null,null,null,null,null,null,null,null,null,null,null,null,null,null,null,null,null,null,null,null,null,null,null,null,null,null,null,null,null,null,null,null,null,null,null,"http://e-ict.info/vupmarkun.htm"]
[]
[]
[]
[]
[]
[]
[]
[]
[]
[]
[]
[]
[]
[]
[]
[]
[]
[]
[{"$f":"TRIM(IF(ISERR(Sheet1!A67),\"\",Sheet1!A67))","v":""}]
[{"$f":"TRIM(IF(ISERR(Sheet1!A68),\"\",Sheet1!A68))","v":""}]

{"sheet":"Editor","index":3,"n_rows":48,"n_cols":245,"rows_kept":48,"cut":false,"hidden":false,"merged":[[4,66,4,67],[3,236,3,252],[5,244,6,246],[20,226,20,240],[4,55,4,56],[3,225,3,234],[15,225,15,234],[4,87,4,88],[4,225,4,234],[4,90,4,91],[4,72,4,73],[4,69,4,70],[4,84,4,85],[4,78,4,79],[4,81,4,82],[4,75,4,76],[39,33,39,35],[4,46,4,47],[4,49,4,50],[4,52,4,53],[4,40,4,41],[4,43,4,44],[38,33,38,35],[37,33,37,35],[4,34,4,35],[4,37,4,38],[2,31,2,59],[3,31,3,34],[4,63,4,64],[4,31,4,32],[4,58,4,59],[3,41,3,50]]}
[]
[]
[null,"※Microsoft excel 2000以降に対応",null,null,null,null,null,null,null,null,null,null,null,null,null,null,null,null,null,null,null,null,null,null,null,null,null,null,null,null,null,"下表のピンクのセルに左表のマークパターンコード（a～9）を書き込み、下のボタンをクリックすればマークシートが作成されます。",null,null,null,null,null,null,null,null,null,null,null,null,null,null,null,null,null,null,null,null,null,null,null,null,null,null,null,null,null,null,null,"長さ",null,null,null,null,null,null,null,null,null,null,null,null,null,null,"長さ"]
[null,null,null,null,null,null,null,null,null,null,null,null,null,null,null,null,null,null,null,null,null,null,null,null,null,null,null,null,null,null,null,"ＩＤの桁数＝",null,null,null,5,null,"←４～15",null,null,null,"MarkunV4.03以前ではID(年組番等記述欄)の桁数5で利用できます。",null,null,null,null,null,null,null,null,null,null,null,null,null,null,null,null,null,null,null,null,null,null,null,null,null,null,null,null,null,null,null,null,null,null,null,null,null,null,null,null,null,null,null,null,null,null,null,null,null,null,null,null,null,null,null,null,null,null,null,null,null,null,null,null,null,null,null,null,null,null,null,null,null,null,null,null,null,null,null,null,null,null,null,null,null,null,null,null,null,null,null,null,null,null,null,null,null,null,null,null,null,null,null,null,null,null,null,null,null,null,null,null,null,null,null,null,null,null,null,null,null,null,null,null,null,null,null,null,null,null,null,null,null,null,null,null,null,null,null,null,null,null,null,null,null,null,null,null,null,null,null,null,null,null,null,null,null,null,null,null,null,null,null,null,null,null,null,null,null,null,null,null,null,null,null,null,null,null,null,null,null,null,null,"文字と罫線色設定",null,null,null,null,null,null,null,null,null,null,"マーク形状など"]
[null,null," "," "," "," "," "," "," "," "," "," "," "," "," "," "," "," "," "," "," "," "," ",null,null,null,null,null,null,null,null,"Ⅰ",null,null,"Ⅱ",null,null,"Ⅲ",null,null,"Ⅳ",null,null,"Ⅴ",null,null,"Ⅵ",null,null,"Ⅶ",null,null,"Ⅷ",null,null,"Ⅸ",null,null,"Ⅹ",null,null,null,null,"Ⅰ",null,null,"Ⅱ",null,null,"Ⅲ",null,null,"Ⅳ",null,null,"Ⅴ",null,null,"Ⅵ",null,null,"Ⅶ",null,null,"Ⅷ",null,null,"Ⅸ",null,null,"Ⅹ",null,null,"Ⅰ","Ⅱ","Ⅲ","Ⅳ","Ⅴ","Ⅵ","Ⅶ","Ⅷ","Ⅸ","Ⅹ","Ⅰ＆Ⅱ＆Ⅲ＆Ⅳ＆Ⅴ",1,2,3,4,5,6,7,8,9,10,11,12,13,14,15,16,17,18,19,20,21,22,23,24,25,26,27,28,29,30,31,32,33,34,35,36,37,38,39,40,41,42,43,44,45,46,47,48,49,50,51,52,53,54,55,56,57,58,59,60,61,62,63,64,65,66,67,68,69,70,71,72,73,74,75,76,77,78,79,80,81,82,83,84,85,86,87,88,89,90,91,92,93,94,95,96,97,98,99,100,101,102,103,104,105,106,107,108,109,110,111,null,null,null,null,null,null,null,null,null,null,"(文字色サンプル)",null,null,null,null,null,null,null,null,null,null,{"$f":"TRIM(IF(ISERR(Sheet1!IC5),\"\",Sheet1!IC5))","v":""}]
[null,"a","-","±",0,1,2,3,4,5,6,7,8,9,"a","b","c","d","e","f","g","_","_",{"$f":"21-COUNTIF(C6:W6,\"_\")","v":19},1,null,null,null,null,null,null,1,null,{"$f":"IF(ISNA(VLOOKUP(AG6,$B$6:$Y$40,21,FALSE)),0,VLOOKUP(AG6,$B$6:$Y$40,24,FALSE))","v":0},31,null,{"$f":"IF(ISNA(VLOOKUP(AJ6,$B$6:$Y$40,21,FALSE)),0,VLOOKUP(AJ6,$B$6:$Y$40,24,FALSE))","v":0},61,null,{"$f":"IF(ISNA(VLOOKUP(AM6,$B$6:$Y$40,21,FALSE)),0,VLOOKUP(AM6,$B$6:$Y$40,24,FALSE))","v":0},91,null,{"$f":"IF(ISNA(VLOOKUP(AP6,$B$6:$Y$40,21,FALSE)),0,VLOOKUP(AP6,$B$6:$Y$40,24,FALSE))","v":0},121,null,{"$f":"IF(ISNA(VLOOKUP(AS6,$B$6:$Y$40,21,FALSE)),0,VLOOKUP(AS6,$B$6:$Y$40,24,FALSE))","v":0},151,null,{"$f":"IF(ISNA(VLOOKUP(AV6,$B$6:$Y$40,21,FALSE)),0,VLOOKUP(AV6,$B$6:$Y$40,24,FALSE))","v":0},181,null,{"$f":"IF(ISNA(VLOOKUP(AY6,$B$6:$Y$40,21,FALSE)),0,VLOOKUP(AY6,$B$6:$Y$40,24,FALSE))","v":0},211,null,{"$f":"IF(ISNA(VLOOKUP(BB6,$B$6:$Y$40,21,FALSE)),0,VLOOKUP(BB6,$B$6:$Y$40,24,FALSE))","v":0},241,null,{"$f":"IF(ISNA(VLOOKUP(BE6,$B$6:$Y$40,21,FALSE)),0,VLOOKUP(BE6,$B$6:$Y$40,24,FALSE))","v":0},271,null,{"$f":"IF(ISNA(VLOOKUP(BH6,$B$6:$Y$40,21,FALSE)),0,VLOOKUP(BH6,$B$6:$Y$40,24,FALSE))","v":0},null,null,1,{"$f":"IF(ISNA(VLOOKUP(AG6,$B$6:$X$40,21,FALSE)),0,VLOOKUP(AG6,$B$6:$X$40,23,FALSE))","v":0},{"$f":"RIGHT(\"00\"&$AH6,2)","v":"00"},31,{"$f":"IF(ISNA(VLOOKUP(AJ6,$B$6:$X$40,21,FALSE)),0,VLOOKUP(AJ6,$B$6:$X$40,23,FALSE))","v":0},{"$f":"RIGHT(\"00\"&AK6,2)","v":"00"},61,{"$f":"IF(ISNA(VLOOKUP(AM6,$B$6:$X$40,21,FALSE)),0,VLOOKUP(AM6,$B$6:$X$40,23,FALSE))","v":0},{"$f":"RIGHT(\"00\"&AN6,2)","v":"00"},91,{"$f":"IF(ISNA(VLOOKUP(AP6,$B$6:$X$40,21,FALSE)),0,VLOOKUP(AP6,$B$6:$X$40,23,FALSE))","v":0},{"$f":"RIGHT(\"00\"&AQ6,2)","v":"00"},121,{"$f":"IF(ISNA(VLOOKUP(AS6,$B$6:$X$40,21,FALSE)),0,VLOOKUP(AS6,$B$6:$X$40,23,FALSE))","v":0},{"$f":"RIGHT(\"00\"&AT6,2)","v":"00"},1,{"$f":"IF(ISNA(VLOOKUP(AV6,$B$6:$X$40,21,FALSE)),0,VLOOKUP(AV6,$B$6:$X$40,23,FALSE))","v":0},{"$f":"RIGHT(\"00\"&AW6,2)","v":"00"},31,{"$f":"IF(ISNA(VLOOKUP(AY6,$B$6:$X$40,21,FALSE)),0,VLOOKUP(AY6,$B$6:$X$40,23,FALSE))","v":0},{"$f":"RIGHT(\"00\"&AZ6,2)","v":"00"},61,{"$f":"IF(ISNA(VLOOKUP(BB6,$B$6:$X$40,21,FALSE)),0,VLOOKUP(BB6,$B$6:$X$40,23,FALSE))","v":0},{"$f":"RIGHT(\"00\"&BC6,2)","v":"00"},91,{"$f":"IF(ISNA(VLOOKUP(BE6,$B$6:$X$40,21,FALSE)),0,VLOOKUP(BE6,$B$6:$X$40,23,FALSE))","v":0},{"$f":"RIGHT(\"00\"&BF6,2)","v":"00"},121,{"$f":"IF(ISNA(VLOOKUP(BH6,$B$6:$X$40,21,FALSE)),0,VLOOKUP(BH6,$B$6:$X$40,23,FALSE))","v":0},{"$f":"RIGHT(\"00\"&BI6,2)","v":"00"},{"$f":"REPT(BN6,BM$36)","v":""},{"$f":"REPT(BQ6,BP$36)","v":""},{"$f":"REPT(BT6,BS$36)","v":""},{"$f":"REPT(BW6,BV$36)","v":""},{"$f":"REPT(BZ6,BY$36)","v":""},{"$f":"REPT(CC6,CB$36)","v":""},{"$f":"REPT(CF6,CE$36)","v":""},{"$f":"REPT(CI6,CH$36)","v":""},{"$f":"REPT(CL6,CK$36)","v":""},{"$f":"REPT(CO6,CN$36)","v":""},{"$f":"CP6&CQ6&CR6&CS6&CT6&CU6&CV6&CW6&CX6&CY6","v":""},{"$f":"VALUE(MID($CZ6,2*(DA$5-1)+1,2))","v":{"$error":"#VALUE!"}},{"$f":"VALUE(MID($CZ6,2*(DB$5-1)+1,2))","v":{"$error":"#VALUE!"}},{"$error":"#VALUE!"},{"$error":"#VALUE!"},{"$error":"#VALUE!"},{"$error":"#VALUE!"},{"$error":"#VALUE!"},{"$error":"#VALUE!"},{"$error":"#VALUE!"},{"$error":"#VALUE!"},{"$error":"#VALUE!"},{"$error":"#VALUE!"},{"$error":"#VALUE!"},{"$error":"#VALUE!"},{"$error":"#VALUE!"},{"$error":"#VALUE!"},{"$error":"#VALUE!"},{"$f":"VALUE(MID($CZ6,2*(DR$5-1)+1,2))","v":{"$error":"#VALUE!"}},{"$error":"#VALUE!"},{"$error":"#VALUE!"},{"$error":"#VALUE!"},{"$error":"#VALUE!"},{"$error":"#VALUE!"},{"$error":"#VALUE!"},{"$error":"#VALUE!"},{"$error":"#VALUE!"},{"$error":"#VALUE!"},{"$error":"#VALUE!"},{"$error":"#VALUE!"},{"$error":"#VALUE!"},{"$error":"#VALUE!"},{"$error":"#VALUE!"},{"$error":"#VALUE!"},{"$f":"VALUE(MID($CZ6,2*(EH$5-1)+1,2))","v":{"$error":"#VALUE!"}},{"$error":"#VALUE!"},{"$error":"#VALUE!"},{"$error":"#VALUE!"},{"$error":"#VALUE!"},{"$error":"#VALUE!"},{"$error":"#VALUE!"},{"$error":"#VALUE!"},{"$error":"#VALUE!"},{"$error":"#VALUE!"},{"$error":"#VALUE!"},{"$error":"#VALUE!"},{"$error":"#VALUE!"},{"$error":"#VALUE!"},{"$error":"#VALUE!"},{"$error":"#VALUE!"},{"$f":"VALUE(MID($CZ6,2*(EX$5-1)+1,2))","v":{"$error":"#VALUE!"}},{"$error":"#VALUE!"},{"$error":"#VALUE!"},{"$error":"#VALUE!"},{"$error":"#VALUE!"},{"$error":"#VALUE!"},{"$error":"#VALUE!"},{"$error":"#VALUE!"},{"$error":"#VALUE!"},{"$error":"#VALUE!"},{"$error":"#VALUE!"},{"$error":"#VALUE!"},{"$error":"#VALUE!"},{"$error":"#VALUE!"},{"$error":"#VALUE!"},{"$error":"#VALUE!"},{"$f":"VALUE(MID($CZ6,2*(FN$5-1)+1,2))","v":{"$error":"#VALUE!"}},{"$error":"#VALUE!"},{"$error":"#VALUE!"},{"$error":"#VALUE!"},{"$error":"#VALUE!"},{"$error":"#VALUE!"},{"$error":"#VALUE!"},{"$error":"#VALUE!"},{"$f":"VALUE(MID($CZ6,2*(FV$5-1)+1,2))","v":{"$error":"#VALUE!"}},{"$error":"#VALUE!"},{"$error":"#VALUE!"},{"$error":"#VALUE!"},{"$error":"#VALUE!"},{"$error":"#VALUE!"},{"$error":"#VALUE!"},{"$error":"#VALUE!"},{"$error":"#VALUE!"},{"$error":"#VALUE!"},{"$error":"#VALUE!"},{"$error":"#VALUE!"},{"$error":"#VALUE!"},{"$error":"#VALUE!"},{"$error":"#VALUE!"},{"$error":"#VALUE!"},{"$f":"VALUE(MID($CZ6,2*(GL$5-1)+1,2))","v":{"$error":"#VALUE!"}},{"$error":"#VALUE!"},{"$error":"#VALUE!"},{"$error":"#VALUE!"},{"$error":"#VALUE!"},{"$error":"#VALUE!"},{"$error":"#VALUE!"},{"$error":"#VALUE!"},{"$error":"#VALUE!"},{"$error":"#VALUE!"},{"$error":"#VALUE!"},{"$error":"#VALUE!"},{"$error":"#VALUE!"},{"$error":"#VALUE!"},{"$error":"#VALUE!"},{"$error":"#VALUE!"},{"$f":"VALUE(MID($CZ6,2*(HB$5-1)+1,2))","v":{"$error":"#VALUE!"}},{"$error":"#VALUE!"},{"$error":"#VALUE!"},{"$error":"#VALUE!"},{"$error":"#VALUE!"},{"$error":"#VALUE!"},null,null,null,null,null,null,null,null,null,null,null,1,53,52,51,49,11,55,56,null,null,1,null,2,null,null,null,null,null,1]
[null,"b","-","±",0,1,2,3,4,5,6,7,8,9,"a","b","c","d","_","_","_","_","_",{"$f":"21-COUNTIF(C7:W7,\"_\")","v":16},2,null,null,null,null,null,null,2,null,{"$f":"IF(ISNA(VLOOKUP(AG7,$B$6:$Y$40,21,FALSE)),0,VLOOKUP(AG7,$B$6:$Y$40,24,FALSE))","v":0},{"$f":"AI6+1","v":32},null,{"$f":"IF(ISNA(VLOOKUP(AJ7,$B$6:$Y$40,21,FALSE)),0,VLOOKUP(AJ7,$B$6:$Y$40,24,FALSE))","v":0},{"$f":"AL6+1","v":62},null,{"$f":"IF(ISNA(VLOOKUP(AM7,$B$6:$Y$40,21,FALSE)),0,VLOOKUP(AM7,$B$6:$Y$40,24,FALSE))","v":0},{"$f":"AO6+1","v":92},null,{"$f":"IF(ISNA(VLOOKUP(AP7,$B$6:$Y$40,21,FALSE)),0,VLOOKUP(AP7,$B$6:$Y$40,24,FALSE))","v":0},{"$f":"AR6+1","v":122},null,{"$f":"IF(ISNA(VLOOKUP(AS7,$B$6:$Y$40,21,FALSE)),0,VLOOKUP(AS7,$B$6:$Y$40,24,FALSE))","v":0},152,null,{"$f":"IF(ISNA(VLOOKUP(AV7,$B$6:$Y$40,21,FALSE)),0,VLOOKUP(AV7,$B$6:$Y$40,24,FALSE))","v":0},{"$f":"AX6+1","v":182},null,{"$f":"IF(ISNA(VLOOKUP(AY7,$B$6:$Y$40,21,FALSE)),0,VLOOKUP(AY7,$B$6:$Y$40,24,FALSE))","v":0},{"$f":"BA6+1","v":212},null,{"$f":"IF(ISNA(VLOOKUP(BB7,$B$6:$Y$40,21,FALSE)),0,VLOOKUP(BB7,$B$6:$Y$40,24,FALSE))","v":0},{"$f":"BD6+1","v":242},null,{"$f":"IF(ISNA(VLOOKUP(BE7,$B$6:$Y$40,21,FALSE)),0,VLOOKUP(BE7,$B$6:$Y$40,24,FALSE))","v":0},{"$f":"BG6+1","v":272},null,{"$f":"IF(ISNA(VLOOKUP(BH7,$B$6:$Y$40,21,FALSE)),0,VLOOKUP(BH7,$B$6:$Y$40,24,FALSE))","v":0},null,null,2,{"$f":"IF(ISNA(VLOOKUP(AG7,$B$6:$X$40,21,FALSE)),0,VLOOKUP(AG7,$B$6:$X$40,23,FALSE))","v":0},{"$f":"RIGHT(\"00\"&$AH7,2)","v":"00"},{"$f":"BO6+1","v":32},{"$f":"IF(ISNA(VLOOKUP(AJ7,$B$6:$X$40,21,FALSE)),0,VLOOKUP(AJ7,$B$6:$X$40,23,FALSE))","v":0},{"$f":"RIGHT(\"00\"&AK7,2)","v":"00"},{"$f":"BR6+1","v":62},{"$f":"IF(ISNA(VLOOKUP(AM7,$B$6:$X$40,21,FALSE)),0,VLOOKUP(AM7,$B$6:$X$40,23,FALSE))","v":0},{"$f":"RIGHT(\"00\"&AN7,2)","v":"00"},{"$f":"BU6+1","v":92},{"$f":"IF(ISNA(VLOOKUP(AP7,$B$6:$X$40,21,FALSE)),0,VLOOKUP(AP7,$B$6:$X$40,23,FALSE))","v":0},{"$f":"RIGHT(\"00\"&AQ7,2)","v":"00"},{"$f":"BX6+1","v":122},{"$f":"IF(ISNA(VLOOKUP(AS7,$B$6:$X$40,21,FALSE)),0,VLOOKUP(AS7,$B$6:$X$40,23,FALSE))","v":0},"00",2,{"$f":"IF(ISNA(VLOOKUP(AV7,$B$6:$X$40,21,FALSE)),0,VLOOKUP(AV7,$B$6:$X$40,23,FALSE))","v":0},"00",{"$f":"CD6+1","v":32},{"$f":"IF(ISNA(VLOOKUP(AY7,$B$6:$X$40,21,FALSE)),0,VLOOKUP(AY7,$B$6:$X$40,23,FALSE))","v":0},"00",{"$f":"CG6+1","v":62},{"$f":"IF(ISNA(VLOOKUP(BB7,$B$6:$X$40,21,FALSE)),0,VLOOKUP(BB7,$B$6:$X$40,23,FALSE))","v":0},"00",{"$f":"CJ6+1","v":92},{"$f":"IF(ISNA(VLOOKUP(BE7,$B$6:$X$40,21,FALSE)),0,VLOOKUP(BE7,$B$6:$X$40,23,FALSE))","v":0},"00",{"$f":"CM6+1","v":122},{"$f":"IF(ISNA(VLOOKUP(BH7,$B$6:$X$40,21,FALSE)),0,VLOOKUP(BH7,$B$6:$X$40,23,FALSE))","v":0},"00",{"$f":"REPT(BN7,BM$36)","v":""},{"$f":"REPT(BQ7,BP$36)","v":""},{"$f":"REPT(BT7,BS$36)","v":""},{"$f":"REPT(BW7,BV$36)","v":""},{"$f":"REPT(BZ7,BY$36)","v":""},{"$f":"REPT(CC7,CB$36)","v":""},{"$f":"REPT(CF7,CE$36)","v":""},{"$f":"REPT(CI7,CH$36)","v":""},{"$f":"REPT(CL7,CK$36)","v":""},{"$f":"REPT(CO7,CN$36)","v":""},{"$f":"CP7&CQ7&CR7&CS7&CT7&CU7&CV7&CW7&CX7&CY7","v":""},{"$error":"#VALUE!"},{"$error":"#VALUE!"},{"$error":"#VALUE!"},{"$error":"#VALUE!"},{"$error":"#VALUE!"},{"$error":"#VALUE!"},{"$error":"#VALUE!"},{"$error":"#VALUE!"},{"$error":"#VALUE!"},{"$error":"#VALUE!"},{"$error":"#VALUE!"},{"$error":"#VALUE!"},{"$error":"#VALUE!"},{"$error":"#VALUE!"},{"$error":"#VALUE!"},{"$error":"#VALUE!"},{"$error":"#VALUE!"},{"$error":"#VALUE!"},{"$error":"#VALUE!"},{"$error":"#VALUE!"},{"$error":"#VALUE!"},{"$error":"#VALUE!"},{"$error":"#VALUE!"},{"$error":"#VALUE!"},{"$error":"#VALUE!"},{"$error":"#VALUE!"},{"$error":"#VALUE!"},{"$error":"#VALUE!"},{"$error":"#VALUE!"},{"$error":"#VALUE!"},{"$error":"#VALUE!"},{"$error":"#VALUE!"},{"$error":"#VALUE!"},{"$error":"#VALUE!"},{"$error":"#VALUE!"},{"$error":"#VALUE!"},{"$error":"#VALUE!"},{"$error":"#VALUE!"},{"$error":"#VALUE!"},{"$error":"#VALUE!"},{"$error":"#VALUE!"},{"$error":"#VALUE!"},{"$error":"#VALUE!"},{"$error":"#VALUE!"},{"$error":"#VALUE!"},{"$error":"#VALUE!"},{"$error":"#VALUE!"},{"$error":"#VALUE!"},{"$error":"#VALUE!"},{"$error":"#VALUE!"},{"$error":"#VALUE!"},{"$error":"#VALUE!"},{"$error":"#VALUE!"},{"$error":"#VALUE!"},{"$error":"#VALUE!"},{"$error":"#VALUE!"},{"$error":"#VALUE!"},{"$error":"#VALUE!"},{"$error":"#VALUE!"},{"$error":"#VALUE!"},{"$error":"#VALUE!"},{"$error":"#VALUE!"},{"$error":"#VALUE!"},{"$error":"#VALUE!"},{"$error":"#VALUE!"},{"$error":"#VALUE!"},{"$error":"#VALUE!"},{"$error":"#VALUE!"},{"$error":"#VALUE!"},{"$error":"#VALUE!"},{"$error":"#VALUE!"},{"$error":"#VALUE!"},{"$error":"#VALUE!"},{"$error":"#VALUE!"},{"$error":"#VALUE!"},{"$error":"#VALUE!"},{"$error":"#VALUE!"},{"$error":"#VALUE!"},{"$error":"#VALUE!"},{"$error":"#VALUE!"},{"$error":"#VALUE!"},{"$error":"#VALUE!"},{"$error":"#VALUE!"},{"$error":"#VALUE!"},{"$error":"#VALUE!"},{"$error":"#VALUE!"},{"$error":"#VALUE!"},{"$error":"#VALUE!"},{"$error":"#VALUE!"},{"$error":"#VALUE!"},{"$error":"#VALUE!"},{"$error":"#VALUE!"},{"$error":"#VALUE!"},{"$error":"#VALUE!"},{"$error":"#VALUE!"},{"$error":"#VALUE!"},{"$error":"#VALUE!"},{"$error":"#VALUE!"},{"$error":"#VALUE!"},{"$error":"#VALUE!"},{"$error":"#VALUE!"},{"$error":"#VALUE!"},{"$error":"#VALUE!"},{"$error":"#VALUE!"},{"$error":"#VALUE!"},{"$error":"#VALUE!"},{"$error":"#VALUE!"},{"$error":"#VALUE!"},{"$error":"#VALUE!"},{"$error":"#VALUE!"},{"$error":"#VALUE!"},null,null,null,null,null,null,null,null,null,null,null,9,46,12,10,14,5,47,16,null,null,3,null,4]
[null,"c",0,1,2,3,4,5,6,7,8,9,"a","b","c","d","e","f","_","_","_","_","_",16,3,null,null,null,null,null,null,3,null,0,{"$f":"AI7+1","v":33},null,0,{"$f":"AL7+1","v":63},null,0,{"$f":"AO7+1","v":93},null,0,{"$f":"AR7+1","v":123},null,0,{"$f":"AU7+1","v":153},null,0,{"$f":"AX7+1","v":183},null,0,{"$f":"BA7+1","v":213},null,0,{"$f":"BD7+1","v":243},null,0,{"$f":"BG7+1","v":273},null,0,null,null,3,0,"00",{"$f":"BO7+1","v":33},0,"00",{"$f":"BR7+1","v":63},0,"00",{"$f":"BU7+1","v":93},0,"00",{"$f":"BX7+1","v":123},0,"00",3,0,"00",{"$f":"CD7+1","v":33},0,"00",{"$f":"CG7+1","v":63},0,"00",{"$f":"CJ7+1","v":93},0,"00",{"$f":"CM7+1","v":123},0,"00","","","","","","","","","","","",{"$error":"#VALUE!"},{"$error":"#VALUE!"},{"$error":"#VALUE!"},{"$error":"#VALUE!"},{"$error":"#VALUE!"},{"$error":"#VALUE!"},{"$error":"#VALUE!"},{"$error":"#VALUE!"},{"$error":"#VALUE!"},{"$error":"#VALUE!"},{"$error":"#VALUE!"},{"$error":"#VALUE!"},{"$error":"#VALUE!"},{"$error":"#VALUE!"},{"$error":"#VALUE!"},{"$error":"#VALUE!"},{"$error":"#VALUE!"},{"$error":"#VALUE!"},{"$error":"#VALUE!"},{"$error":"#VALUE!"},{"$error":"#VALUE!"},{"$error":"#VALUE!"},{"$error":"#VALUE!"},{"$error":"#VALUE!"},{"$error":"#VALUE!"},{"$error":"#VALUE!"},{"$error":"#VALUE!"},{"$error":"#VALUE!"},{"$error":"#VALUE!"},{"$error":"#VALUE!"},{"$error":"#VALUE!"},{"$error":"#VALUE!"},{"$error":"#VALUE!"},{"$error":"#VALUE!"},{"$error":"#VALUE!"},{"$error":"#VALUE!"},{"$error":"#VALUE!"},{"$error":"#VALUE!"},{"$error":"#VALUE!"},{"$error":"#VALUE!"},{"$error":"#VALUE!"},{"$error":"#VALUE!"},{"$error":"#VALUE!"},{"$error":"#VALUE!"},{"$error":"#VALUE!"},{"$error":"#VALUE!"},{"$error":"#VALUE!"},{"$error":"#VALUE!"},{"$error":"#VALUE!"},{"$error":"#VALUE!"},{"$error":"#VALUE!"},{"$error":"#VALUE!"},{"$error":"#VALUE!"},{"$error":"#VALUE!"},{"$error":"#VALUE!"},{"$error":"#VALUE!"},{"$error":"#VALUE!"},{"$error":"#VALUE!"},{"$error":"#VALUE!"},{"$error":"#VALUE!"},{"$error":"#VALUE!"},{"$error":"#VALUE!"},{"$error":"#VALUE!"},{"$error":"#VALUE!"},{"$error":"#VALUE!"},{"$error":"#VALUE!"},{"$error":"#VALUE!"},{"$error":"#VALUE!"},{"$error":"#VALUE!"},{"$error":"#VALUE!"},{"$error":"#VALUE!"},{"$error":"#VALUE!"},{"$error":"#VALUE!"},{"$error":"#VALUE!"},{"$error":"#VALUE!"},{"$error":"#VALUE!"},{"$error":"#VALUE!"},{"$error":"#VALUE!"},{"$error":"#VALUE!"},{"$error":"#VALUE!"},{"$error":"#VALUE!"},{"$error":"#VALUE!"},{"$error":"#VALUE!"},{"$error":"#VALUE!"},{"$error":"#VALUE!"},{"$error":"#VALUE!"},{"$error":"#VALUE!"},{"$error":"#VALUE!"},{"$error":"#VALUE!"},{"$error":"#VALUE!"},{"$error":"#VALUE!"},{"$error":"#VALUE!"},{"$error":"#VALUE!"},{"$error":"#VALUE!"},{"$error":"#VALUE!"},{"$error":"#VALUE!"},{"$error":"#VALUE!"},{"$error":"#VALUE!"},{"$error":"#VALUE!"},{"$error":"#VALUE!"},{"$error":"#VALUE!"},{"$error":"#VALUE!"},{"$error":"#VALUE!"},{"$error":"#VALUE!"},{"$error":"#VALUE!"},{"$error":"#VALUE!"},{"$error":"#VALUE!"},{"$error":"#VALUE!"},{"$error":"#VALUE!"},{"$error":"#VALUE!"},{"$error":"#VALUE!"},null,null,null,null,null,null,null,null,null,null,null,3,45,43,50,42,41,13,48,null,null,null,null,null,null,null,null,"この番号のマーク使用"]
[null,"d","-","±",0,1,2,3,4,5,6,7,8,9,"a","b","c","_","_","_","_","_","_",15,4,null,null,null,null,null,null,4,null,0,34,null,0,64,null,0,94,null,0,124,null,0,{"$f":"AU8+1","v":154},null,0,184,null,0,214,null,0,244,null,0,274,null,0,null,null,4,0,"00",34,0,"00",64,0,"00",94,0,"00",124,0,"00",4,0,"00",34,0,"00",64,0,"00",94,0,"00",124,0,"00","","","","","","","","","","","",{"$error":"#VALUE!"},{"$error":"#VALUE!"},{"$error":"#VALUE!"},{"$error":"#VALUE!"},{"$error":"#VALUE!"},{"$error":"#VALUE!"},{"$error":"#VALUE!"},{"$error":"#VALUE!"},{"$error":"#VALUE!"},{"$error":"#VALUE!"},{"$error":"#VALUE!"},{"$error":"#VALUE!"},{"$error":"#VALUE!"},{"$error":"#VALUE!"},{"$error":"#VALUE!"},{"$error":"#VALUE!"},{"$error":"#VALUE!"},{"$error":"#VALUE!"},{"$error":"#VALUE!"},{"$error":"#VALUE!"},{"$error":"#VALUE!"},{"$error":"#VALUE!"},{"$error":"#VALUE!"},{"$error":"#VALUE!"},{"$error":"#VALUE!"},{"$error":"#VALUE!"},{"$error":"#VALUE!"},{"$error":"#VALUE!"},{"$error":"#VALUE!"},{"$error":"#VALUE!"},{"$error":"#VALUE!"},{"$error":"#VALUE!"},{"$error":"#VALUE!"},{"$error":"#VALUE!"},{"$error":"#VALUE!"},{"$error":"#VALUE!"},{"$error":"#VALUE!"},{"$error":"#VALUE!"},{"$error":"#VALUE!"},{"$error":"#VALUE!"},{"$error":"#VALUE!"},{"$error":"#VALUE!"},{"$error":"#VALUE!"},{"$error":"#VALUE!"},{"$error":"#VALUE!"},{"$error":"#VALUE!"},{"$error":"#VALUE!"},{"$error":"#VALUE!"},{"$error":"#VALUE!"},{"$error":"#VALUE!"},{"$error":"#VALUE!"},{"$error":"#VALUE!"},{"$error":"#VALUE!"},{"$error":"#VALUE!"},{"$error":"#VALUE!"},{"$error":"#VALUE!"},{"$error":"#VALUE!"},{"$error":"#VALUE!"},{"$error":"#VALUE!"},{"$error":"#VALUE!"},{"$error":"#VALUE!"},{"$error":"#VALUE!"},{"$error":"#VALUE!"},{"$error":"#VALUE!"},{"$error":"#VALUE!"},{"$error":"#VALUE!"},{"$error":"#VALUE!"},{"$error":"#VALUE!"},{"$error":"#VALUE!"},{"$error":"#VALUE!"},{"$error":"#VALUE!"},{"$error":"#VALUE!"},{"$error":"#VALUE!"},{"$error":"#VALUE!"},{"$error":"#VALUE!"},{"$error":"#VALUE!"},{"$error":"#VALUE!"},{"$error":"#VALUE!"},{"$error":"#VALUE!"},{"$error":"#VALUE!"},{"$error":"#VALUE!"},{"$error":"#VALUE!"},{"$error":"#VALUE!"},{"$error":"#VALUE!"},{"$error":"#VALUE!"},{"$error":"#VALUE!"},{"$error":"#VALUE!"},{"$error":"#VALUE!"},{"$error":"#VALUE!"},{"$error":"#VALUE!"},{"$error":"#VALUE!"},{"$error":"#VALUE!"},{"$error":"#VALUE!"},{"$error":"#VALUE!"},{"$error":"#VALUE!"},{"$error":"#VALUE!"},{"$error":"#VALUE!"},{"$error":"#VALUE!"},{"$error":"#VALUE!"},{"$error":"#VALUE!"},{"$error":"#VALUE!"},{"$error":"#VALUE!"},{"$error":"#VALUE!"},{"$error":"#VALUE!"},{"$error":"#VALUE!"},{"$error":"#VALUE!"},{"$error":"#VALUE!"},{"$error":"#VALUE!"},{"$error":"#VALUE!"},{"$error":"#VALUE!"},{"$error":"#VALUE!"},null,null,null,null,null,null,null,null,null,null,null,7,44,6,4,8,33,54,15]
[null,"e","-",0,1,2,3,4,5,6,7,8,9,"a","b","c","d","_","_","_","_","_","_",15,5,null,null,null,null,null,null,5,null,0,35,null,0,65,null,0,95,null,0,125,null,0,155,null,0,185,null,0,215,null,0,245,null,0,275,null,0,null,null,5,0,"00",35,0,"00",65,0,"00",95,0,"00",125,0,"00",5,0,"00",35,0,"00",65,0,"00",95,0,"00",125,0,"00","","","","","","","","","","","",{"$error":"#VALUE!"},{"$error":"#VALUE!"},{"$error":"#VALUE!"},{"$error":"#VALUE!"},{"$error":"#VALUE!"},{"$error":"#VALUE!"},{"$error":"#VALUE!"},{"$error":"#VALUE!"},{"$error":"#VALUE!"},{"$error":"#VALUE!"},{"$error":"#VALUE!"},{"$error":"#VALUE!"},{"$error":"#VALUE!"},{"$error":"#VALUE!"},{"$error":"#VALUE!"},{"$error":"#VALUE!"},{"$error":"#VALUE!"},{"$error":"#VALUE!"},{"$error":"#VALUE!"},{"$error":"#VALUE!"},{"$error":"#VALUE!"},{"$error":"#VALUE!"},{"$error":"#VALUE!"},{"$error":"#VALUE!"},{"$error":"#VALUE!"},{"$error":"#VALUE!"},{"$error":"#VALUE!"},{"$error":"#VALUE!"},{"$error":"#VALUE!"},{"$error":"#VALUE!"},{"$error":"#VALUE!"},{"$error":"#VALUE!"},{"$error":"#VALUE!"},{"$error":"#VALUE!"},{"$error":"#VALUE!"},{"$error":"#VALUE!"},{"$error":"#VALUE!"},{"$error":"#VALUE!"},{"$error":"#VALUE!"},{"$error":"#VALUE!"},{"$error":"#VALUE!"},{"$error":"#VALUE!"},{"$error":"#VALUE!"},{"$error":"#VALUE!"},{"$error":"#VALUE!"},{"$error":"#VALUE!"},{"$error":"#VALUE!"},{"$error":"#VALUE!"},{"$error":"#VALUE!"},{"$error":"#VALUE!"},{"$error":"#VALUE!"},{"$error":"#VALUE!"},{"$error":"#VALUE!"},{"$error":"#VALUE!"},{"$error":"#VALUE!"},{"$error":"#VALUE!"},{"$error":"#VALUE!"},{"$error":"#VALUE!"},{"$error":"#VALUE!"},{"$error":"#VALUE!"},{"$error":"#VALUE!"},{"$error":"#VALUE!"},{"$error":"#VALUE!"},{"$error":"#VALUE!"},{"$error":"#VALUE!"},{"$error":"#VALUE!"},{"$error":"#VALUE!"},{"$error":"#VALUE!"},{"$error":"#VALUE!"},{"$error":"#VALUE!"},{"$error":"#VALUE!"},{"$error":"#VALUE!"},{"$error":"#VALUE!"},{"$error":"#VALUE!"},{"$error":"#VALUE!"},{"$error":"#VALUE!"},{"$error":"#VALUE!"},{"$error":"#VALUE!"},{"$error":"#VALUE!"},{"$error":"#VALUE!"},{"$error":"#VALUE!"},{"$error":"#VALUE!"},{"$error":"#VALUE!"},{"$error":"#VALUE!"},{"$error":"#VALUE!"},{"$error":"#VALUE!"},{"$error":"#VALUE!"},{"$error":"#VALUE!"},{"$error":"#VALUE!"},{"$error":"#VALUE!"},{"$error":"#VALUE!"},{"$error":"#VALUE!"},{"$error":"#VALUE!"},{"$error":"#VALUE!"},{"$error":"#VALUE!"},{"$error":"#VALUE!"},{"$error":"#VALUE!"},{"$error":"#VALUE!"},{"$error":"#VALUE!"},{"$error":"#VALUE!"},{"$error":"#VALUE!"},{"$error":"#VALUE!"},{"$error":"#VALUE!"},{"$error":"#VALUE!"},{"$error":"#VALUE!"},{"$error":"#VALUE!"},{"$error":"#VALUE!"},{"$error":"#VALUE!"},{"$error":"#VALUE!"},{"$error":"#VALUE!"},{"$error":"#VALUE!"},null,null,null,null,null,null,null,null,null,null,null,38,40,36,35,34,37,39,2]
[null,"f","-",0,1,2,3,4,5,6,7,8,9,"a","b","c","_","_","_","_","_","_","_",14,6,null,null,null,null,null,null,6,null,0,36,null,0,66,null,0,96,null,0,126,null,0,156,null,0,186,null,0,216,null,0,246,null,0,276,null,0,null,null,6,0,"00",36,0,"00",66,0,"00",96,0,"00",126,0,"00",6,0,"00",36,0,"00",66,0,"00",96,0,"00",126,0,"00","","","","","","","","","","","",{"$error":"#VALUE!"},{"$error":"#VALUE!"},{"$error":"#VALUE!"},{"$error":"#VALUE!"},{"$error":"#VALUE!"},{"$error":"#VALUE!"},{"$error":"#VALUE!"},{"$error":"#VALUE!"},{"$error":"#VALUE!"},{"$error":"#VALUE!"},{"$error":"#VALUE!"},{"$error":"#VALUE!"},{"$error":"#VALUE!"},{"$error":"#VALUE!"},{"$error":"#VALUE!"},{"$error":"#VALUE!"},{"$error":"#VALUE!"},{"$error":"#VALUE!"},{"$error":"#VALUE!"},{"$error":"#VALUE!"},{"$error":"#VALUE!"},{"$error":"#VALUE!"},{"$error":"#VALUE!"},{"$error":"#VALUE!"},{"$error":"#VALUE!"},{"$error":"#VALUE!"},{"$error":"#VALUE!"},{"$error":"#VALUE!"},{"$error":"#VALUE!"},{"$error":"#VALUE!"},{"$error":"#VALUE!"},{"$error":"#VALUE!"},{"$error":"#VALUE!"},{"$error":"#VALUE!"},{"$error":"#VALUE!"},{"$error":"#VALUE!"},{"$error":"#VALUE!"},{"$error":"#VALUE!"},{"$error":"#VALUE!"},{"$error":"#VALUE!"},{"$error":"#VALUE!"},{"$error":"#VALUE!"},{"$error":"#VALUE!"},{"$error":"#VALUE!"},{"$error":"#VALUE!"},{"$error":"#VALUE!"},{"$error":"#VALUE!"},{"$error":"#VALUE!"},{"$error":"#VALUE!"},{"$error":"#VALUE!"},{"$error":"#VALUE!"},{"$error":"#VALUE!"},{"$error":"#VALUE!"},{"$error":"#VALUE!"},{"$error":"#VALUE!"},{"$error":"#VALUE!"},{"$error":"#VALUE!"},{"$error":"#VALUE!"},{"$error":"#VALUE!"},{"$error":"#VALUE!"},{"$error":"#VALUE!"},{"$error":"#VALUE!"},{"$error":"#VALUE!"},{"$error":"#VALUE!"},{"$error":"#VALUE!"},{"$error":"#VALUE!"},{"$error":"#VALUE!"},{"$error":"#VALUE!"},{"$error":"#VALUE!"},{"$error":"#VALUE!"},{"$error":"#VALUE!"},{"$error":"#VALUE!"},{"$error":"#VALUE!"},{"$error":"#VALUE!"},{"$error":"#VALUE!"},{"$error":"#VALUE!"},{"$error":"#VALUE!"},{"$error":"#VALUE!"},{"$error":"#VALUE!"},{"$error":"#VALUE!"},{"$error":"#VALUE!"},{"$error":"#VALUE!"},{"$error":"#VALUE!"},{"$error":"#VALUE!"},{"$error":"#VALUE!"},{"$error":"#VALUE!"},{"$error":"#VALUE!"},{"$error":"#VALUE!"},{"$error":"#VALUE!"},{"$error":"#VALUE!"},{"$error":"#VALUE!"},{"$error":"#VALUE!"},{"$error":"#VALUE!"},{"$error":"#VALUE!"},{"$error":"#VALUE!"},{"$error":"#VALUE!"},{"$error":"#VALUE!"},{"$error":"#VALUE!"},{"$error":"#VALUE!"},{"$error":"#VALUE!"},{"$error":"#VALUE!"},{"$error":"#VALUE!"},{"$error":"#VALUE!"},{"$error":"#VALUE!"},{"$error":"#VALUE!"},{"$error":"#VALUE!"},{"$error":"#VALUE!"},{"$error":"#VALUE!"},{"$error":"#VALUE!"},{"$error":"#VALUE!"},{"$error":"#VALUE!"},null,null,null,null,null,null,null,null,null,null,null,17,18,19,20,21,22,23,24]
[null,"g",1,2,3,4,5,6,7,8,9,0,"a","b","c","d","_","_","_","_","_","_","_",14,7,null,null,null,null,null,null,7,null,0,37,null,0,67,null,0,97,null,0,127,null,0,157,null,0,187,null,0,217,null,0,247,null,0,277,null,0,null,null,7,0,"00",37,0,"00",67,0,"00",97,0,"00",127,0,"00",7,0,"00",37,0,"00",67,0,"00",97,0,"00",127,0,"00","","","","","","","","","","","",{"$error":"#VALUE!"},{"$error":"#VALUE!"},{"$error":"#VALUE!"},{"$error":"#VALUE!"},{"$error":"#VALUE!"},{"$error":"#VALUE!"},{"$error":"#VALUE!"},{"$error":"#VALUE!"},{"$error":"#VALUE!"},{"$error":"#VALUE!"},{"$error":"#VALUE!"},{"$error":"#VALUE!"},{"$error":"#VALUE!"},{"$error":"#VALUE!"},{"$error":"#VALUE!"},{"$error":"#VALUE!"},{"$error":"#VALUE!"},{"$error":"#VALUE!"},{"$error":"#VALUE!"},{"$error":"#VALUE!"},{"$error":"#VALUE!"},{"$error":"#VALUE!"},{"$error":"#VALUE!"},{"$error":"#VALUE!"},{"$error":"#VALUE!"},{"$error":"#VALUE!"},{"$error":"#VALUE!"},{"$error":"#VALUE!"},{"$error":"#VALUE!"},{"$error":"#VALUE!"},{"$error":"#VALUE!"},{"$error":"#VALUE!"},{"$error":"#VALUE!"},{"$error":"#VALUE!"},{"$error":"#VALUE!"},{"$error":"#VALUE!"},{"$error":"#VALUE!"},{"$error":"#VALUE!"},{"$error":"#VALUE!"},{"$error":"#VALUE!"},{"$error":"#VALUE!"},{"$error":"#VALUE!"},{"$error":"#VALUE!"},{"$error":"#VALUE!"},{"$error":"#VALUE!"},{"$error":"#VALUE!"},{"$error":"#VALUE!"},{"$error":"#VALUE!"},{"$error":"#VALUE!"},{"$error":"#VALUE!"},{"$error":"#VALUE!"},{"$error":"#VALUE!"},{"$error":"#VALUE!"},{"$error":"#VALUE!"},{"$error":"#VALUE!"},{"$error":"#VALUE!"},{"$error":"#VALUE!"},{"$error":"#VALUE!"},{"$error":"#VALUE!"},{"$error":"#VALUE!"},{"$error":"#VALUE!"},{"$error":"#VALUE!"},{"$error":"#VALUE!"},{"$error":"#VALUE!"},{"$error":"#VALUE!"},{"$error":"#VALUE!"},{"$error":"#VALUE!"},{"$error":"#VALUE!"},{"$error":"#VALUE!"},{"$error":"#VALUE!"},{"$error":"#VALUE!"},{"$error":"#VALUE!"},{"$error":"#VALUE!"},{"$error":"#VALUE!"},{"$error":"#VALUE!"},{"$error":"#VALUE!"},{"$error":"#VALUE!"},{"$error":"#VALUE!"},{"$error":"#VALUE!"},{"$error":"#VALUE!"},{"$error":"#VALUE!"},{"$error":"#VALUE!"},{"$error":"#VALUE!"},{"$error":"#VALUE!"},{"$error":"#VALUE!"},{"$error":"#VALUE!"},{"$error":"#VALUE!"},{"$error":"#VALUE!"},{"$error":"#VALUE!"},{"$error":"#VALUE!"},{"$error":"#VALUE!"},{"$error":"#VALUE!"},{"$error":"#VALUE!"},{"$error":"#VALUE!"},{"$error":"#VALUE!"},{"$error":"#VALUE!"},{"$error":"#VALUE!"},{"$error":"#VALUE!"},{"$error":"#VALUE!"},{"$error":"#VALUE!"},{"$error":"#VALUE!"},{"$error":"#VALUE!"},{"$error":"#VALUE!"},{"$error":"#VALUE!"},{"$error":"#VALUE!"},{"$error":"#VALUE!"},{"$error":"#VALUE!"},{"$error":"#VALUE!"},{"$error":"#VALUE!"},{"$error":"#VALUE!"},{"$error":"#VALUE!"},null,null,null,null,null,null,null,null,null,null,null,25,26,27,28,29,30,31,32]
[null,"h",1,2,3,4,5,6,7,8,9,0,"a","b","_","_","_","_","_","_","_","_","_",12,8,null,null,null,null,null,null,8,null,0,38,null,0,68,null,0,98,null,0,128,null,0,158,null,0,188,null,0,218,null,0,248,null,0,278,null,0,null,null,8,0,"00",38,0,"00",68,0,"00",98,0,"00",128,0,"00",8,0,"00",38,0,"00",68,0,"00",98,0,"00",128,0,"00","","","","","","","","","","","",{"$error":"#VALUE!"},{"$error":"#VALUE!"},{"$error":"#VALUE!"},{"$error":"#VALUE!"},{"$error":"#VALUE!"},{"$error":"#VALUE!"},{"$error":"#VALUE!"},{"$error":"#VALUE!"},{"$error":"#VALUE!"},{"$error":"#VALUE!"},{"$error":"#VALUE!"},{"$error":"#VALUE!"},{"$error":"#VALUE!"},{"$error":"#VALUE!"},{"$error":"#VALUE!"},{"$error":"#VALUE!"},{"$error":"#VALUE!"},{"$error":"#VALUE!"},{"$error":"#VALUE!"},{"$error":"#VALUE!"},{"$error":"#VALUE!"},{"$error":"#VALUE!"},{"$error":"#VALUE!"},{"$error":"#VALUE!"},{"$error":"#VALUE!"},{"$error":"#VALUE!"},{"$error":"#VALUE!"},{"$error":"#VALUE!"},{"$error":"#VALUE!"},{"$error":"#VALUE!"},{"$error":"#VALUE!"},{"$error":"#VALUE!"},{"$error":"#VALUE!"},{"$error":"#VALUE!"},{"$error":"#VALUE!"},{"$error":"#VALUE!"},{"$error":"#VALUE!"},{"$error":"#VALUE!"},{"$error":"#VALUE!"},{"$error":"#VALUE!"},{"$error":"#VALUE!"},{"$error":"#VALUE!"},{"$error":"#VALUE!"},{"$error":"#VALUE!"},{"$error":"#VALUE!"},{"$error":"#VALUE!"},{"$error":"#VALUE!"},{"$error":"#VALUE!"},{"$error":"#VALUE!"},{"$error":"#VALUE!"},{"$error":"#VALUE!"},{"$error":"#VALUE!"},{"$error":"#VALUE!"},{"$error":"#VALUE!"},{"$error":"#VALUE!"},{"$error":"#VALUE!"},{"$error":"#VALUE!"},{"$error":"#VALUE!"},{"$error":"#VALUE!"},{"$error":"#VALUE!"},{"$error":"#VALUE!"},{"$error":"#VALUE!"},{"$error":"#VALUE!"},{"$error":"#VALUE!"},{"$error":"#VALUE!"},{"$error":"#VALUE!"},{"$error":"#VALUE!"},{"$error":"#VALUE!"},{"$error":"#VALUE!"},{"$error":"#VALUE!"},{"$error":"#VALUE!"},{"$error":"#VALUE!"},{"$error":"#VALUE!"},{"$error":"#VALUE!"},{"$error":"#VALUE!"},{"$error":"#VALUE!"},{"$error":"#VALUE!"},{"$error":"#VALUE!"},{"$error":"#VALUE!"},{"$error":"#VALUE!"},{"$error":"#VALUE!"},{"$error":"#VALUE!"},{"$error":"#VALUE!"},{"$error":"#VALUE!"},{"$error":"#VALUE!"},{"$error":"#VALUE!"},{"$error":"#VALUE!"},{"$error":"#VALUE!"},{"$error":"#VALUE!"},{"$error":"#VALUE!"},{"$error":"#VALUE!"},{"$error":"#VALUE!"},{"$error":"#VALUE!"},{"$error":"#VALUE!"},{"$error":"#VALUE!"},{"$error":"#VALUE!"},{"$error":"#VALUE!"},{"$error":"#VALUE!"},{"$error":"#VALUE!"},{"$error":"#VALUE!"},{"$error":"#VALUE!"},{"$error":"#VALUE!"},{"$error":"#VALUE!"},{"$error":"#VALUE!"},{"$error":"#VALUE!"},{"$error":"#VALUE!"},{"$error":"#VALUE!"},{"$error":"#VALUE!"},{"$error":"#VALUE!"},{"$error":"#VALUE!"},{"$error":"#VALUE!"},null,null,null,null,null,null,null,null,null,null,null,48]
[null,"i","-",0,1,2,3,4,5,6,7,8,9,"_","_","_","_","_","_","_","_","_","_",11,9,null,null,null,null,null,null,9,null,0,39,null,0,69,null,0,99,null,0,129,null,0,159,null,0,189,null,0,219,null,0,249,null,0,279,null,0,null,null,9,0,"00",39,0,"00",69,0,"00",99,0,"00",129,0,"00",9,0,"00",39,0,"00",69,0,"00",99,0,"00",129,0,"00","","","","","","","","","","","",{"$error":"#VALUE!"},{"$error":"#VALUE!"},{"$error":"#VALUE!"},{"$error":"#VALUE!"},{"$error":"#VALUE!"},{"$error":"#VALUE!"},{"$error":"#VALUE!"},{"$error":"#VALUE!"},{"$error":"#VALUE!"},{"$error":"#VALUE!"},{"$error":"#VALUE!"},{"$error":"#VALUE!"},{"$error":"#VALUE!"},{"$error":"#VALUE!"},{"$error":"#VALUE!"},{"$error":"#VALUE!"},{"$error":"#VALUE!"},{"$error":"#VALUE!"},{"$error":"#VALUE!"},{"$error":"#VALUE!"},{"$error":"#VALUE!"},{"$error":"#VALUE!"},{"$error":"#VALUE!"},{"$error":"#VALUE!"},{"$error":"#VALUE!"},{"$error":"#VALUE!"},{"$error":"#VALUE!"},{"$error":"#VALUE!"},{"$error":"#VALUE!"},{"$error":"#VALUE!"},{"$error":"#VALUE!"},{"$error":"#VALUE!"},{"$error":"#VALUE!"},{"$error":"#VALUE!"},{"$error":"#VALUE!"},{"$error":"#VALUE!"},{"$error":"#VALUE!"},{"$error":"#VALUE!"},{"$error":"#VALUE!"},{"$error":"#VALUE!"},{"$error":"#VALUE!"},{"$error":"#VALUE!"},{"$error":"#VALUE!"},{"$error":"#VALUE!"},{"$error":"#VALUE!"},{"$error":"#VALUE!"},{"$error":"#VALUE!"},{"$error":"#VALUE!"},{"$error":"#VALUE!"},{"$error":"#VALUE!"},{"$error":"#VALUE!"},{"$error":"#VALUE!"},{"$error":"#VALUE!"},{"$error":"#VALUE!"},{"$error":"#VALUE!"},{"$error":"#VALUE!"},{"$error":"#VALUE!"},{"$error":"#VALUE!"},{"$error":"#VALUE!"},{"$error":"#VALUE!"},{"$error":"#VALUE!"},{"$error":"#VALUE!"},{"$error":"#VALUE!"},{"$error":"#VALUE!"},{"$error":"#VALUE!"},{"$error":"#VALUE!"},{"$error":"#VALUE!"},{"$error":"#VALUE!"},{"$error":"#VALUE!"},{"$error":"#VALUE!"},{"$error":"#VALUE!"},{"$error":"#VALUE!"},{"$error":"#VALUE!"},{"$error":"#VALUE!"},{"$error":"#VALUE!"},{"$error":"#VALUE!"},{"$error":"#VALUE!"},{"$error":"#VALUE!"},{"$error":"#VALUE!"},{"$error":"#VALUE!"},{"$error":"#VALUE!"},{"$error":"#VALUE!"},{"$error":"#VALUE!"},{"$error":"#VALUE!"},{"$error":"#VALUE!"},{"$error":"#VALUE!"},{"$error":"#VALUE!"},{"$error":"#VALUE!"},{"$error":"#VALUE!"},{"$error":"#VALUE!"},{"$error":"#VALUE!"},{"$error":"#VALUE!"},{"$error":"#VALUE!"},{"$error":"#VALUE!"},{"$error":"#VALUE!"},{"$error":"#VALUE!"},{"$error":"#VALUE!"},{"$error":"#VALUE!"},{"$error":"#VALUE!"},{"$error":"#VALUE!"},{"$error":"#VALUE!"},{"$error":"#VALUE!"},{"$error":"#VALUE!"},{"$error":"#VALUE!"},{"$error":"#VALUE!"},{"$error":"#VALUE!"},{"$error":"#VALUE!"},{"$error":"#VALUE!"},{"$error":"#VALUE!"},{"$error":"#VALUE!"},{"$error":"#VALUE!"},null,null,null,null,null,null,null,null,null,null,null,16]
[null,"j",0,1,2,3,4,5,6,7,8,9,"_","_","_","_","_","_","_","_","_","_","_",10,10,null,null,null,null,null,null,10,null,0,40,null,0,70,null,0,100,null,0,130,null,0,160,null,0,190,null,0,220,null,0,250,null,0,280,null,0,null,null,10,0,"00",40,0,"00",70,0,"00",100,0,"00",130,0,"00",10,0,"00",40,0,"00",70,0,"00",100,0,"00",130,0,"00","","","","","","","","","","","",{"$error":"#VALUE!"},{"$error":"#VALUE!"},{"$error":"#VALUE!"},{"$error":"#VALUE!"},{"$error":"#VALUE!"},{"$error":"#VALUE!"},{"$error":"#VALUE!"},{"$error":"#VALUE!"},{"$error":"#VALUE!"},{"$error":"#VALUE!"},{"$error":"#VALUE!"},{"$error":"#VALUE!"},{"$error":"#VALUE!"},{"$error":"#VALUE!"},{"$error":"#VALUE!"},{"$error":"#VALUE!"},{"$error":"#VALUE!"},{"$error":"#VALUE!"},{"$error":"#VALUE!"},{"$error":"#VALUE!"},{"$error":"#VALUE!"},{"$error":"#VALUE!"},{"$error":"#VALUE!"},{"$error":"#VALUE!"},{"$error":"#VALUE!"},{"$error":"#VALUE!"},{"$error":"#VALUE!"},{"$error":"#VALUE!"},{"$error":"#VALUE!"},{"$error":"#VALUE!"},{"$error":"#VALUE!"},{"$error":"#VALUE!"},{"$error":"#VALUE!"},{"$error":"#VALUE!"},{"$error":"#VALUE!"},{"$error":"#VALUE!"},{"$error":"#VALUE!"},{"$error":"#VALUE!"},{"$error":"#VALUE!"},{"$error":"#VALUE!"},{"$error":"#VALUE!"},{"$error":"#VALUE!"},{"$error":"#VALUE!"},{"$error":"#VALUE!"},{"$error":"#VALUE!"},{"$error":"#VALUE!"},{"$error":"#VALUE!"},{"$error":"#VALUE!"},{"$error":"#VALUE!"},{"$error":"#VALUE!"},{"$error":"#VALUE!"},{"$error":"#VALUE!"},{"$error":"#VALUE!"},{"$error":"#VALUE!"},{"$error":"#VALUE!"},{"$error":"#VALUE!"},{"$error":"#VALUE!"},{"$error":"#VALUE!"},{"$error":"#VALUE!"},{"$error":"#VALUE!"},{"$error":"#VALUE!"},{"$error":"#VALUE!"},{"$error":"#VALUE!"},{"$error":"#VALUE!"},{"$error":"#VALUE!"},{"$error":"#VALUE!"},{"$error":"#VALUE!"},{"$error":"#VALUE!"},{"$error":"#VALUE!"},{"$error":"#VALUE!"},{"$error":"#VALUE!"},{"$error":"#VALUE!"},{"$error":"#VALUE!"},{"$error":"#VALUE!"},{"$error":"#VALUE!"},{"$error":"#VALUE!"},{"$error":"#VALUE!"},{"$error":"#VALUE!"},{"$error":"#VALUE!"},{"$error":"#VALUE!"},{"$error":"#VALUE!"},{"$error":"#VALUE!"},{"$error":"#VALUE!"},{"$error":"#VALUE!"},{"$error":"#VALUE!"},{"$error":"#VALUE!"},{"$error":"#VALUE!"},{"$error":"#VALUE!"},{"$error":"#VALUE!"},{"$error":"#VALUE!"},{"$error":"#VALUE!"},{"$error":"#VALUE!"},{"$error":"#VALUE!"},{"$error":"#VALUE!"},{"$error":"#VALUE!"},{"$error":"#VALUE!"},{"$error":"#VALUE!"},{"$error":"#VALUE!"},{"$error":"#VALUE!"},{"$error":"#VALUE!"},{"$error":"#VALUE!"},{"$error":"#VALUE!"},{"$error":"#VALUE!"},{"$error":"#VALUE!"},{"$error":"#VALUE!"},{"$error":"#VALUE!"},{"$error":"#VALUE!"},{"$error":"#VALUE!"},{"$error":"#VALUE!"},{"$error":"#VALUE!"},{"$error":"#VALUE!"}]
[null,"k",1,2,3,4,5,6,7,8,9,0,"_","_","_","_","_","_","_","_","_","_","_",10,11,null,null,null,null,null,null,11,null,0,41,null,0,71,null,0,101,null,0,131,null,0,161,null,0,191,null,0,221,null,0,251,null,0,281,null,0,null,null,11,0,"00",41,0,"00",71,0,"00",101,0,"00",131,0,"00",11,0,"00",41,0,"00",71,0,"00",101,0,"00",131,0,"00","","","","","","","","","","","",{"$error":"#VALUE!"},{"$error":"#VALUE!"},{"$error":"#VALUE!"},{"$error":"#VALUE!"},{"$error":"#VALUE!"},{"$error":"#VALUE!"},{"$error":"#VALUE!"},{"$error":"#VALUE!"},{"$error":"#VALUE!"},{"$error":"#VALUE!"},{"$error":"#VALUE!"},{"$error":"#VALUE!"},{"$error":"#VALUE!"},{"$error":"#VALUE!"},{"$error":"#VALUE!"},{"$error":"#VALUE!"},{"$error":"#VALUE!"},{"$error":"#VALUE!"},{"$error":"#VALUE!"},{"$error":"#VALUE!"},{"$error":"#VALUE!"},{"$error":"#VALUE!"},{"$error":"#VALUE!"},{"$error":"#VALUE!"},{"$error":"#VALUE!"},{"$error":"#VALUE!"},{"$error":"#VALUE!"},{"$error":"#VALUE!"},{"$error":"#VALUE!"},{"$error":"#VALUE!"},{"$error":"#VALUE!"},{"$error":"#VALUE!"},{"$error":"#VALUE!"},{"$error":"#VALUE!"},{"$error":"#VALUE!"},{"$error":"#VALUE!"},{"$error":"#VALUE!"},{"$error":"#VALUE!"},{"$error":"#VALUE!"},{"$error":"#VALUE!"},{"$error":"#VALUE!"},{"$error":"#VALUE!"},{"$error":"#VALUE!"},{"$error":"#VALUE!"},{"$error":"#VALUE!"},{"$error":"#VALUE!"},{"$error":"#VALUE!"},{"$error":"#VALUE!"},{"$error":"#VALUE!"},{"$error":"#VALUE!"},{"$error":"#VALUE!"},{"$error":"#VALUE!"},{"$error":"#VALUE!"},{"$error":"#VALUE!"},{"$error":"#VALUE!"},{"$error":"#VALUE!"},{"$error":"#VALUE!"},{"$error":"#VALUE!"},{"$error":"#VALUE!"},{"$error":"#VALUE!"},{"$error":"#VALUE!"},{"$error":"#VALUE!"},{"$error":"#VALUE!"},{"$error":"#VALUE!"},{"$error":"#VALUE!"},{"$error":"#VALUE!"},{"$error":"#VALUE!"},{"$error":"#VALUE!"},{"$error":"#VALUE!"},{"$error":"#VALUE!"},{"$error":"#VALUE!"},{"$error":"#VALUE!"},{"$error":"#VALUE!"},{"$error":"#VALUE!"},{"$error":"#VALUE!"},{"$error":"#VALUE!"},{"$error":"#VALUE!"},{"$error":"#VALUE!"},{"$error":"#VALUE!"},{"$error":"#VALUE!"},{"$error":"#VALUE!"},{"$error":"#VALUE!"},{"$error":"#VALUE!"},{"$error":"#VALUE!"},{"$error":"#VALUE!"},{"$error":"#VALUE!"},{"$error":"#VALUE!"},{"$error":"#VALUE!"},{"$error":"#VALUE!"},{"$error":"#VALUE!"},{"$error":"#VALUE!"},{"$error":"#VALUE!"},{"$error":"#VALUE!"},{"$error":"#VALUE!"},{"$error":"#VALUE!"},{"$error":"#VALUE!"},{"$error":"#VALUE!"},{"$error":"#VALUE!"},{"$error":"#VALUE!"},{"$error":"#VALUE!"},{"$error":"#VALUE!"},{"$error":"#VALUE!"},{"$error":"#VALUE!"},{"$error":"#VALUE!"},{"$error":"#VALUE!"},{"$error":"#VALUE!"},{"$error":"#VALUE!"},{"$error":"#VALUE!"},{"$error":"#VALUE!"},{"$error":"#VALUE!"},{"$error":"#VALUE!"}]
[null,"l",1,2,3,4,5,6,7,8,9,"_","_","_","_","_","_","_","_","_","_","_","_",9,12,null,null,null,null,null,null,12,null,0,42,null,0,72,null,0,102,null,0,132,null,0,162,null,0,192,null,0,222,null,0,252,null,0,282,null,0,null,null,12,0,"00",42,0,"00",72,0,"00",102,0,"00",132,0,"00",12,0,"00",42,0,"00",72,0,"00",102,0,"00",132,0,"00","","","","","","","","","","","",{"$error":"#VALUE!"},{"$error":"#VALUE!"},{"$error":"#VALUE!"},{"$error":"#VALUE!"},{"$error":"#VALUE!"},{"$error":"#VALUE!"},{"$error":"#VALUE!"},{"$error":"#VALUE!"},{"$error":"#VALUE!"},{"$error":"#VALUE!"},{"$error":"#VALUE!"},{"$error":"#VALUE!"},{"$error":"#VALUE!"},{"$error":"#VALUE!"},{"$error":"#VALUE!"},{"$error":"#VALUE!"},{"$error":"#VALUE!"},{"$error":"#VALUE!"},{"$error":"#VALUE!"},{"$error":"#VALUE!"},{"$error":"#VALUE!"},{"$error":"#VALUE!"},{"$error":"#VALUE!"},{"$error":"#VALUE!"},{"$error":"#VALUE!"},{"$error":"#VALUE!"},{"$error":"#VALUE!"},{"$error":"#VALUE!"},{"$error":"#VALUE!"},{"$error":"#VALUE!"},{"$error":"#VALUE!"},{"$error":"#VALUE!"},{"$error":"#VALUE!"},{"$error":"#VALUE!"},{"$error":"#VALUE!"},{"$error":"#VALUE!"},{"$error":"#VALUE!"},{"$error":"#VALUE!"},{"$error":"#VALUE!"},{"$error":"#VALUE!"},{"$error":"#VALUE!"},{"$error":"#VALUE!"},{"$error":"#VALUE!"},{"$error":"#VALUE!"},{"$error":"#VALUE!"},{"$error":"#VALUE!"},{"$error":"#VALUE!"},{"$error":"#VALUE!"},{"$error":"#VALUE!"},{"$error":"#VALUE!"},{"$error":"#VALUE!"},{"$error":"#VALUE!"},{"$error":"#VALUE!"},{"$error":"#VALUE!"},{"$error":"#VALUE!"},{"$error":"#VALUE!"},{"$error":"#VALUE!"},{"$error":"#VALUE!"},{"$error":"#VALUE!"},{"$error":"#VALUE!"},{"$error":"#VALUE!"},{"$error":"#VALUE!"},{"$error":"#VALUE!"},{"$error":"#VALUE!"},{"$error":"#VALUE!"},{"$error":"#VALUE!"},{"$error":"#VALUE!"},{"$error":"#VALUE!"},{"$error":"#VALUE!"},{"$error":"#VALUE!"},{"$error":"#VALUE!"},{"$error":"#VALUE!"},{"$error":"#VALUE!"},{"$error":"#VALUE!"},{"$error":"#VALUE!"},{"$error":"#VALUE!"},{"$error":"#VALUE!"},{"$error":"#VALUE!"},{"$error":"#VALUE!"},{"$error":"#VALUE!"},{"$error":"#VALUE!"},{"$error":"#VALUE!"},{"$error":"#VALUE!"},{"$error":"#VALUE!"},{"$error":"#VALUE!"},{"$error":"#VALUE!"},{"$error":"#VALUE!"},{"$error":"#VALUE!"},{"$error":"#VALUE!"},{"$error":"#VALUE!"},{"$error":"#VALUE!"},{"$error":"#VALUE!"},{"$error":"#VALUE!"},{"$error":"#VALUE!"},{"$error":"#VALUE!"},{"$error":"#VALUE!"},{"$error":"#VALUE!"},{"$error":"#VALUE!"},{"$error":"#VALUE!"},{"$error":"#VALUE!"},{"$error":"#VALUE!"},{"$error":"#VALUE!"},{"$error":"#VALUE!"},{"$error":"#VALUE!"},{"$error":"#VALUE!"},{"$error":"#VALUE!"},{"$error":"#VALUE!"},{"$error":"#VALUE!"},{"$error":"#VALUE!"},{"$error":"#VALUE!"},{"$error":"#VALUE!"}]
[null,"m",0,1,2,3,4,5,6,7,"_","_","_","_","_","_","_","_","_","_","_","_","_",8,13,null,null,null,null,null,null,13,null,0,43,null,0,73,null,0,103,null,0,133,null,0,163,null,0,193,null,0,223,null,0,253,null,0,283,null,0,null,null,13,0,"00",43,0,"00",73,0,"00",103,0,"00",133,0,"00",13,0,"00",43,0,"00",73,0,"00",103,0,"00",133,0,"00","","","","","","","","","","","",{"$error":"#VALUE!"},{"$error":"#VALUE!"},{"$error":"#VALUE!"},{"$error":"#VALUE!"},{"$error":"#VALUE!"},{"$error":"#VALUE!"},{"$error":"#VALUE!"},{"$error":"#VALUE!"},{"$error":"#VALUE!"},{"$error":"#VALUE!"},{"$error":"#VALUE!"},{"$error":"#VALUE!"},{"$error":"#VALUE!"},{"$error":"#VALUE!"},{"$error":"#VALUE!"},{"$error":"#VALUE!"},{"$error":"#VALUE!"},{"$error":"#VALUE!"},{"$error":"#VALUE!"},{"$error":"#VALUE!"},{"$error":"#VALUE!"},{"$error":"#VALUE!"},{"$error":"#VALUE!"},{"$error":"#VALUE!"},{"$error":"#VALUE!"},{"$error":"#VALUE!"},{"$error":"#VALUE!"},{"$error":"#VALUE!"},{"$error":"#VALUE!"},{"$error":"#VALUE!"},{"$error":"#VALUE!"},{"$error":"#VALUE!"},{"$error":"#VALUE!"},{"$error":"#VALUE!"},{"$error":"#VALUE!"},{"$error":"#VALUE!"},{"$error":"#VALUE!"},{"$error":"#VALUE!"},{"$error":"#VALUE!"},{"$error":"#VALUE!"},{"$error":"#VALUE!"},{"$error":"#VALUE!"},{"$error":"#VALUE!"},{"$error":"#VALUE!"},{"$error":"#VALUE!"},{"$error":"#VALUE!"},{"$error":"#VALUE!"},{"$error":"#VALUE!"},{"$error":"#VALUE!"},{"$error":"#VALUE!"},{"$error":"#VALUE!"},{"$error":"#VALUE!"},{"$error":"#VALUE!"},{"$error":"#VALUE!"},{"$error":"#VALUE!"},{"$error":"#VALUE!"},{"$error":"#VALUE!"},{"$error":"#VALUE!"},{"$error":"#VALUE!"},{"$error":"#VALUE!"},{"$error":"#VALUE!"},{"$error":"#VALUE!"},{"$error":"#VALUE!"},{"$error":"#VALUE!"},{"$error":"#VALUE!"},{"$error":"#VALUE!"},{"$error":"#VALUE!"},{"$error":"#VALUE!"},{"$error":"#VALUE!"},{"$error":"#VALUE!"},{"$error":"#VALUE!"},{"$error":"#VALUE!"},{"$error":"#VALUE!"},{"$error":"#VALUE!"},{"$error":"#VALUE!"},{"$error":"#VALUE!"},{"$error":"#VALUE!"},{"$error":"#VALUE!"},{"$error":"#VALUE!"},{"$error":"#VALUE!"},{"$error":"#VALUE!"},{"$error":"#VALUE!"},{"$error":"#VALUE!"},{"$error":"#VALUE!"},{"$error":"#VALUE!"},{"$error":"#VALUE!"},{"$error":"#VALUE!"},{"$error":"#VALUE!"},{"$error":"#VALUE!"},{"$error":"#VALUE!"},{"$error":"#VALUE!"},{"$error":"#VALUE!"},{"$error":"#VALUE!"},{"$error":"#VALUE!"},{"$error":"#VALUE!"},{"$error":"#VALUE!"},{"$error":"#VALUE!"},{"$error":"#VALUE!"},{"$error":"#VALUE!"},{"$error":"#VALUE!"},{"$error":"#VALUE!"},{"$error":"#VALUE!"},{"$error":"#VALUE!"},{"$error":"#VALUE!"},{"$error":"#VALUE!"},{"$error":"#VALUE!"},{"$error":"#VALUE!"},{"$error":"#VALUE!"},{"$error":"#VALUE!"},{"$error":"#VALUE!"},{"$error":"#VALUE!"},null,null,null,null,null,null,null,null,null,null,null,"このマクロで作成される"]
[null,"n",1,2,3,4,5,6,7,8,"_","_","_","_","_","_","_","_","_","_","_","_","_",8,14,null,null,null,null,null,null,14,null,0,44,null,0,74,null,0,104,null,0,134,null,0,164,null,0,194,null,0,224,null,0,254,null,0,284,null,0,null,null,14,0,"00",44,0,"00",74,0,"00",104,0,"00",134,0,"00",14,0,"00",44,0,"00",74,0,"00",104,0,"00",134,0,"00","","","","","","","","","","","",{"$error":"#VALUE!"},{"$error":"#VALUE!"},{"$error":"#VALUE!"},{"$error":"#VALUE!"},{"$error":"#VALUE!"},{"$error":"#VALUE!"},{"$error":"#VALUE!"},{"$error":"#VALUE!"},{"$error":"#VALUE!"},{"$error":"#VALUE!"},{"$error":"#VALUE!"},{"$error":"#VALUE!"},{"$error":"#VALUE!"},{"$error":"#VALUE!"},{"$error":"#VALUE!"},{"$error":"#VALUE!"},{"$error":"#VALUE!"},{"$error":"#VALUE!"},{"$error":"#VALUE!"},{"$error":"#VALUE!"},{"$error":"#VALUE!"},{"$error":"#VALUE!"},{"$error":"#VALUE!"},{"$error":"#VALUE!"},{"$error":"#VALUE!"},{"$error":"#VALUE!"},{"$error":"#VALUE!"},{"$error":"#VALUE!"},{"$error":"#VALUE!"},{"$error":"#VALUE!"},{"$error":"#VALUE!"},{"$error":"#VALUE!"},{"$error":"#VALUE!"},{"$error":"#VALUE!"},{"$error":"#VALUE!"},{"$error":"#VALUE!"},{"$error":"#VALUE!"},{"$error":"#VALUE!"},{"$error":"#VALUE!"},{"$error":"#VALUE!"},{"$error":"#VALUE!"},{"$error":"#VALUE!"},{"$error":"#VALUE!"},{"$error":"#VALUE!"},{"$error":"#VALUE!"},{"$error":"#VALUE!"},{"$error":"#VALUE!"},{"$error":"#VALUE!"},{"$error":"#VALUE!"},{"$error":"#VALUE!"},{"$error":"#VALUE!"},{"$error":"#VALUE!"},{"$error":"#VALUE!"},{"$error":"#VALUE!"},{"$error":"#VALUE!"},{"$error":"#VALUE!"},{"$error":"#VALUE!"},{"$error":"#VALUE!"},{"$error":"#VALUE!"},{"$error":"#VALUE!"},{"$error":"#VALUE!"},{"$error":"#VALUE!"},{"$error":"#VALUE!"},{"$error":"#VALUE!"},{"$error":"#VALUE!"},{"$error":"#VALUE!"},{"$error":"#VALUE!"},{"$error":"#VALUE!"},{"$error":"#VALUE!"},{"$error":"#VALUE!"},{"$error":"#VALUE!"},{"$error":"#VALUE!"},{"$error":"#VALUE!"},{"$error":"#VALUE!"},{"$error":"#VALUE!"},{"$error":"#VALUE!"},{"$error":"#VALUE!"},{"$error":"#VALUE!"},{"$error":"#VALUE!"},{"$error":"#VALUE!"},{"$error":"#VALUE!"},{"$error":"#VALUE!"},{"$error":"#VALUE!"},{"$error":"#VALUE!"},{"$error":"#VALUE!"},{"$error":"#VALUE!"},{"$error":"#VALUE!"},{"$error":"#VALUE!"},{"$error":"#VALUE!"},{"$error":"#VALUE!"},{"$error":"#VALUE!"},{"$error":"#VALUE!"},{"$error":"#VALUE!"},{"$error":"#VALUE!"},{"$error":"#VALUE!"},{"$error":"#VALUE!"},{"$error":"#VALUE!"},{"$error":"#VALUE!"},{"$error":"#VALUE!"},{"$error":"#VALUE!"},{"$error":"#VALUE!"},{"$error":"#VALUE!"},{"$error":"#VALUE!"},{"$error":"#VALUE!"},{"$error":"#VALUE!"},{"$error":"#VALUE!"},{"$error":"#VALUE!"},{"$error":"#VALUE!"},{"$error":"#VALUE!"},{"$error":"#VALUE!"},{"$error":"#VALUE!"},null,null,null,null,null,null,null,null,null,null,null,"マークシートの読み取りには"]
[null,"o",0,1,2,3,4,5,6,"_","_","_","_","_","_","_","_","_","_","_","_","_","_",7,15,null,null,null,null,null,null,15,null,0,45,null,0,75,null,0,105,null,0,135,null,0,165,null,0,195,null,0,225,null,0,255,null,0,285,null,0,null,null,15,0,"00",45,0,"00",75,0,"00",105,0,"00",135,0,"00",15,0,"00",45,0,"00",75,0,"00",105,0,"00",135,0,"00","","","","","","","","","","","",{"$error":"#VALUE!"},{"$error":"#VALUE!"},{"$error":"#VALUE!"},{"$error":"#VALUE!"},{"$error":"#VALUE!"},{"$error":"#VALUE!"},{"$error":"#VALUE!"},{"$error":"#VALUE!"},{"$error":"#VALUE!"},{"$error":"#VALUE!"},{"$error":"#VALUE!"},{"$error":"#VALUE!"},{"$error":"#VALUE!"},{"$error":"#VALUE!"},{"$error":"#VALUE!"},{"$error":"#VALUE!"},{"$error":"#VALUE!"},{"$error":"#VALUE!"},{"$error":"#VALUE!"},{"$error":"#VALUE!"},{"$error":"#VALUE!"},{"$error":"#VALUE!"},{"$error":"#VALUE!"},{"$error":"#VALUE!"},{"$error":"#VALUE!"},{"$error":"#VALUE!"},{"$error":"#VALUE!"},{"$error":"#VALUE!"},{"$error":"#VALUE!"},{"$error":"#VALUE!"},{"$error":"#VALUE!"},{"$error":"#VALUE!"},{"$error":"#VALUE!"},{"$error":"#VALUE!"},{"$error":"#VALUE!"},{"$error":"#VALUE!"},{"$error":"#VALUE!"},{"$error":"#VALUE!"},{"$error":"#VALUE!"},{"$error":"#VALUE!"},{"$error":"#VALUE!"},{"$error":"#VALUE!"},{"$error":"#VALUE!"},{"$error":"#VALUE!"},{"$error":"#VALUE!"},{"$error":"#VALUE!"},{"$error":"#VALUE!"},{"$error":"#VALUE!"},{"$error":"#VALUE!"},{"$error":"#VALUE!"},{"$error":"#VALUE!"},{"$error":"#VALUE!"},{"$error":"#VALUE!"},{"$error":"#VALUE!"},{"$error":"#VALUE!"},{"$error":"#VALUE!"},{"$error":"#VALUE!"},{"$error":"#VALUE!"},{"$error":"#VALUE!"},{"$error":"#VALUE!"},{"$error":"#VALUE!"},{"$error":"#VALUE!"},{"$error":"#VALUE!"},{"$error":"#VALUE!"},{"$error":"#VALUE!"},{"$error":"#VALUE!"},{"$error":"#VALUE!"},{"$error":"#VALUE!"},{"$error":"#VALUE!"},{"$error":"#VALUE!"},{"$error":"#VALUE!"},{"$error":"#VALUE!"},{"$error":"#VALUE!"},{"$error":"#VALUE!"},{"$error":"#VALUE!"},{"$error":"#VALUE!"},{"$error":"#VALUE!"},{"$error":"#VALUE!"},{"$error":"#VALUE!"},{"$error":"#VALUE!"},{"$error":"#VALUE!"},{"$error":"#VALUE!"},{"$error":"#VALUE!"},{"$error":"#VALUE!"},{"$error":"#VALUE!"},{"$error":"#VALUE!"},{"$error":"#VALUE!"},{"$error":"#VALUE!"},{"$error":"#VALUE!"},{"$error":"#VALUE!"},{"$error":"#VALUE!"},{"$error":"#VALUE!"},{"$error":"#VALUE!"},{"$error":"#VALUE!"},{"$error":"#VALUE!"},{"$error":"#VALUE!"},{"$error":"#VALUE!"},{"$error":"#VALUE!"},{"$error":"#VALUE!"},{"$error":"#VALUE!"},{"$error":"#VALUE!"},{"$error":"#VALUE!"},{"$error":"#VALUE!"},{"$error":"#VALUE!"},{"$error":"#VALUE!"},{"$error":"#VALUE!"},{"$error":"#VALUE!"},{"$error":"#VALUE!"},{"$error":"#VALUE!"},{"$error":"#VALUE!"},{"$error":"#VALUE!"},null,null,null,null,null,null,null,null,null,null,null,"専用ソフト（下記サイトからＤＬ可能)が必要です"]
[null,"p",1,2,3,4,5,6,7,"_","_","_","_","_","_","_","_","_","_","_","_","_","_",7,16,null,null,null,null,null,null,16,null,0,46,null,0,76,null,0,106,null,0,136,null,0,166,null,0,196,null,0,226,null,0,256,null,0,286,null,0,null,null,16,0,"00",46,0,"00",76,0,"00",106,0,"00",136,0,"00",16,0,"00",46,0,"00",76,0,"00",106,0,"00",136,0,"00","","","","","","","","","","","",{"$error":"#VALUE!"},{"$error":"#VALUE!"},{"$error":"#VALUE!"},{"$error":"#VALUE!"},{"$error":"#VALUE!"},{"$error":"#VALUE!"},{"$error":"#VALUE!"},{"$error":"#VALUE!"},{"$error":"#VALUE!"},{"$error":"#VALUE!"},{"$error":"#VALUE!"},{"$error":"#VALUE!"},{"$error":"#VALUE!"},{"$error":"#VALUE!"},{"$error":"#VALUE!"},{"$error":"#VALUE!"},{"$f":"VALUE(MID($CZ21,2*(DQ$5-1)+1,2))","v":{"$error":"#VALUE!"}},{"$error":"#VALUE!"},{"$error":"#VALUE!"},{"$error":"#VALUE!"},{"$error":"#VALUE!"},{"$error":"#VALUE!"},{"$error":"#VALUE!"},{"$error":"#VALUE!"},{"$error":"#VALUE!"},{"$error":"#VALUE!"},{"$error":"#VALUE!"},{"$error":"#VALUE!"},{"$error":"#VALUE!"},{"$error":"#VALUE!"},{"$error":"#VALUE!"},{"$error":"#VALUE!"},{"$f":"VALUE(MID($CZ21,2*(EG$5-1)+1,2))","v":{"$error":"#VALUE!"}},{"$error":"#VALUE!"},{"$error":"#VALUE!"},{"$error":"#VALUE!"},{"$error":"#VALUE!"},{"$error":"#VALUE!"},{"$error":"#VALUE!"},{"$error":"#VALUE!"},{"$error":"#VALUE!"},{"$error":"#VALUE!"},{"$error":"#VALUE!"},{"$error":"#VALUE!"},{"$error":"#VALUE!"},{"$error":"#VALUE!"},{"$error":"#VALUE!"},{"$error":"#VALUE!"},{"$f":"VALUE(MID($CZ21,2*(EW$5-1)+1,2))","v":{"$error":"#VALUE!"}},{"$error":"#VALUE!"},{"$error":"#VALUE!"},{"$error":"#VALUE!"},{"$error":"#VALUE!"},{"$error":"#VALUE!"},{"$error":"#VALUE!"},{"$error":"#VALUE!"},{"$error":"#VALUE!"},{"$error":"#VALUE!"},{"$error":"#VALUE!"},{"$error":"#VALUE!"},{"$error":"#VALUE!"},{"$error":"#VALUE!"},{"$error":"#VALUE!"},{"$error":"#VALUE!"},{"$error":"#VALUE!"},{"$error":"#VALUE!"},{"$error":"#VALUE!"},{"$error":"#VALUE!"},{"$error":"#VALUE!"},{"$error":"#VALUE!"},{"$error":"#VALUE!"},{"$error":"#VALUE!"},{"$error":"#VALUE!"},{"$error":"#VALUE!"},{"$error":"#VALUE!"},{"$error":"#VALUE!"},{"$error":"#VALUE!"},{"$error":"#VALUE!"},{"$error":"#VALUE!"},{"$error":"#VALUE!"},{"$error":"#VALUE!"},{"$error":"#VALUE!"},{"$error":"#VALUE!"},{"$error":"#VALUE!"},{"$error":"#VALUE!"},{"$error":"#VALUE!"},{"$error":"#VALUE!"},{"$error":"#VALUE!"},{"$f":"VALUE(MID($CZ21,2*(GK$5-1)+1,2))","v":{"$error":"#VALUE!"}},{"$error":"#VALUE!"},{"$error":"#VALUE!"},{"$error":"#VALUE!"},{"$error":"#VALUE!"},{"$error":"#VALUE!"},{"$error":"#VALUE!"},{"$error":"#VALUE!"},{"$error":"#VALUE!"},{"$error":"#VALUE!"},{"$error":"#VALUE!"},{"$error":"#VALUE!"},{"$error":"#VALUE!"},{"$error":"#VALUE!"},{"$error":"#VALUE!"},{"$error":"#VALUE!"},{"$f":"VALUE(MID($CZ21,2*(HA$5-1)+1,2))","v":{"$error":"#VALUE!"}},{"$error":"#VALUE!"},{"$error":"#VALUE!"},{"$error":"#VALUE!"},{"$error":"#VALUE!"},{"$error":"#VALUE!"},{"$error":"#VALUE!"},null,null,null,null,null,null,null,null,null,null,null,"http://e-ict.info/page003.html"]
[null,"q",0,1,2,3,4,5,"_","_","_","_","_","_","_","_","_","_","_","_","_","_","_",6,17,null,null,null,null,null,null,17,null,0,47,null,0,77,null,0,107,null,0,137,null,0,167,null,0,197,null,0,227,null,0,257,null,0,287,null,0,null,null,17,0,"00",47,0,"00",77,0,"00",107,0,"00",137,0,"00",17,0,"00",47,0,"00",77,0,"00",107,0,"00",137,0,"00","","","","","","","","","","","",{"$error":"#VALUE!"},{"$f":"VALUE(MID($CZ22,2*(DB$5-1)+1,2))","v":{"$error":"#VALUE!"}},{"$error":"#VALUE!"},{"$error":"#VALUE!"},{"$error":"#VALUE!"},{"$error":"#VALUE!"},{"$error":"#VALUE!"},{"$error":"#VALUE!"},{"$error":"#VALUE!"},{"$error":"#VALUE!"},{"$error":"#VALUE!"},{"$error":"#VALUE!"},{"$error":"#VALUE!"},{"$error":"#VALUE!"},{"$error":"#VALUE!"},{"$error":"#VALUE!"},{"$error":"#VALUE!"},{"$error":"#VALUE!"},{"$error":"#VALUE!"},{"$error":"#VALUE!"},{"$error":"#VALUE!"},{"$error":"#VALUE!"},{"$error":"#VALUE!"},{"$error":"#VALUE!"},{"$error":"#VALUE!"},{"$error":"#VALUE!"},{"$error":"#VALUE!"},{"$error":"#VALUE!"},{"$error":"#VALUE!"},{"$error":"#VALUE!"},{"$error":"#VALUE!"},{"$error":"#VALUE!"},{"$error":"#VALUE!"},{"$error":"#VALUE!"},{"$error":"#VALUE!"},{"$error":"#VALUE!"},{"$error":"#VALUE!"},{"$error":"#VALUE!"},{"$error":"#VALUE!"},{"$error":"#VALUE!"},{"$error":"#VALUE!"},{"$error":"#VALUE!"},{"$error":"#VALUE!"},{"$error":"#VALUE!"},{"$error":"#VALUE!"},{"$error":"#VALUE!"},{"$error":"#VALUE!"},{"$error":"#VALUE!"},{"$error":"#VALUE!"},{"$error":"#VALUE!"},{"$error":"#VALUE!"},{"$error":"#VALUE!"},{"$error":"#VALUE!"},{"$error":"#VALUE!"},{"$error":"#VALUE!"},{"$error":"#VALUE!"},{"$error":"#VALUE!"},{"$error":"#VALUE!"},{"$error":"#VALUE!"},{"$error":"#VALUE!"},{"$error":"#VALUE!"},{"$error":"#VALUE!"},{"$error":"#VALUE!"},{"$error":"#VALUE!"},{"$f":"VALUE(MID($CZ22,2*(FM$5-1)+1,2))","v":{"$error":"#VALUE!"}},{"$error":"#VALUE!"},{"$error":"#VALUE!"},{"$error":"#VALUE!"},{"$error":"#VALUE!"},{"$error":"#VALUE!"},{"$error":"#VALUE!"},{"$error":"#VALUE!"},{"$error":"#VALUE!"},{"$f":"VALUE(MID($CZ22,2*(FV$5-1)+1,2))","v":{"$error":"#VALUE!"}},{"$error":"#VALUE!"},{"$error":"#VALUE!"},{"$error":"#VALUE!"},{"$error":"#VALUE!"},{"$error":"#VALUE!"},{"$error":"#VALUE!"},{"$error":"#VALUE!"},{"$error":"#VALUE!"},{"$error":"#VALUE!"},{"$error":"#VALUE!"},{"$error":"#VALUE!"},{"$error":"#VALUE!"},{"$error":"#VALUE!"},{"$error":"#VALUE!"},{"$error":"#VALUE!"},{"$error":"#VALUE!"},{"$error":"#VALUE!"},{"$error":"#VALUE!"},{"$error":"#VALUE!"},{"$error":"#VALUE!"},{"$error":"#VALUE!"},{"$error":"#VALUE!"},{"$error":"#VALUE!"},{"$error":"#VALUE!"},{"$error":"#VALUE!"},{"$error":"#VALUE!"},{"$error":"#VALUE!"},{"$error":"#VALUE!"},{"$error":"#VALUE!"},{"$error":"#VALUE!"},{"$error":"#VALUE!"},{"$error":"#VALUE!"},{"$error":"#VALUE!"},{"$error":"#VALUE!"},{"$error":"#VALUE!"},{"$error":"#VALUE!"},{"$error":"#VALUE!"},null,null,null,null,null,null,null,null,null,null,null,"※無断転載、2次加工を禁じます。"]
[null,"r",1,2,3,4,5,6,"_","_","_","_","_","_","_","_","_","_","_","_","_","_","_",6,18,null,null,null,null,null,null,18,null,0,48,null,0,78,null,0,108,null,0,138,null,0,168,null,0,198,null,0,228,null,0,258,null,0,288,null,0,null,null,18,0,"00",48,0,"00",78,0,"00",108,0,"00",138,0,"00",18,0,"00",48,0,"00",78,0,"00",108,0,"00",138,0,"00","","","","","","","","","","","",{"$f":"VALUE(MID($CZ23,2*(DA$5-1)+1,2))","v":{"$error":"#VALUE!"}},{"$error":"#VALUE!"},{"$error":"#VALUE!"},{"$error":"#VALUE!"},{"$error":"#VALUE!"},{"$error":"#VALUE!"},{"$error":"#VALUE!"},{"$error":"#VALUE!"},{"$error":"#VALUE!"},{"$error":"#VALUE!"},{"$error":"#VALUE!"},{"$error":"#VALUE!"},{"$error":"#VALUE!"},{"$error":"#VALUE!"},{"$error":"#VALUE!"},{"$error":"#VALUE!"},{"$error":"#VALUE!"},{"$error":"#VALUE!"},{"$error":"#VALUE!"},{"$error":"#VALUE!"},{"$error":"#VALUE!"},{"$error":"#VALUE!"},{"$error":"#VALUE!"},{"$error":"#VALUE!"},{"$error":"#VALUE!"},{"$error":"#VALUE!"},{"$error":"#VALUE!"},{"$error":"#VALUE!"},{"$error":"#VALUE!"},{"$error":"#VALUE!"},{"$error":"#VALUE!"},{"$error":"#VALUE!"},{"$error":"#VALUE!"},{"$error":"#VALUE!"},{"$error":"#VALUE!"},{"$error":"#VALUE!"},{"$error":"#VALUE!"},{"$error":"#VALUE!"},{"$error":"#VALUE!"},{"$error":"#VALUE!"},{"$error":"#VALUE!"},{"$error":"#VALUE!"},{"$error":"#VALUE!"},{"$error":"#VALUE!"},{"$error":"#VALUE!"},{"$error":"#VALUE!"},{"$error":"#VALUE!"},{"$error":"#VALUE!"},{"$error":"#VALUE!"},{"$error":"#VALUE!"},{"$error":"#VALUE!"},{"$error":"#VALUE!"},{"$error":"#VALUE!"},{"$error":"#VALUE!"},{"$error":"#VALUE!"},{"$error":"#VALUE!"},{"$error":"#VALUE!"},{"$error":"#VALUE!"},{"$error":"#VALUE!"},{"$error":"#VALUE!"},{"$error":"#VALUE!"},{"$error":"#VALUE!"},{"$error":"#VALUE!"},{"$error":"#VALUE!"},{"$error":"#VALUE!"},{"$error":"#VALUE!"},{"$error":"#VALUE!"},{"$error":"#VALUE!"},{"$error":"#VALUE!"},{"$error":"#VALUE!"},{"$error":"#VALUE!"},{"$error":"#VALUE!"},{"$error":"#VALUE!"},{"$error":"#VALUE!"},{"$error":"#VALUE!"},{"$error":"#VALUE!"},{"$error":"#VALUE!"},{"$error":"#VALUE!"},{"$error":"#VALUE!"},{"$error":"#VALUE!"},{"$error":"#VALUE!"},{"$error":"#VALUE!"},{"$error":"#VALUE!"},{"$error":"#VALUE!"},{"$error":"#VALUE!"},{"$error":"#VALUE!"},{"$error":"#VALUE!"},{"$error":"#VALUE!"},{"$error":"#VALUE!"},{"$error":"#VALUE!"},{"$error":"#VALUE!"},{"$error":"#VALUE!"},{"$error":"#VALUE!"},{"$error":"#VALUE!"},{"$error":"#VALUE!"},{"$error":"#VALUE!"},{"$error":"#VALUE!"},{"$error":"#VALUE!"},{"$error":"#VALUE!"},{"$error":"#VALUE!"},{"$error":"#VALUE!"},{"$error":"#VALUE!"},{"$error":"#VALUE!"},{"$error":"#VALUE!"},{"$error":"#VALUE!"},{"$error":"#VALUE!"},{"$error":"#VALUE!"},{"$error":"#VALUE!"},{"$error":"#VALUE!"},{"$error":"#VALUE!"},{"$error":"#VALUE!"},null,null,null,null,null,null,null,null,null,null,null,"Copyright (C) 2010 ＰＣソリューション・ヨシダ All Rights Reserved."]
[null,"s",1,2,3,4,5,"_","_","_","_","_","_","_","_","_","_","_","_","_","_","_","_",5,19,null,null,null,null,null,null,19,null,0,49,null,0,79,null,0,109,null,0,139,null,0,169,null,0,199,null,0,229,null,0,259,null,0,289,null,0,null,null,19,0,"00",49,0,"00",79,0,"00",109,0,"00",139,0,"00",19,0,"00",49,0,"00",79,0,"00",109,0,"00",139,0,"00","","","","","","","","","","","",{"$error":"#VALUE!"},{"$error":"#VALUE!"},{"$error":"#VALUE!"},{"$error":"#VALUE!"},{"$error":"#VALUE!"},{"$error":"#VALUE!"},{"$error":"#VALUE!"},{"$error":"#VALUE!"},{"$error":"#VALUE!"},{"$error":"#VALUE!"},{"$error":"#VALUE!"},{"$error":"#VALUE!"},{"$error":"#VALUE!"},{"$error":"#VALUE!"},{"$error":"#VALUE!"},{"$error":"#VALUE!"},{"$error":"#VALUE!"},{"$error":"#VALUE!"},{"$error":"#VALUE!"},{"$error":"#VALUE!"},{"$error":"#VALUE!"},{"$error":"#VALUE!"},{"$error":"#VALUE!"},{"$error":"#VALUE!"},{"$error":"#VALUE!"},{"$error":"#VALUE!"},{"$error":"#VALUE!"},{"$error":"#VALUE!"},{"$error":"#VALUE!"},{"$error":"#VALUE!"},{"$error":"#VALUE!"},{"$error":"#VALUE!"},{"$error":"#VALUE!"},{"$error":"#VALUE!"},{"$error":"#VALUE!"},{"$error":"#VALUE!"},{"$error":"#VALUE!"},{"$error":"#VALUE!"},{"$error":"#VALUE!"},{"$error":"#VALUE!"},{"$error":"#VALUE!"},{"$error":"#VALUE!"},{"$error":"#VALUE!"},{"$error":"#VALUE!"},{"$error":"#VALUE!"},{"$error":"#VALUE!"},{"$error":"#VALUE!"},{"$error":"#VALUE!"},{"$error":"#VALUE!"},{"$error":"#VALUE!"},{"$error":"#VALUE!"},{"$error":"#VALUE!"},{"$error":"#VALUE!"},{"$error":"#VALUE!"},{"$error":"#VALUE!"},{"$error":"#VALUE!"},{"$error":"#VALUE!"},{"$error":"#VALUE!"},{"$error":"#VALUE!"},{"$error":"#VALUE!"},{"$error":"#VALUE!"},{"$error":"#VALUE!"},{"$error":"#VALUE!"},{"$error":"#VALUE!"},{"$error":"#VALUE!"},{"$error":"#VALUE!"},{"$error":"#VALUE!"},{"$error":"#VALUE!"},{"$error":"#VALUE!"},{"$error":"#VALUE!"},{"$error":"#VALUE!"},{"$error":"#VALUE!"},{"$error":"#VALUE!"},{"$error":"#VALUE!"},{"$error":"#VALUE!"},{"$error":"#VALUE!"},{"$error":"#VALUE!"},{"$error":"#VALUE!"},{"$error":"#VALUE!"},{"$error":"#VALUE!"},{"$error":"#VALUE!"},{"$error":"#VALUE!"},{"$error":"#VALUE!"},{"$error":"#VALUE!"},{"$error":"#VALUE!"},{"$error":"#VALUE!"},{"$error":"#VALUE!"},{"$error":"#VALUE!"},{"$error":"#VALUE!"},{"$error":"#VALUE!"},{"$error":"#VALUE!"},{"$error":"#VALUE!"},{"$error":"#VALUE!"},{"$error":"#VALUE!"},{"$error":"#VALUE!"},{"$error":"#VALUE!"},{"$error":"#VALUE!"},{"$error":"#VALUE!"},{"$error":"#VALUE!"},{"$error":"#VALUE!"},{"$error":"#VALUE!"},{"$error":"#VALUE!"},{"$error":"#VALUE!"},{"$error":"#VALUE!"},{"$error":"#VALUE!"},{"$error":"#VALUE!"},{"$error":"#VALUE!"},{"$error":"#VALUE!"},{"$error":"#VALUE!"},{"$error":"#VALUE!"},{"$error":"#VALUE!"}]
[null,"t",1,2,3,4,"_","_","_","_","_","_","_","_","_","_","_","_","_","_","_","_","_",4,20,null,null,null,null,null,null,20,null,0,50,null,0,80,null,0,110,null,0,140,null,0,170,null,0,200,null,0,230,null,0,260,null,0,290,null,0,null,null,20,0,"00",50,0,"00",80,0,"00",110,0,"00",140,0,"00",20,0,"00",50,0,"00",80,0,"00",110,0,"00",140,0,"00","","","","","","","","","","","",{"$error":"#VALUE!"},{"$error":"#VALUE!"},{"$error":"#VALUE!"},{"$error":"#VALUE!"},{"$error":"#VALUE!"},{"$error":"#VALUE!"},{"$error":"#VALUE!"},{"$error":"#VALUE!"},{"$error":"#VALUE!"},{"$error":"#VALUE!"},{"$error":"#VALUE!"},{"$error":"#VALUE!"},{"$error":"#VALUE!"},{"$error":"#VALUE!"},{"$error":"#VALUE!"},{"$error":"#VALUE!"},{"$error":"#VALUE!"},{"$error":"#VALUE!"},{"$error":"#VALUE!"},{"$error":"#VALUE!"},{"$error":"#VALUE!"},{"$error":"#VALUE!"},{"$error":"#VALUE!"},{"$error":"#VALUE!"},{"$error":"#VALUE!"},{"$error":"#VALUE!"},{"$error":"#VALUE!"},{"$error":"#VALUE!"},{"$error":"#VALUE!"},{"$error":"#VALUE!"},{"$error":"#VALUE!"},{"$error":"#VALUE!"},{"$error":"#VALUE!"},{"$error":"#VALUE!"},{"$error":"#VALUE!"},{"$error":"#VALUE!"},{"$error":"#VALUE!"},{"$error":"#VALUE!"},{"$error":"#VALUE!"},{"$error":"#VALUE!"},{"$error":"#VALUE!"},{"$error":"#VALUE!"},{"$error":"#VALUE!"},{"$error":"#VALUE!"},{"$error":"#VALUE!"},{"$error":"#VALUE!"},{"$error":"#VALUE!"},{"$error":"#VALUE!"},{"$error":"#VALUE!"},{"$error":"#VALUE!"},{"$error":"#VALUE!"},{"$error":"#VALUE!"},{"$error":"#VALUE!"},{"$error":"#VALUE!"},{"$error":"#VALUE!"},{"$error":"#VALUE!"},{"$error":"#VALUE!"},{"$error":"#VALUE!"},{"$error":"#VALUE!"},{"$error":"#VALUE!"},{"$error":"#VALUE!"},{"$error":"#VALUE!"},{"$error":"#VALUE!"},{"$error":"#VALUE!"},{"$error":"#VALUE!"},{"$error":"#VALUE!"},{"$error":"#VALUE!"},{"$error":"#VALUE!"},{"$error":"#VALUE!"},{"$error":"#VALUE!"},{"$error":"#VALUE!"},{"$error":"#VALUE!"},{"$error":"#VALUE!"},{"$error":"#VALUE!"},{"$error":"#VALUE!"},{"$error":"#VALUE!"},{"$error":"#VALUE!"},{"$error":"#VALUE!"},{"$error":"#VALUE!"},{"$error":"#VALUE!"},{"$error":"#VALUE!"},{"$error":"#VALUE!"},{"$error":"#VALUE!"},{"$error":"#VALUE!"},{"$error":"#VALUE!"},{"$error":"#VALUE!"},{"$error":"#VALUE!"},{"$error":"#VALUE!"},{"$error":"#VALUE!"},{"$error":"#VALUE!"},{"$error":"#VALUE!"},{"$error":"#VALUE!"},{"$error":"#VALUE!"},{"$error":"#VALUE!"},{"$error":"#VALUE!"},{"$error":"#VALUE!"},{"$error":"#VALUE!"},{"$error":"#VALUE!"},{"$error":"#VALUE!"},{"$error":"#VALUE!"},{"$error":"#VALUE!"},{"$error":"#VALUE!"},{"$error":"#VALUE!"},{"$error":"#VALUE!"},{"$error":"#VALUE!"},{"$error":"#VALUE!"},{"$error":"#VALUE!"},{"$error":"#VALUE!"},{"$error":"#VALUE!"},{"$error":"#VALUE!"},{"$error":"#VALUE!"}]
[null,"u",1,".",2,"_","_","_","_","_","_","_","_","_","_","_","_","_","_","_","_","_","_",3,21,null,null,null,null,null,null,21,null,0,51,null,0,81,null,0,111,null,0,141,null,0,171,null,0,201,null,0,231,null,0,261,null,0,291,null,0,null,null,21,0,"00",51,0,"00",81,0,"00",111,0,"00",141,0,"00",21,0,"00",51,0,"00",81,0,"00",111,0,"00",141,0,"00","","","","","","","","","","","",{"$error":"#VALUE!"},{"$error":"#VALUE!"},{"$error":"#VALUE!"},{"$error":"#VALUE!"},{"$error":"#VALUE!"},{"$error":"#VALUE!"},{"$error":"#VALUE!"},{"$error":"#VALUE!"},{"$error":"#VALUE!"},{"$error":"#VALUE!"},{"$error":"#VALUE!"},{"$error":"#VALUE!"},{"$error":"#VALUE!"},{"$error":"#VALUE!"},{"$error":"#VALUE!"},{"$error":"#VALUE!"},{"$error":"#VALUE!"},{"$error":"#VALUE!"},{"$error":"#VALUE!"},{"$error":"#VALUE!"},{"$error":"#VALUE!"},{"$error":"#VALUE!"},{"$error":"#VALUE!"},{"$error":"#VALUE!"},{"$error":"#VALUE!"},{"$error":"#VALUE!"},{"$error":"#VALUE!"},{"$error":"#VALUE!"},{"$error":"#VALUE!"},{"$error":"#VALUE!"},{"$error":"#VALUE!"},{"$error":"#VALUE!"},{"$error":"#VALUE!"},{"$error":"#VALUE!"},{"$error":"#VALUE!"},{"$error":"#VALUE!"},{"$error":"#VALUE!"},{"$error":"#VALUE!"},{"$error":"#VALUE!"},{"$error":"#VALUE!"},{"$error":"#VALUE!"},{"$error":"#VALUE!"},{"$error":"#VALUE!"},{"$error":"#VALUE!"},{"$error":"#VALUE!"},{"$error":"#VALUE!"},{"$error":"#VALUE!"},{"$error":"#VALUE!"},{"$error":"#VALUE!"},{"$error":"#VALUE!"},{"$error":"#VALUE!"},{"$error":"#VALUE!"},{"$error":"#VALUE!"},{"$error":"#VALUE!"},{"$error":"#VALUE!"},{"$error":"#VALUE!"},{"$error":"#VALUE!"},{"$error":"#VALUE!"},{"$error":"#VALUE!"},{"$error":"#VALUE!"},{"$error":"#VALUE!"},{"$error":"#VALUE!"},{"$error":"#VALUE!"},{"$error":"#VALUE!"},{"$error":"#VALUE!"},{"$error":"#VALUE!"},{"$error":"#VALUE!"},{"$error":"#VALUE!"},{"$error":"#VALUE!"},{"$error":"#VALUE!"},{"$error":"#VALUE!"},{"$error":"#VALUE!"},{"$error":"#VALUE!"},{"$error":"#VALUE!"},{"$error":"#VALUE!"},{"$error":"#VALUE!"},{"$error":"#VALUE!"},{"$error":"#VALUE!"},{"$error":"#VALUE!"},{"$error":"#VALUE!"},{"$error":"#VALUE!"},{"$error":"#VALUE!"},{"$error":"#VALUE!"},{"$error":"#VALUE!"},{"$error":"#VALUE!"},{"$error":"#VALUE!"},{"$error":"#VALUE!"},{"$error":"#VALUE!"},{"$error":"#VALUE!"},{"$error":"#VALUE!"},{"$error":"#VALUE!"},{"$error":"#VALUE!"},{"$error":"#VALUE!"},{"$error":"#VALUE!"},{"$error":"#VALUE!"},{"$error":"#VALUE!"},{"$error":"#VALUE!"},{"$error":"#VALUE!"},{"$error":"#VALUE!"},{"$error":"#VALUE!"},{"$error":"#VALUE!"},{"$error":"#VALUE!"},{"$error":"#VALUE!"},{"$error":"#VALUE!"},{"$error":"#VALUE!"},{"$error":"#VALUE!"},{"$error":"#VALUE!"},{"$error":"#VALUE!"},{"$error":"#VALUE!"},{"$error":"#VALUE!"},{"$error":"#VALUE!"}]
[null,"v","Y",".","N","_","_","_","_","_","_","_","_","_","_","_","_","_","_","_","_","_","_",3,22,null,null,null,null,null,null,22,null,0,52,null,0,82,null,0,112,null,0,142,null,0,172,null,0,202,null,0,232,null,0,262,null,0,292,null,0,null,null,22,0,"00",52,0,"00",82,0,"00",112,0,"00",142,0,"00",22,0,"00",52,0,"00",82,0,"00",112,0,"00",142,0,"00","","","","","","","","","","","",{"$error":"#VALUE!"},{"$error":"#VALUE!"},{"$error":"#VALUE!"},{"$error":"#VALUE!"},{"$error":"#VALUE!"},{"$error":"#VALUE!"},{"$error":"#VALUE!"},{"$error":"#VALUE!"},{"$error":"#VALUE!"},{"$error":"#VALUE!"},{"$error":"#VALUE!"},{"$error":"#VALUE!"},{"$error":"#VALUE!"},{"$error":"#VALUE!"},{"$error":"#VALUE!"},{"$error":"#VALUE!"},{"$error":"#VALUE!"},{"$error":"#VALUE!"},{"$error":"#VALUE!"},{"$error":"#VALUE!"},{"$error":"#VALUE!"},{"$error":"#VALUE!"},{"$error":"#VALUE!"},{"$error":"#VALUE!"},{"$error":"#VALUE!"},{"$error":"#VALUE!"},{"$error":"#VALUE!"},{"$error":"#VALUE!"},{"$error":"#VALUE!"},{"$error":"#VALUE!"},{"$error":"#VALUE!"},{"$error":"#VALUE!"},{"$error":"#VALUE!"},{"$error":"#VALUE!"},{"$error":"#VALUE!"},{"$error":"#VALUE!"},{"$error":"#VALUE!"},{"$error":"#VALUE!"},{"$error":"#VALUE!"},{"$error":"#VALUE!"},{"$error":"#VALUE!"},{"$error":"#VALUE!"},{"$error":"#VALUE!"},{"$error":"#VALUE!"},{"$error":"#VALUE!"},{"$error":"#VALUE!"},{"$error":"#VALUE!"},{"$error":"#VALUE!"},{"$error":"#VALUE!"},{"$error":"#VALUE!"},{"$error":"#VALUE!"},{"$error":"#VALUE!"},{"$error":"#VALUE!"},{"$error":"#VALUE!"},{"$error":"#VALUE!"},{"$error":"#VALUE!"},{"$error":"#VALUE!"},{"$error":"#VALUE!"},{"$error":"#VALUE!"},{"$error":"#VALUE!"},{"$error":"#VALUE!"},{"$error":"#VALUE!"},{"$error":"#VALUE!"},{"$error":"#VALUE!"},{"$error":"#VALUE!"},{"$error":"#VALUE!"},{"$error":"#VALUE!"},{"$error":"#VALUE!"},{"$error":"#VALUE!"},{"$error":"#VALUE!"},{"$error":"#VALUE!"},{"$error":"#VALUE!"},{"$error":"#VALUE!"},{"$error":"#VALUE!"},{"$error":"#VALUE!"},{"$error":"#VALUE!"},{"$error":"#VALUE!"},{"$error":"#VALUE!"},{"$error":"#VALUE!"},{"$error":"#VALUE!"},{"$error":"#VALUE!"},{"$error":"#VALUE!"},{"$error":"#VALUE!"},{"$error":"#VALUE!"},{"$error":"#VALUE!"},{"$error":"#VALUE!"},{"$error":"#VALUE!"},{"$error":"#VALUE!"},{"$error":"#VALUE!"},{"$error":"#VALUE!"},{"$error":"#VALUE!"},{"$error":"#VALUE!"},{"$error":"#VALUE!"},{"$error":"#VALUE!"},{"$error":"#VALUE!"},{"$error":"#VALUE!"},{"$error":"#VALUE!"},{"$error":"#VALUE!"},{"$error":"#VALUE!"},{"$error":"#VALUE!"},{"$error":"#VALUE!"},{"$error":"#VALUE!"},{"$error":"#VALUE!"},{"$error":"#VALUE!"},{"$error":"#VALUE!"},{"$error":"#VALUE!"},{"$error":"#VALUE!"},{"$error":"#VALUE!"},{"$error":"#VALUE!"},{"$error":"#VALUE!"},{"$error":"#VALUE!"}]
[null,"w","○",".","×","_","_","_","_","_","_","_","_","_","_","_","_","_","_","_","_","_","_",3,23,null,null,null,null,null,null,23,null,0,53,null,0,83,null,0,113,null,0,143,null,0,173,null,0,203,null,0,233,null,0,263,null,0,293,null,0,null,null,23,0,"00",53,0,"00",83,0,"00",113,0,"00",143,0,"00",23,0,"00",53,0,"00",83,0,"00",113,0,"00",143,0,"00","","","","","","","","","","","",{"$error":"#VALUE!"},{"$error":"#VALUE!"},{"$error":"#VALUE!"},{"$error":"#VALUE!"},{"$error":"#VALUE!"},{"$error":"#VALUE!"},{"$error":"#VALUE!"},{"$error":"#VALUE!"},{"$error":"#VALUE!"},{"$error":"#VALUE!"},{"$error":"#VALUE!"},{"$error":"#VALUE!"},{"$error":"#VALUE!"},{"$error":"#VALUE!"},{"$error":"#VALUE!"},{"$error":"#VALUE!"},{"$error":"#VALUE!"},{"$error":"#VALUE!"},{"$error":"#VALUE!"},{"$error":"#VALUE!"},{"$error":"#VALUE!"},{"$error":"#VALUE!"},{"$error":"#VALUE!"},{"$error":"#VALUE!"},{"$error":"#VALUE!"},{"$error":"#VALUE!"},{"$error":"#VALUE!"},{"$error":"#VALUE!"},{"$error":"#VALUE!"},{"$error":"#VALUE!"},{"$error":"#VALUE!"},{"$error":"#VALUE!"},{"$error":"#VALUE!"},{"$error":"#VALUE!"},{"$error":"#VALUE!"},{"$error":"#VALUE!"},{"$error":"#VALUE!"},{"$error":"#VALUE!"},{"$error":"#VALUE!"},{"$error":"#VALUE!"},{"$error":"#VALUE!"},{"$error":"#VALUE!"},{"$error":"#VALUE!"},{"$error":"#VALUE!"},{"$error":"#VALUE!"},{"$error":"#VALUE!"},{"$error":"#VALUE!"},{"$error":"#VALUE!"},{"$error":"#VALUE!"},{"$error":"#VALUE!"},{"$error":"#VALUE!"},{"$error":"#VALUE!"},{"$error":"#VALUE!"},{"$error":"#VALUE!"},{"$error":"#VALUE!"},{"$error":"#VALUE!"},{"$error":"#VALUE!"},{"$error":"#VALUE!"},{"$error":"#VALUE!"},{"$error":"#VALUE!"},{"$error":"#VALUE!"},{"$error":"#VALUE!"},{"$error":"#VALUE!"},{"$error":"#VALUE!"},{"$error":"#VALUE!"},{"$error":"#VALUE!"},{"$error":"#VALUE!"},{"$error":"#VALUE!"},{"$error":"#VALUE!"},{"$error":"#VALUE!"},{"$error":"#VALUE!"},{"$error":"#VALUE!"},{"$error":"#VALUE!"},{"$error":"#VALUE!"},{"$error":"#VALUE!"},{"$error":"#VALUE!"},{"$error":"#VALUE!"},{"$error":"#VALUE!"},{"$error":"#VALUE!"},{"$error":"#VALUE!"},{"$error":"#VALUE!"},{"$error":"#VALUE!"},{"$error":"#VALUE!"},{"$error":"#VALUE!"},{"$error":"#VALUE!"},{"$error":"#VALUE!"},{"$error":"#VALUE!"},{"$error":"#VALUE!"},{"$error":"#VALUE!"},{"$error":"#VALUE!"},{"$error":"#VALUE!"},{"$error":"#VALUE!"},{"$error":"#VALUE!"},{"$error":"#VALUE!"},{"$error":"#VALUE!"},{"$error":"#VALUE!"},{"$error":"#VALUE!"},{"$error":"#VALUE!"},{"$error":"#VALUE!"},{"$error":"#VALUE!"},{"$error":"#VALUE!"},{"$error":"#VALUE!"},{"$error":"#VALUE!"},{"$error":"#VALUE!"},{"$error":"#VALUE!"},{"$error":"#VALUE!"},{"$error":"#VALUE!"},{"$error":"#VALUE!"},{"$error":"#VALUE!"},{"$error":"#VALUE!"},{"$error":"#VALUE!"}]
[null,"x",0,".",1,".",2,".",3,".",4,".",5,"_","_","_","_","_","_","_","_","_","_",11,24,null,null,null,null,null,null,24,null,0,54,null,0,84,null,0,114,null,0,144,null,0,174,null,0,204,null,0,234,null,0,264,null,0,294,null,0,null,null,24,0,"00",54,0,"00",84,0,"00",114,0,"00",144,0,"00",24,0,"00",54,0,"00",84,0,"00",114,0,"00",144,0,"00","","","","","","","","","","","",{"$error":"#VALUE!"},{"$error":"#VALUE!"},{"$error":"#VALUE!"},{"$error":"#VALUE!"},{"$error":"#VALUE!"},{"$error":"#VALUE!"},{"$error":"#VALUE!"},{"$error":"#VALUE!"},{"$error":"#VALUE!"},{"$error":"#VALUE!"},{"$error":"#VALUE!"},{"$error":"#VALUE!"},{"$error":"#VALUE!"},{"$error":"#VALUE!"},{"$error":"#VALUE!"},{"$error":"#VALUE!"},{"$error":"#VALUE!"},{"$error":"#VALUE!"},{"$error":"#VALUE!"},{"$error":"#VALUE!"},{"$error":"#VALUE!"},{"$error":"#VALUE!"},{"$error":"#VALUE!"},{"$error":"#VALUE!"},{"$error":"#VALUE!"},{"$error":"#VALUE!"},{"$error":"#VALUE!"},{"$error":"#VALUE!"},{"$error":"#VALUE!"},{"$error":"#VALUE!"},{"$error":"#VALUE!"},{"$error":"#VALUE!"},{"$error":"#VALUE!"},{"$error":"#VALUE!"},{"$error":"#VALUE!"},{"$error":"#VALUE!"},{"$error":"#VALUE!"},{"$error":"#VALUE!"},{"$error":"#VALUE!"},{"$error":"#VALUE!"},{"$error":"#VALUE!"},{"$error":"#VALUE!"},{"$error":"#VALUE!"},{"$error":"#VALUE!"},{"$error":"#VALUE!"},{"$error":"#VALUE!"},{"$error":"#VALUE!"},{"$error":"#VALUE!"},{"$error":"#VALUE!"},{"$error":"#VALUE!"},{"$error":"#VALUE!"},{"$error":"#VALUE!"},{"$error":"#VALUE!"},{"$error":"#VALUE!"},{"$error":"#VALUE!"},{"$error":"#VALUE!"},{"$error":"#VALUE!"},{"$error":"#VALUE!"},{"$error":"#VALUE!"},{"$error":"#VALUE!"},{"$error":"#VALUE!"},{"$error":"#VALUE!"},{"$error":"#VALUE!"},{"$error":"#VALUE!"},{"$error":"#VALUE!"},{"$error":"#VALUE!"},{"$error":"#VALUE!"},{"$error":"#VALUE!"},{"$error":"#VALUE!"},{"$error":"#VALUE!"},{"$error":"#VALUE!"},{"$error":"#VALUE!"},{"$error":"#VALUE!"},{"$error":"#VALUE!"},{"$error":"#VALUE!"},{"$error":"#VALUE!"},{"$error":"#VALUE!"},{"$error":"#VALUE!"},{"$error":"#VALUE!"},{"$error":"#VALUE!"},{"$error":"#VALUE!"},{"$error":"#VALUE!"},{"$error":"#VALUE!"},{"$error":"#VALUE!"},{"$error":"#VALUE!"},{"$error":"#VALUE!"},{"$error":"#VALUE!"},{"$error":"#VALUE!"},{"$error":"#VALUE!"},{"$error":"#VALUE!"},{"$error":"#VALUE!"},{"$error":"#VALUE!"},{"$error":"#VALUE!"},{"$error":"#VALUE!"},{"$error":"#VALUE!"},{"$error":"#VALUE!"},{"$error":"#VALUE!"},{"$error":"#VALUE!"},{"$error":"#VALUE!"},{"$error":"#VALUE!"},{"$error":"#VALUE!"},{"$error":"#VALUE!"},{"$error":"#VALUE!"},{"$error":"#VALUE!"},{"$error":"#VALUE!"},{"$error":"#VALUE!"},{"$error":"#VALUE!"},{"$error":"#VALUE!"},{"$error":"#VALUE!"},{"$error":"#VALUE!"},{"$error":"#VALUE!"}]
[null,"y",1,".",2,".",3,".",4,".",5,"_","_","_","_","_","_","_","_","_","_","_","_",9,25,null,null,null,null,null,null,25,null,0,55,null,0,85,null,0,115,null,0,145,null,0,175,null,0,205,null,0,235,null,0,265,null,0,295,null,0,null,null,25,0,"00",55,0,"00",85,0,"00",115,0,"00",145,0,"00",25,0,"00",55,0,"00",85,0,"00",115,0,"00",145,0,"00","","","","","","","","","","","",{"$error":"#VALUE!"},{"$error":"#VALUE!"},{"$error":"#VALUE!"},{"$error":"#VALUE!"},{"$error":"#VALUE!"},{"$error":"#VALUE!"},{"$error":"#VALUE!"},{"$error":"#VALUE!"},{"$error":"#VALUE!"},{"$error":"#VALUE!"},{"$error":"#VALUE!"},{"$error":"#VALUE!"},{"$error":"#VALUE!"},{"$error":"#VALUE!"},{"$error":"#VALUE!"},{"$error":"#VALUE!"},{"$error":"#VALUE!"},{"$error":"#VALUE!"},{"$error":"#VALUE!"},{"$error":"#VALUE!"},{"$error":"#VALUE!"},{"$error":"#VALUE!"},{"$error":"#VALUE!"},{"$error":"#VALUE!"},{"$error":"#VALUE!"},{"$error":"#VALUE!"},{"$error":"#VALUE!"},{"$error":"#VALUE!"},{"$error":"#VALUE!"},{"$error":"#VALUE!"},{"$error":"#VALUE!"},{"$error":"#VALUE!"},{"$error":"#VALUE!"},{"$error":"#VALUE!"},{"$error":"#VALUE!"},{"$error":"#VALUE!"},{"$error":"#VALUE!"},{"$error":"#VALUE!"},{"$error":"#VALUE!"},{"$error":"#VALUE!"},{"$error":"#VALUE!"},{"$error":"#VALUE!"},{"$error":"#VALUE!"},{"$error":"#VALUE!"},{"$error":"#VALUE!"},{"$error":"#VALUE!"},{"$error":"#VALUE!"},{"$error":"#VALUE!"},{"$error":"#VALUE!"},{"$error":"#VALUE!"},{"$error":"#VALUE!"},{"$error":"#VALUE!"},{"$error":"#VALUE!"},{"$error":"#VALUE!"},{"$error":"#VALUE!"},{"$error":"#VALUE!"},{"$error":"#VALUE!"},{"$error":"#VALUE!"},{"$error":"#VALUE!"},{"$error":"#VALUE!"},{"$error":"#VALUE!"},{"$error":"#VALUE!"},{"$error":"#VALUE!"},{"$error":"#VALUE!"},{"$error":"#VALUE!"},{"$error":"#VALUE!"},{"$error":"#VALUE!"},{"$error":"#VALUE!"},{"$error":"#VALUE!"},{"$error":"#VALUE!"},{"$error":"#VALUE!"},{"$error":"#VALUE!"},{"$error":"#VALUE!"},{"$error":"#VALUE!"},{"$error":"#VALUE!"},{"$error":"#VALUE!"},{"$error":"#VALUE!"},{"$error":"#VALUE!"},{"$error":"#VALUE!"},{"$error":"#VALUE!"},{"$error":"#VALUE!"},{"$error":"#VALUE!"},{"$error":"#VALUE!"},{"$error":"#VALUE!"},{"$error":"#VALUE!"},{"$error":"#VALUE!"},{"$error":"#VALUE!"},{"$error":"#VALUE!"},{"$error":"#VALUE!"},{"$error":"#VALUE!"},{"$error":"#VALUE!"},{"$error":"#VALUE!"},{"$error":"#VALUE!"},{"$error":"#VALUE!"},{"$error":"#VALUE!"},{"$error":"#VALUE!"},{"$error":"#VALUE!"},{"$error":"#VALUE!"},{"$error":"#VALUE!"},{"$error":"#VALUE!"},{"$error":"#VALUE!"},{"$error":"#VALUE!"},{"$error":"#VALUE!"},{"$error":"#VALUE!"},{"$error":"#VALUE!"},{"$error":"#VALUE!"},{"$error":"#VALUE!"},{"$error":"#VALUE!"},{"$error":"#VALUE!"},{"$error":"#VALUE!"},{"$error":"#VALUE!"}]
[null,1,".","_","_","_","_","_","_","_","_","_","_","_","_","_","_","_","_","_","_","_","_",{"$f":"19-COUNTIF(C31:W31,\"_\")","v":-1},26,null,null,null,null,null,null,26,null,0,56,null,0,86,null,0,116,null,0,146,null,0,176,null,0,206,null,0,236,null,0,266,null,0,296,null,0,null,null,26,0,"00",56,0,"00",86,0,"00",116,0,"00",146,0,"00",26,0,"00",56,0,"00",86,0,"00",116,0,"00",146,0,"00","","","","","","","","","","","",{"$error":"#VALUE!"},{"$error":"#VALUE!"},{"$error":"#VALUE!"},{"$error":"#VALUE!"},{"$error":"#VALUE!"},{"$error":"#VALUE!"},{"$error":"#VALUE!"},{"$error":"#VALUE!"},{"$error":"#VALUE!"},{"$error":"#VALUE!"},{"$error":"#VALUE!"},{"$error":"#VALUE!"},{"$error":"#VALUE!"},{"$error":"#VALUE!"},{"$error":"#VALUE!"},{"$error":"#VALUE!"},{"$error":"#VALUE!"},{"$error":"#VALUE!"},{"$error":"#VALUE!"},{"$error":"#VALUE!"},{"$error":"#VALUE!"},{"$error":"#VALUE!"},{"$error":"#VALUE!"},{"$error":"#VALUE!"},{"$error":"#VALUE!"},{"$error":"#VALUE!"},{"$error":"#VALUE!"},{"$error":"#VALUE!"},{"$error":"#VALUE!"},{"$error":"#VALUE!"},{"$error":"#VALUE!"},{"$error":"#VALUE!"},{"$error":"#VALUE!"},{"$error":"#VALUE!"},{"$error":"#VALUE!"},{"$error":"#VALUE!"},{"$error":"#VALUE!"},{"$error":"#VALUE!"},{"$error":"#VALUE!"},{"$error":"#VALUE!"},{"$error":"#VALUE!"},{"$error":"#VALUE!"},{"$error":"#VALUE!"},{"$error":"#VALUE!"},{"$error":"#VALUE!"},{"$error":"#VALUE!"},{"$error":"#VALUE!"},{"$error":"#VALUE!"},{"$error":"#VALUE!"},{"$error":"#VALUE!"},{"$error":"#VALUE!"},{"$error":"#VALUE!"},{"$error":"#VALUE!"},{"$error":"#VALUE!"},{"$error":"#VALUE!"},{"$error":"#VALUE!"},{"$error":"#VALUE!"},{"$error":"#VALUE!"},{"$error":"#VALUE!"},{"$error":"#VALUE!"},{"$error":"#VALUE!"},{"$error":"#VALUE!"},{"$error":"#VALUE!"},{"$error":"#VALUE!"},{"$error":"#VALUE!"},{"$error":"#VALUE!"},{"$error":"#VALUE!"},{"$error":"#VALUE!"},{"$error":"#VALUE!"},{"$error":"#VALUE!"},{"$error":"#VALUE!"},{"$error":"#VALUE!"},{"$error":"#VALUE!"},{"$error":"#VALUE!"},{"$error":"#VALUE!"},{"$error":"#VALUE!"},{"$error":"#VALUE!"},{"$error":"#VALUE!"},{"$error":"#VALUE!"},{"$error":"#VALUE!"},{"$error":"#VALUE!"},{"$error":"#VALUE!"},{"$error":"#VALUE!"},{"$error":"#VALUE!"},{"$error":"#VALUE!"},{"$error":"#VALUE!"},{"$error":"#VALUE!"},{"$error":"#VALUE!"},{"$error":"#VALUE!"},{"$error":"#VALUE!"},{"$error":"#VALUE!"},{"$error":"#VALUE!"},{"$error":"#VALUE!"},{"$error":"#VALUE!"},{"$error":"#VALUE!"},{"$error":"#VALUE!"},{"$error":"#VALUE!"},{"$error":"#VALUE!"},{"$error":"#VALUE!"},{"$error":"#VALUE!"},{"$error":"#VALUE!"},{"$error":"#VALUE!"},{"$error":"#VALUE!"},{"$error":"#VALUE!"},{"$error":"#VALUE!"},{"$error":"#VALUE!"},{"$error":"#VALUE!"},{"$error":"#VALUE!"},{"$error":"#VALUE!"},{"$error":"#VALUE!"},{"$error":"#VALUE!"}]
[null,2,".",".","_","_","_","_","_","_","_","_","_","_","_","_","_","_","_","_","_","_","_",-2,27,null,null,null,null,null,null,27,null,0,57,null,0,87,null,0,117,null,0,147,null,0,177,null,0,207,null,0,237,null,0,267,null,0,297,null,0,null,null,27,0,"00",57,0,"00",87,0,"00",117,0,"00",147,0,"00",27,0,"00",57,0,"00",87,0,"00",117,0,"00",147,0,"00","","","","","","","","","","","",{"$error":"#VALUE!"},{"$error":"#VALUE!"},{"$error":"#VALUE!"},{"$error":"#VALUE!"},{"$error":"#VALUE!"},{"$error":"#VALUE!"},{"$error":"#VALUE!"},{"$error":"#VALUE!"},{"$error":"#VALUE!"},{"$error":"#VALUE!"},{"$error":"#VALUE!"},{"$error":"#VALUE!"},{"$error":"#VALUE!"},{"$error":"#VALUE!"},{"$error":"#VALUE!"},{"$error":"#VALUE!"},{"$error":"#VALUE!"},{"$error":"#VALUE!"},{"$error":"#VALUE!"},{"$error":"#VALUE!"},{"$error":"#VALUE!"},{"$error":"#VALUE!"},{"$error":"#VALUE!"},{"$error":"#VALUE!"},{"$error":"#VALUE!"},{"$error":"#VALUE!"},{"$error":"#VALUE!"},{"$error":"#VALUE!"},{"$error":"#VALUE!"},{"$error":"#VALUE!"},{"$error":"#VALUE!"},{"$error":"#VALUE!"},{"$error":"#VALUE!"},{"$error":"#VALUE!"},{"$error":"#VALUE!"},{"$error":"#VALUE!"},{"$error":"#VALUE!"},{"$error":"#VALUE!"},{"$error":"#VALUE!"},{"$error":"#VALUE!"},{"$error":"#VALUE!"},{"$error":"#VALUE!"},{"$error":"#VALUE!"},{"$error":"#VALUE!"},{"$error":"#VALUE!"},{"$error":"#VALUE!"},{"$error":"#VALUE!"},{"$error":"#VALUE!"},{"$error":"#VALUE!"},{"$error":"#VALUE!"},{"$error":"#VALUE!"},{"$error":"#VALUE!"},{"$error":"#VALUE!"},{"$error":"#VALUE!"},{"$error":"#VALUE!"},{"$error":"#VALUE!"},{"$error":"#VALUE!"},{"$error":"#VALUE!"},{"$error":"#VALUE!"},{"$error":"#VALUE!"},{"$error":"#VALUE!"},{"$error":"#VALUE!"},{"$error":"#VALUE!"},{"$error":"#VALUE!"},{"$error":"#VALUE!"},{"$error":"#VALUE!"},{"$error":"#VALUE!"},{"$error":"#VALUE!"},{"$error":"#VALUE!"},{"$error":"#VALUE!"},{"$error":"#VALUE!"},{"$error":"#VALUE!"},{"$error":"#VALUE!"},{"$error":"#VALUE!"},{"$error":"#VALUE!"},{"$error":"#VALUE!"},{"$error":"#VALUE!"},{"$error":"#VALUE!"},{"$error":"#VALUE!"},{"$error":"#VALUE!"},{"$error":"#VALUE!"},{"$error":"#VALUE!"},{"$error":"#VALUE!"},{"$error":"#VALUE!"},{"$error":"#VALUE!"},{"$error":"#VALUE!"},{"$error":"#VALUE!"},{"$error":"#VALUE!"},{"$error":"#VALUE!"},{"$error":"#VALUE!"},{"$error":"#VALUE!"},{"$error":"#VALUE!"},{"$error":"#VALUE!"},{"$error":"#VALUE!"},{"$error":"#VALUE!"},{"$error":"#VALUE!"},{"$error":"#VALUE!"},{"$error":"#VALUE!"},{"$error":"#VALUE!"},{"$error":"#VALUE!"},{"$error":"#VALUE!"},{"$error":"#VALUE!"},{"$error":"#VALUE!"},{"$error":"#VALUE!"},{"$error":"#VALUE!"},{"$error":"#VALUE!"},{"$error":"#VALUE!"},{"$error":"#VALUE!"},{"$error":"#VALUE!"},{"$error":"#VALUE!"},{"$error":"#VALUE!"}]
[null,3,".",".",".","_","_","_","_","_","_","_","_","_","_","_","_","_","_","_","_","_","_",-3,28,null,null,null,null,null,null,{"$f":"AF37","v":0},{"$f":"AG37","v":""},0,0,"",0,0,"",0,0,"",0,0,"",0,0,"",0,0,"",0,0,"",0,0,"",0,0,0,0,null,null,28,0,"00",58,0,"00",88,0,"00",118,0,"00",148,0,"00",28,0,"00",58,0,"00",88,0,"00",118,0,"00",148,0,"00","","","","","","","","","","","",{"$error":"#VALUE!"},{"$error":"#VALUE!"},{"$error":"#VALUE!"},{"$error":"#VALUE!"},{"$error":"#VALUE!"},{"$error":"#VALUE!"},{"$error":"#VALUE!"},{"$error":"#VALUE!"},{"$error":"#VALUE!"},{"$error":"#VALUE!"},{"$error":"#VALUE!"},{"$error":"#VALUE!"},{"$error":"#VALUE!"},{"$error":"#VALUE!"},{"$error":"#VALUE!"},{"$error":"#VALUE!"},{"$error":"#VALUE!"},{"$error":"#VALUE!"},{"$error":"#VALUE!"},{"$error":"#VALUE!"},{"$error":"#VALUE!"},{"$error":"#VALUE!"},{"$error":"#VALUE!"},{"$error":"#VALUE!"},{"$error":"#VALUE!"},{"$error":"#VALUE!"},{"$error":"#VALUE!"},{"$error":"#VALUE!"},{"$error":"#VALUE!"},{"$error":"#VALUE!"},{"$error":"#VALUE!"},{"$error":"#VALUE!"},{"$error":"#VALUE!"},{"$error":"#VALUE!"},{"$error":"#VALUE!"},{"$error":"#VALUE!"},{"$error":"#VALUE!"},{"$error":"#VALUE!"},{"$error":"#VALUE!"},{"$error":"#VALUE!"},{"$error":"#VALUE!"},{"$error":"#VALUE!"},{"$error":"#VALUE!"},{"$error":"#VALUE!"},{"$error":"#VALUE!"},{"$error":"#VALUE!"},{"$error":"#VALUE!"},{"$error":"#VALUE!"},{"$error":"#VALUE!"},{"$error":"#VALUE!"},{"$error":"#VALUE!"},{"$error":"#VALUE!"},{"$error":"#VALUE!"},{"$error":"#VALUE!"},{"$error":"#VALUE!"},{"$error":"#VALUE!"},{"$error":"#VALUE!"},{"$error":"#VALUE!"},{"$error":"#VALUE!"},{"$error":"#VALUE!"},{"$error":"#VALUE!"},{"$error":"#VALUE!"},{"$error":"#VALUE!"},{"$error":"#VALUE!"},{"$error":"#VALUE!"},{"$error":"#VALUE!"},{"$error":"#VALUE!"},{"$error":"#VALUE!"},{"$error":"#VALUE!"},{"$error":"#VALUE!"},{"$error":"#VALUE!"},{"$error":"#VALUE!"},{"$error":"#VALUE!"},{"$error":"#VALUE!"},{"$error":"#VALUE!"},{"$error":"#VALUE!"},{"$error":"#VALUE!"},{"$error":"#VALUE!"},{"$error":"#VALUE!"},{"$error":"#VALUE!"},{"$error":"#VALUE!"},{"$error":"#VALUE!"},{"$error":"#VALUE!"},{"$error":"#VALUE!"},{"$error":"#VALUE!"},{"$error":"#VALUE!"},{"$error":"#VALUE!"},{"$error":"#VALUE!"},{"$error":"#VALUE!"},{"$error":"#VALUE!"},{"$error":"#VALUE!"},{"$error":"#VALUE!"},{"$error":"#VALUE!"},{"$error":"#VALUE!"},{"$error":"#VALUE!"},{"$error":"#VALUE!"},{"$error":"#VALUE!"},{"$error":"#VALUE!"},{"$error":"#VALUE!"},{"$error":"#VALUE!"},{"$error":"#VALUE!"},{"$error":"#VALUE!"},{"$error":"#VALUE!"},{"$error":"#VALUE!"},{"$error":"#VALUE!"},{"$error":"#VALUE!"},{"$error":"#VALUE!"},{"$error":"#VALUE!"},{"$error":"#VALUE!"},{"$error":"#VALUE!"},{"$error":"#VALUE!"}]
[null,4,".",".",".",".","_","_","_","_","_","_","_","_","_","_","_","_","_","_","_","_","_",-4,29,null,null,null,null,null,null,null,null,null,null,null,null,null,null,null,null,null,null,null,null,null,null,null,null,null,null,null,null,null,null,null,null,null,null,null,0,null,null,29,0,"00",59,0,"00",89,0,"00",119,0,"00",149,0,"00",29,0,"00",59,0,"00",89,0,"00",119,0,"00",149,0,"00","","","","","","","","","","","",{"$error":"#VALUE!"},{"$error":"#VALUE!"},{"$error":"#VALUE!"},{"$error":"#VALUE!"},{"$error":"#VALUE!"},{"$error":"#VALUE!"},{"$error":"#VALUE!"},{"$error":"#VALUE!"},{"$error":"#VALUE!"},{"$error":"#VALUE!"},{"$error":"#VALUE!"},{"$error":"#VALUE!"},{"$error":"#VALUE!"},{"$error":"#VALUE!"},{"$error":"#VALUE!"},{"$error":"#VALUE!"},{"$error":"#VALUE!"},{"$error":"#VALUE!"},{"$error":"#VALUE!"},{"$error":"#VALUE!"},{"$error":"#VALUE!"},{"$error":"#VALUE!"},{"$error":"#VALUE!"},{"$error":"#VALUE!"},{"$error":"#VALUE!"},{"$error":"#VALUE!"},{"$error":"#VALUE!"},{"$error":"#VALUE!"},{"$error":"#VALUE!"},{"$error":"#VALUE!"},{"$error":"#VALUE!"},{"$error":"#VALUE!"},{"$error":"#VALUE!"},{"$error":"#VALUE!"},{"$error":"#VALUE!"},{"$error":"#VALUE!"},{"$error":"#VALUE!"},{"$error":"#VALUE!"},{"$error":"#VALUE!"},{"$error":"#VALUE!"},{"$error":"#VALUE!"},{"$error":"#VALUE!"},{"$error":"#VALUE!"},{"$error":"#VALUE!"},{"$error":"#VALUE!"},{"$error":"#VALUE!"},{"$error":"#VALUE!"},{"$error":"#VALUE!"},{"$error":"#VALUE!"},{"$error":"#VALUE!"},{"$error":"#VALUE!"},{"$error":"#VALUE!"},{"$error":"#VALUE!"},{"$error":"#VALUE!"},{"$error":"#VALUE!"},{"$error":"#VALUE!"},{"$error":"#VALUE!"},{"$error":"#VALUE!"},{"$error":"#VALUE!"},{"$error":"#VALUE!"},{"$error":"#VALUE!"},{"$error":"#VALUE!"},{"$error":"#VALUE!"},{"$error":"#VALUE!"},{"$error":"#VALUE!"},{"$error":"#VALUE!"},{"$error":"#VALUE!"},{"$error":"#VALUE!"},{"$error":"#VALUE!"},{"$error":"#VALUE!"},{"$error":"#VALUE!"},{"$error":"#VALUE!"},{"$error":"#VALUE!"},{"$error":"#VALUE!"},{"$error":"#VALUE!"},{"$error":"#VALUE!"},{"$error":"#VALUE!"},{"$error":"#VALUE!"},{"$error":"#VALUE!"},{"$error":"#VALUE!"},{"$error":"#VALUE!"},{"$error":"#VALUE!"},{"$error":"#VALUE!"},{"$error":"#VALUE!"},{"$error":"#VALUE!"},{"$error":"#VALUE!"},{"$error":"#VALUE!"},{"$error":"#VALUE!"},{"$error":"#VALUE!"},{"$error":"#VALUE!"},{"$error":"#VALUE!"},{"$error":"#VALUE!"},{"$error":"#VALUE!"},{"$error":"#VALUE!"},{"$error":"#VALUE!"},{"$error":"#VALUE!"},{"$error":"#VALUE!"},{"$error":"#VALUE!"},{"$error":"#VALUE!"},{"$error":"#VALUE!"},{"$error":"#VALUE!"},{"$error":"#VALUE!"},{"$error":"#VALUE!"},{"$error":"#VALUE!"},{"$error":"#VALUE!"},{"$error":"#VALUE!"},{"$error":"#VALUE!"},{"$error":"#VALUE!"},{"$error":"#VALUE!"},{"$error":"#VALUE!"},{"$error":"#VALUE!"},null,null,null,null,null,null,null,null,null,null,null,null,"ここに「エラー」と出るとき"]
[null,5,".",".",".",".",".","_","_","_","_","_","_","_","_","_","_","_","_","_","_","_","_",-5,30,null,null,null,null,null,null,null,null,null,null,null,null,null,null,null,null,null,null,null,null,null,null,null,null,null,null,null,null,null,null,null,null,null,null,null,0,null,null,30,0,"00",60,0,"00",90,0,"00",120,0,"00",150,0,"00",30,0,"00",60,0,"00",90,0,"00",120,0,"00",150,0,"00","","","","","","","","","","","",{"$error":"#VALUE!"},{"$error":"#VALUE!"},{"$error":"#VALUE!"},{"$error":"#VALUE!"},{"$error":"#VALUE!"},{"$error":"#VALUE!"},{"$error":"#VALUE!"},{"$error":"#VALUE!"},{"$error":"#VALUE!"},{"$error":"#VALUE!"},{"$error":"#VALUE!"},{"$error":"#VALUE!"},{"$error":"#VALUE!"},{"$error":"#VALUE!"},{"$error":"#VALUE!"},{"$error":"#VALUE!"},{"$error":"#VALUE!"},{"$error":"#VALUE!"},{"$error":"#VALUE!"},{"$error":"#VALUE!"},{"$error":"#VALUE!"},{"$error":"#VALUE!"},{"$error":"#VALUE!"},{"$error":"#VALUE!"},{"$error":"#VALUE!"},{"$error":"#VALUE!"},{"$error":"#VALUE!"},{"$error":"#VALUE!"},{"$error":"#VALUE!"},{"$error":"#VALUE!"},{"$error":"#VALUE!"},{"$error":"#VALUE!"},{"$error":"#VALUE!"},{"$error":"#VALUE!"},{"$error":"#VALUE!"},{"$error":"#VALUE!"},{"$error":"#VALUE!"},{"$error":"#VALUE!"},{"$error":"#VALUE!"},{"$error":"#VALUE!"},{"$error":"#VALUE!"},{"$error":"#VALUE!"},{"$error":"#VALUE!"},{"$error":"#VALUE!"},{"$error":"#VALUE!"},{"$error":"#VALUE!"},{"$error":"#VALUE!"},{"$error":"#VALUE!"},{"$error":"#VALUE!"},{"$error":"#VALUE!"},{"$error":"#VALUE!"},{"$error":"#VALUE!"},{"$error":"#VALUE!"},{"$error":"#VALUE!"},{"$error":"#VALUE!"},{"$error":"#VALUE!"},{"$error":"#VALUE!"},{"$error":"#VALUE!"},{"$error":"#VALUE!"},{"$error":"#VALUE!"},{"$error":"#VALUE!"},{"$error":"#VALUE!"},{"$error":"#VALUE!"},{"$error":"#VALUE!"},{"$error":"#VALUE!"},{"$error":"#VALUE!"},{"$error":"#VALUE!"},{"$error":"#VALUE!"},{"$error":"#VALUE!"},{"$error":"#VALUE!"},{"$error":"#VALUE!"},{"$error":"#VALUE!"},{"$error":"#VALUE!"},{"$error":"#VALUE!"},{"$error":"#VALUE!"},{"$error":"#VALUE!"},{"$error":"#VALUE!"},{"$error":"#VALUE!"},{"$error":"#VALUE!"},{"$error":"#VALUE!"},{"$error":"#VALUE!"},{"$error":"#VALUE!"},{"$error":"#VALUE!"},{"$error":"#VALUE!"},{"$error":"#VALUE!"},{"$error":"#VALUE!"},{"$error":"#VALUE!"},{"$error":"#VALUE!"},{"$error":"#VALUE!"},{"$error":"#VALUE!"},{"$error":"#VALUE!"},{"$error":"#VALUE!"},{"$error":"#VALUE!"},{"$error":"#VALUE!"},{"$error":"#VALUE!"},{"$error":"#VALUE!"},{"$error":"#VALUE!"},{"$error":"#VALUE!"},{"$error":"#VALUE!"},{"$error":"#VALUE!"},{"$error":"#VALUE!"},{"$error":"#VALUE!"},{"$error":"#VALUE!"},{"$error":"#VALUE!"},{"$error":"#VALUE!"},{"$error":"#VALUE!"},{"$error":"#VALUE!"},{"$error":"#VALUE!"},{"$error":"#VALUE!"},{"$error":"#VALUE!"},{"$error":"#VALUE!"},null,null,null,null,null,null,null,null,null,null,null,null,"空白のみの列（Ⅰ～Ⅹ）がそうでない列の間にあるとき"]
[null,6,".",".",".",".",".",".","_","_","_","_","_","_","_","_","_","_","_","_","_","_","_",-6,31,null,null,null,null,null,null,null,{"$f":"COUNTA(AG6:AG32)","v":0},null,null,{"$f":"COUNTA(AJ6:AJ32)","v":0},null,null,{"$f":"COUNTA(AM6:AM32)","v":0},null,null,{"$f":"COUNTA(AP6:AP32)","v":0},null,null,{"$f":"COUNTA(AS6:AS32)","v":0},null,null,{"$f":"COUNTA(AV6:AV32)","v":0},null,null,{"$f":"COUNTA(AY6:AY32)","v":0},null,null,{"$f":"COUNTA(BB6:BB32)","v":0},null,null,{"$f":"COUNTA(BE6:BE32)","v":0},null,null,{"$f":"COUNTA(BH6:BH32)","v":0},null,null,null,"010203040506070809101112131415161718192021222324252627282930313233343536",{"$f":"MAX(BN36:BN37)","v":0},{"$f":"IF(MAX(BM6:BM35)>0,MAX(BM6:BM35)+2,0)","v":0},null,{"$f":"MAX(BQ36:BQ37)","v":0},{"$f":"IF(MAX(BP6:BP35)>0,MAX(BP6:BP35)+2,0)","v":0},null,{"$f":"MAX(BT36:BT37)","v":0},{"$f":"IF(MAX(BS6:BS35)>0,MAX(BS6:BS35)+2,0)","v":0},null,{"$f":"MAX(BW36:BW37)","v":0},{"$f":"IF(MAX(BV6:BV35)>0,MAX(BV6:BV35)+2,0)","v":0},null,{"$f":"MAX(BZ36:BZ37)","v":0},{"$f":"IF(MAX(BY6:BY35)>0,MAX(BY6:BY35)+2,0)","v":0},"010203040506070809101112131415161718192021",{"$f":"MAX(CC36:CC37)","v":0},{"$f":"IF(MAX(CB6:CB35)>0,MAX(CB6:CB35)+2,0)","v":0},null,{"$f":"MAX(CF36:CF37)","v":0},{"$f":"IF(MAX(CE6:CE35)>0,MAX(CE6:CE35)+2,0)","v":0},null,{"$f":"MAX(CI36:CI37)","v":0},{"$f":"IF(MAX(CH6:CH35)>0,MAX(CH6:CH35)+2,0)","v":0},null,{"$f":"MAX(CL36:CL37)","v":0},{"$f":"IF(MAX(CK6:CK35)>0,MAX(CK6:CK35)+2,0)","v":0},null,{"$f":"MAX(CO36:CO37)","v":0},{"$f":"IF(MAX(CN6:CN35)>0,MAX(CN6:CN35)+2,0)","v":0},{"$f":"LEFT($BL36,2*BM36)","v":""},{"$f":"LEFT(BL36,2*BP36)","v":""},{"$f":"LEFT(BL36,2*BS36)","v":""},{"$f":"LEFT($BL36,2*BV36)","v":""},{"$f":"LEFT($BL36,2*BY36)","v":""},{"$f":"LEFT($BL36,2*CB36)","v":""},{"$f":"LEFT($BL36,2*CE36)","v":""},{"$f":"LEFT($BL36,2*CH36)","v":""},{"$f":"LEFT($BL36,2*CK36)","v":""},{"$f":"LEFT($BL36,2*CN36)","v":""},"",{"$f":"VALUE(MID($CZ36,2*(DA$5-1)+1,2))","v":{"$error":"#VALUE!"}},{"$f":"VALUE(MID($CZ36,2*(DB$5-1)+1,2))","v":{"$error":"#VALUE!"}},{"$error":"#VALUE!"},{"$error":"#VALUE!"},{"$error":"#VALUE!"},{"$error":"#VALUE!"},{"$error":"#VALUE!"},{"$error":"#VALUE!"},{"$error":"#VALUE!"},{"$error":"#VALUE!"},{"$error":"#VALUE!"},{"$error":"#VALUE!"},{"$error":"#VALUE!"},{"$error":"#VALUE!"},{"$error":"#VALUE!"},{"$error":"#VALUE!"},{"$error":"#VALUE!"},{"$error":"#VALUE!"},{"$error":"#VALUE!"},{"$error":"#VALUE!"},{"$error":"#VALUE!"},{"$error":"#VALUE!"},{"$error":"#VALUE!"},{"$error":"#VALUE!"},{"$error":"#VALUE!"},{"$error":"#VALUE!"},{"$error":"#VALUE!"},{"$error":"#VALUE!"},{"$error":"#VALUE!"},{"$error":"#VALUE!"},{"$error":"#VALUE!"},{"$error":"#VALUE!"},{"$error":"#VALUE!"},{"$error":"#VALUE!"},{"$error":"#VALUE!"},{"$error":"#VALUE!"},{"$error":"#VALUE!"},{"$error":"#VALUE!"},{"$error":"#VALUE!"},{"$error":"#VALUE!"},{"$error":"#VALUE!"},{"$error":"#VALUE!"},{"$error":"#VALUE!"},{"$error":"#VALUE!"},{"$error":"#VALUE!"},{"$error":"#VALUE!"},{"$error":"#VALUE!"},{"$error":"#VALUE!"},{"$error":"#VALUE!"},{"$error":"#VALUE!"},{"$error":"#VALUE!"},{"$error":"#VALUE!"},{"$error":"#VALUE!"},{"$error":"#VALUE!"},{"$error":"#VALUE!"},{"$error":"#VALUE!"},{"$error":"#VALUE!"},{"$error":"#VALUE!"},{"$error":"#VALUE!"},{"$error":"#VALUE!"},{"$error":"#VALUE!"},{"$error":"#VALUE!"},{"$error":"#VALUE!"},{"$error":"#VALUE!"},{"$error":"#VALUE!"},{"$error":"#VALUE!"},{"$error":"#VALUE!"},{"$error":"#VALUE!"},{"$error":"#VALUE!"},{"$error":"#VALUE!"},{"$error":"#VALUE!"},{"$error":"#VALUE!"},{"$f":"VALUE(MID($CZ36,2*(FU$5-1)+1,2))","v":{"$error":"#VALUE!"}},{"$error":"#VALUE!"},{"$error":"#VALUE!"},{"$error":"#VALUE!"},{"$error":"#VALUE!"},{"$error":"#VALUE!"},{"$error":"#VALUE!"},{"$error":"#VALUE!"},{"$error":"#VALUE!"},{"$error":"#VALUE!"},{"$error":"#VALUE!"},{"$error":"#VALUE!"},{"$error":"#VALUE!"},{"$error":"#VALUE!"},{"$error":"#VALUE!"},{"$error":"#VALUE!"},{"$error":"#VALUE!"},{"$error":"#VALUE!"},{"$error":"#VALUE!"},{"$error":"#VALUE!"},{"$error":"#VALUE!"},{"$error":"#VALUE!"},{"$error":"#VALUE!"},{"$error":"#VALUE!"},{"$error":"#VALUE!"},{"$error":"#VALUE!"},{"$error":"#VALUE!"},{"$error":"#VALUE!"},{"$error":"#VALUE!"},{"$error":"#VALUE!"},{"$error":"#VALUE!"},{"$error":"#VALUE!"},{"$error":"#VALUE!"},{"$error":"#VALUE!"},{"$error":"#VALUE!"},{"$error":"#VALUE!"},{"$error":"#VALUE!"},{"$error":"#VALUE!"},{"$error":"#VALUE!"},null,null,null,null,null,null,null,null,null,null,null,null,"エラー表示されます。"]
[null,7,".",".",".",".",".",".",".","_","_","_","_","_","_","_","_","_","_","_","_","_","_",-7,32,null,null,null,null,null,null,null,{"$f":"IF(AND(SUM(AJ36:$BH$36)>0,AG36=0),\"ｴﾗｰ\",\"\")","v":""},null,null,{"$f":"IF(AND(SUM(AM36:$BH$36)>0,AJ36=0),\"ｴﾗｰ\",\"\")","v":""},null,null,{"$f":"IF(AND(SUM(AP36:$BH$36)>0,AM36=0),\"ｴﾗｰ\",\"\")","v":""},null,null,{"$f":"IF(AND(SUM(AS36:$BH$36)>0,AP36=0),\"ｴﾗｰ\",\"\")","v":""},null,null,{"$f":"IF(AND(SUM(AV36:$BH$36)>0,AS36=0),\"ｴﾗｰ\",\"\")","v":""},null,null,{"$f":"IF(AND(SUM(AY36:$BH$36)>0,AV36=0),\"ｴﾗｰ\",\"\")","v":""},null,null,{"$f":"IF(AND(SUM(BB36:$BH$36)>0,AY36=0),\"ｴﾗｰ\",\"\")","v":""},null,null,{"$f":"IF(AND(SUM(BE36:$BH$36)>0,BB36=0),\"ｴﾗｰ\",\"\")","v":""},null,null,{"$f":"IF(AND(SUM(BH36:$BH$36)>0,BE36=0),\"ｴﾗｰ\",\"\")","v":""},null,null,null,null,null,null,null,{"$f":"MAX(MAX(BM6:BM35),BN37)","v":0},{"$f":"IF(MIN(BM6:BM35)<0,-MIN(BM6:BM35),0)","v":0},null,{"$f":"MAX(MAX(BP6:BP35),BQ37)","v":0},{"$f":"IF(MIN(BP6:BP35)<0,-MIN(BP6:BP35),0)","v":0},null,{"$f":"MAX(MAX(BS6:BS35),BT37)","v":0},{"$f":"IF(MIN(BS6:BS35)<0,-MIN(BS6:BS35),0)","v":0},null,{"$f":"MAX(MAX(BV6:BV35),BW37)","v":0},{"$f":"IF(MIN(BV6:BV35)<0,-MIN(BV6:BV35),0)","v":0},null,{"$f":"MAX(MAX(BY6:BY35),BZ37)","v":0},{"$f":"IF(MIN(BY6:BY35)<0,-MIN(BY6:BY35),0)","v":0},null,{"$f":"MAX(MAX(CB6:CB35),CC37)","v":0},{"$f":"IF(MIN(CB6:CB35)<0,-MIN(CB6:CB35),0)","v":0},null,{"$f":"MAX(MAX(CE6:CE35),CF37)","v":0},{"$f":"IF(MIN(CE6:CE35)<0,-MIN(CE6:CE35),0)","v":0},null,{"$f":"MAX(MAX(CH6:CH35),CI37)","v":0},{"$f":"IF(MIN(CH6:CH35)<0,-MIN(CH6:CH35),0)","v":0},null,{"$f":"MAX(MAX(CK6:CK35),CL37)","v":0},{"$f":"IF(MIN(CK6:CK35)<0,-MIN(CK6:CK35),0)","v":0},null,{"$f":"MAX(MAX(CN6:CN35),CO37)","v":0},{"$f":"IF(MIN(CN6:CN35)<0,-MIN(CN6:CN35),0)","v":0},null,null,null,null,null,null,null,null,null,null,null,null,null,null,null,null,null,null,null,null,null,null,null,null,null,null,null,null,null,null,null,null,null,null,null,null,null,null,null,null,null,null,null,null,null,null,null,null,null,null,null,null,null,null,null,null,null,null,null,null,null,null,null,null,null,null,null,null,null,null,null,null,null,null,null,null,null,null,null,null,null,null,null,null,null,null,null,null,null,null,null,null,null,null,null,null,null,null,null,null,null,null,null,null,null,null,null,null,null,null,null,null,null,null,null,null,null,null,null,null,null,null,null,null,null,null,null,null,null,null,null,null,null,null,"マーク列に間隔を取る場合、数字（1～10）を列のどこか"]
[null,8,".",".",".",".",".",".",".",".","_","_","_","_","_","_","_","_","_","_","_","_","_",-8,33,null,null,null,null,null,null,null,null,null,null,null,null,null,null,null,null,null,null,null,null,null,null,null,null,null,null,null,null,null,null,null,null,null,null,null,null,null,null,null,0,null,null,null,null,null,null,null,null,null,null,null,null,null,null,null,null,null,null,null,null,null,null,null,null,null,null,null,null,null,null,null,null,null,null,null,null,null,null,null,null,null,null,null,null,null,null,null,null,null,null,null,null,null,null,null,null,null,null,null,null,null,null,null,null,null,null,null,null,null,null,null,null,null,null,null,null,null,null,null,null,null,null,null,null,null,null,null,null,null,null,null,null,null,null,null,null,null,null,null,null,null,null,null,null,null,null,null,null,null,null,null,null,null,null,null,null,null,null,null,null,null,null,null,null,null,null,null,null,null,null,null,null,null,null,null,null,null,null,null,null,null,null,null,null,null,null,null,null,null,null,null,null,null,null,null,null,null,null,null,null,null,null,"に記入してください。"]
[null,9,".",".",".",".",".",".",".",".",".","_","_","_","_","_","_","_","_","_","_","_","_",-9,34,null,null,null,null,null,null,null,null,null,null,null,null,null,null,null,null,null,null,null,null,null,null,null,null,null,null,null,null,null,null,null,null,null,null,null,null,null,null,{"$f":"BM37","v":0},1,1,{"$f":"(BM39+BM37-1)*BQ39","v":0},2,{"$f":"IF(BL39>0,1,0)","v":0},null,null,null,null,null,null,null,null,null,null,1,1,{"$f":"CB39+CB37-1","v":0},2]
[null,10,".",".",".",".",".",".",".",".",".",".","_","_","_","_","_","_","_","_","_","_","_",-10,35,null,null,null,null,null,null,null,null,null,null,null,null,null,null,null,null,null,null,null,null,null,null,null,null,null,null,null,null,null,null,null,null,null,null,null,null,null,null,{"$f":"BP37","v":0},{"$f":"(((BM39+BM36-1)*BQ39)+1)*BQ40","v":0},1,{"$f":"(BM40+BP37-1)*BQ40","v":0},2,{"$f":"IF(BL40>0,1,0)","v":0},null,null,null,null,null,null,null,null,null,null,{"$f":"CD39+3","v":3},1,{"$f":"CB40+CE37-1","v":2},2]
[null,null,null,null,null,null,null,null,null,null,null,null,null,null,null,null,null,null,null,null,null,null,null,null,null,null,null,null,null,null,null,null,null,null,null,null,null,null,null,null,null,null,null,null,null,null,null,null,null,null,null,null,null,null,null,null,null,null,null,null,null,null,null,{"$f":"BS37","v":0},{"$f":"(((((BM40+BP36-1)*BQ40))*BQ40)+1)*BQ41","v":0},1,{"$f":"(BM41+BS$37-1)*BQ41","v":0},2,{"$f":"IF(BL41>0,1,0)","v":0},null,null,null,null,null,null,null,null,null,null,{"$f":"CD40+3","v":5},1,{"$f":"CB41+CH37-1","v":4},2]
[null,null,null,null,null,null,null,null,null,null,null,null,null,null,null,null,null,null,null,null,null,null,null,null,null,null,null,null,null,null,null,null,null,null,null,null,null,null,null,null,null,null,null,null,null,null,null,null,null,null,null,null,null,null,null,null,null,null,null,null,null,null,null,{"$f":"BV37","v":0},{"$f":"((((BM41+BS36-1))*BQ41)+1)*BQ42","v":0},1,{"$f":"(BM42+BV$37-1)*BQ42","v":0},2,0,null,null,null,null,null,null,null,null,null,null,{"$f":"CD41+3","v":7},1,{"$f":"CB42+CK37-1","v":6},2]
[null,null,null,null,null,null,null,null,null,null,null,null,null,null,null,null,null,null,null,null,null,null,null,null,null,null,null,null,null,null,null,null,null,null,null,null,null,null,null,null,null,null,null,null,null,null,null,null,null,null,null,null,null,null,null,null,null,null,null,null,null,null,null,{"$f":"BY37","v":0},{"$f":"(((((BM42+BV$36-1)*BQ42))*BQ42)+1)*BQ43","v":0},1,{"$f":"(BM43+BY$37-1)*BQ43","v":0},2,0,null,null,null,null,null,null,null,null,null,null,{"$f":"CD42+3","v":9},1,{"$f":"CB43+CN37-1","v":8},2]
[null,null,null,null,null,null,null,null,null,null,null,null,null,null,null,null,null,null,null,null,null,null,null,null,null,null,null,null,null,null,null,null,null,null,null,null,null,null,null,null,null,null,null,null,null,null,null,null,null,null,null,null,null,null,null,null,null,null,null,null,null,null,null,{"$f":"CB37","v":0},{"$f":"(((((BM43+BY$36-1)*BQ43))*BQ43)+1)*BQ44","v":0},1,{"$f":"(BM44+CB$37-1)*BQ44","v":0},2,0]
[null,null,null,null,null,null,null,null,null,null,null,null,null,null,null,null,null,null,null,null,null,null,null,null,null,null,null,null,null,null,null,null,null,null,null,null,null,null,null,null,null,null,null,null,null,null,null,null,null,null,null,null,null,null,null,null,null,null,null,null,null,null,null,{"$f":"CE37","v":0},{"$f":"(((((BM44+CB$36-1)*BQ44))*BQ44)+1)*BQ45","v":0},1,{"$f":"(BM45+CE$37-1)*BQ45","v":0},2,0]
[null,null,null,null,null,null,null,null,null,null,null,null,null,null,null,null,null,null,null,null,null,null,null,null,null,null,null,null,null,null,null,null,null,null,null,null,null,null,null,null,null,null,null,null,null,null,null,null,null,null,null,null,null,null,null,null,null,null,null,null,null,null,null,{"$f":"CH37","v":0},{"$f":"(((((BM45+CE$36-1)*BQ45))*BQ45)+1)*BQ46","v":0},1,{"$f":"(BM46+CH$37-1)*BQ46","v":0},2,0]
[null,null,null,null,null,null,null,null,null,null,null,null,null,null,null,null,null,null,null,null,null,null,null,null,null,null,null,null,null,null,null,null,null,null,null,null,null,null,null,null,null,null,null,null,null,null,null,null,null,null,null,null,null,null,null,null,null,null,null,null,null,null,null,{"$f":"CK37","v":0},{"$f":"(((((BM46+CH$36-1)*BQ46))*BQ46)+1)*BQ47","v":0},1,{"$f":"(BM47+CK$37-1)*BQ47","v":0},2,0]
[null,null,null,null,null,null,null,null,null,null,null,null,null,null,null,null,null,null,null,null,null,null,null,null,null,null,null,null,null,null,null,null,null,null,null,null,null,null,null,null,null,null,null,null,null,null,null,null,null,null,null,null,null,null,null,null,null,null,null,null,null,null,null,{"$f":"CN37","v":0},{"$f":"(((((BM47+CK$36-1)*BQ47))*BQ47)+1)*BQ48","v":0},1,{"$f":"(BM48+CN$37-1)*BQ48","v":0},2,0]

{"sheet":"Mark_Shape","index":4,"n_rows":6,"n_cols":2,"rows_kept":6,"cut":false,"hidden":false,"merged":[]}
[]
[]
[null,1]
[null,2]
[null,3]
[null,4]

{"sheet":"Sheet4","index":5,"n_rows":34,"n_cols":74,"rows_kept":34,"cut":false,"hidden":true,"merged":[]}
[]
[]
[null,null,null,null,null,null,null,null,1,2,3,4,5,6,7,8,9,10,11,12,13,14,15,16,17,18,19,20,21,22,23,24,25,26,27,28,29,30,31,32,33,34,35,36,37,38,39,40,41,42,43,44,45,46,47,48,49,50,51,52,53,54,55,56,57,58,59,60,61,62,63,64,65,66]
[null,null,null,null,null,null,null,1,{"$f":"IF(OR(Marksheet!I4=\"_\",Marksheet!I4=\".\",Marksheet!I4=\"\"),0,1)","v":0},{"$f":"IF(OR(Marksheet!J4=\"_\",Marksheet!J4=\".\",Marksheet!J4=\"\"),0,1)","v":0},{"$f":"IF(OR(Marksheet!K4=\"_\",Marksheet!K4=\".\",Marksheet!K4=\"\"),0,1)","v":0},{"$f":"IF(OR(Marksheet!L4=\"_\",Marksheet!L4=\".\",Marksheet!L4=\"\"),0,1)","v":0},{"$f":"IF(OR(Marksheet!M4=\"_\",Marksheet!M4=\".\",Marksheet!M4=\"\"),0,1)","v":0},{"$f":"IF(OR(Marksheet!N4=\"_\",Marksheet!N4=\".\",Marksheet!N4=\"\"),0,1)","v":0},{"$f":"IF(OR(Marksheet!O4=\"_\",Marksheet!O4=\".\",Marksheet!O4=\"\"),0,1)","v":0},{"$f":"IF(OR(Marksheet!P4=\"_\",Marksheet!P4=\".\",Marksheet!P4=\"\"),0,1)","v":0},{"$f":"IF(OR(Marksheet!Q4=\"_\",Marksheet!Q4=\".\",Marksheet!Q4=\"\"),0,1)","v":0},{"$f":"IF(OR(Marksheet!R4=\"_\",Marksheet!R4=\".\",Marksheet!R4=\"\"),0,1)","v":0},{"$f":"IF(OR(Marksheet!S4=\"_\",Marksheet!S4=\".\",Marksheet!S4=\"\"),0,1)","v":0},{"$f":"IF(OR(Marksheet!T4=\"_\",Marksheet!T4=\".\",Marksheet!T4=\"\"),0,1)","v":0},{"$f":"IF(OR(Marksheet!U4=\"_\",Marksheet!U4=\".\",Marksheet!U4=\"\"),0,1)","v":0},{"$f":"IF(OR(Marksheet!V4=\"_\",Marksheet!V4=\".\",Marksheet!V4=\"\"),0,1)","v":0},{"$f":"IF(OR(Marksheet!W4=\"_\",Marksheet!W4=\".\",Marksheet!W4=\"\"),0,1)","v":0},{"$f":"IF(OR(Marksheet!X4=\"_\",Marksheet!X4=\".\",Marksheet!X4=\"\"),0,1)","v":0},{"$f":"IF(OR(Marksheet!Y4=\"_\",Marksheet!Y4=\".\",Marksheet!Y4=\"\"),0,1)","v":0},{"$f":"IF(OR(Marksheet!Z4=\"_\",Marksheet!Z4=\".\",Marksheet!Z4=\"\"),0,1)","v":0},{"$f":"IF(OR(Marksheet!AA4=\"_\",Marksheet!AA4=\".\",Marksheet!AA4=\"\"),0,1)","v":0},{"$f":"IF(OR(Marksheet!AB4=\"_\",Marksheet!AB4=\".\",Marksheet!AB4=\"\"),0,1)","v":0},{"$f":"IF(OR(Marksheet!AC4=\"_\",Marksheet!AC4=\".\",Marksheet!AC4=\"\"),0,1)","v":0},{"$f":"IF(OR(Marksheet!AD4=\"_\",Marksheet!AD4=\".\",Marksheet!AD4=\"\"),0,1)","v":0},{"$f":"IF(OR(Marksheet!AE4=\"_\",Marksheet!AE4=\".\",Marksheet!AE4=\"\"),0,1)","v":0},{"$f":"IF(OR(Marksheet!AF4=\"_\",Marksheet!AF4=\".\",Marksheet!AF4=\"\"),0,1)","v":0},{"$f":"IF(OR(Marksheet!AG4=\"_\",Marksheet!AG4=\".\",Marksheet!AG4=\"\"),0,1)","v":0},{"$f":"IF(OR(Marksheet!AH4=\"_\",Marksheet!AH4=\".\",Marksheet!AH4=\"\"),0,1)","v":0},{"$f":"IF(OR(Marksheet!AI4=\"_\",Marksheet!AI4=\".\",Marksheet!AI4=\"\"),0,1)","v":0},{"$f":"IF(OR(Marksheet!AJ4=\"_\",Marksheet!AJ4=\".\",Marksheet!AJ4=\"\"),0,1)","v":0},{"$f":"IF(OR(Marksheet!AK4=\"_\",Marksheet!AK4=\".\",Marksheet!AK4=\"\"),0,1)","v":0},{"$f":"IF(OR(Marksheet!AL4=\"_\",Marksheet!AL4=\".\",Marksheet!AL4=\"\"),0,1)","v":0},{"$f":"IF(OR(Marksheet!AM4=\"_\",Marksheet!AM4=\".\",Marksheet!AM4=\"\"),0,1)","v":0},{"$f":"IF(OR(Marksheet!AN4=\"_\",Marksheet!AN4=\".\",Marksheet!AN4=\"\"),0,1)","v":0},{"$f":"IF(OR(Marksheet!AO4=\"_\",Marksheet!AO4=\".\",Marksheet!AO4=\"\"),0,1)","v":0},{"$f":"IF(OR(Marksheet!AP4=\"_\",Marksheet!AP4=\".\",Marksheet!AP4=\"\"),0,1)","v":0},{"$f":"IF(OR(Marksheet!AQ4=\"_\",Marksheet!AQ4=\".\",Marksheet!AQ4=\"\"),0,1)","v":0},{"$f":"IF(OR(Marksheet!AR4=\"_\",Marksheet!AR4=\".\",Marksheet!AR4=\"\"),0,1)","v":0},{"$f":"IF(OR(Marksheet!AS4=\"_\",Marksheet!AS4=\".\",Marksheet!AS4=\"\"),0,1)","v":0},{"$f":"IF(OR(Marksheet!AT4=\"_\",Marksheet!AT4=\".\",Marksheet!AT4=\"\"),0,1)","v":0},{"$f":"IF(OR(Marksheet!AU4=\"_\",Marksheet!AU4=\".\",Marksheet!AU4=\"\"),0,1)","v":0},{"$f":"IF(OR(Marksheet!AV4=\"_\",Marksheet!AV4=\".\",Marksheet!AV4=\"\"),0,1)","v":0},{"$f":"IF(OR(Marksheet!AW4=\"_\",Marksheet!AW4=\".\",Marksheet!AW4=\"\"),0,1)","v":0},{"$f":"IF(OR(Marksheet!AX4=\"_\",Marksheet!AX4=\".\",Marksheet!AX4=\"\"),0,1)","v":0},{"$f":"IF(OR(Marksheet!AY4=\"_\",Marksheet!AY4=\".\",Marksheet!AY4=\"\"),0,1)","v":0},{"$f":"IF(OR(Marksheet!AZ4=\"_\",Marksheet!AZ4=\".\",Marksheet!AZ4=\"\"),0,1)","v":0},{"$f":"IF(OR(Marksheet!BA4=\"_\",Marksheet!BA4=\".\",Marksheet!BA4=\"\"),0,1)","v":0},{"$f":"IF(OR(Marksheet!BB4=\"_\",Marksheet!BB4=\".\",Marksheet!BB4=\"\"),0,1)","v":0},{"$f":"IF(OR(Marksheet!BC4=\"_\",Marksheet!BC4=\".\",Marksheet!BC4=\"\"),0,1)","v":0},{"$f":"IF(OR(Marksheet!BD4=\"_\",Marksheet!BD4=\".\",Marksheet!BD4=\"\"),0,1)","v":0},{"$f":"IF(OR(Marksheet!BE4=\"_\",Marksheet!BE4=\".\",Marksheet!BE4=\"\"),0,1)","v":0},{"$f":"IF(OR(Marksheet!BF4=\"_\",Marksheet!BF4=\".\",Marksheet!BF4=\"\"),0,1)","v":0},{"$f":"IF(OR(Marksheet!BG4=\"_\",Marksheet!BG4=\".\",Marksheet!BG4=\"\"),0,1)","v":0},{"$f":"IF(OR(Marksheet!BH4=\"_\",Marksheet!BH4=\".\",Marksheet!BH4=\"\"),0,1)","v":0},{"$f":"IF(OR(Marksheet!BI4=\"_\",Marksheet!BI4=\".\",Marksheet!BI4=\"\"),0,1)","v":0},{"$f":"IF(OR(Marksheet!BJ4=\"_\",Marksheet!BJ4=\".\",Marksheet!BJ4=\"\"),0,1)","v":0},{"$f":"IF(OR(Marksheet!BK4=\"_\",Marksheet!BK4=\".\",Marksheet!BK4=\"\"),0,1)","v":0},{"$f":"IF(OR(Marksheet!BL4=\"_\",Marksheet!BL4=\".\",Marksheet!BL4=\"\"),0,1)","v":0},{"$f":"IF(OR(Marksheet!BM4=\"_\",Marksheet!BM4=\".\",Marksheet!BM4=\"\"),0,1)","v":0},{"$f":"IF(OR(Marksheet!BN4=\"_\",Marksheet!BN4=\".\",Marksheet!BN4=\"\"),0,1)","v":0},{"$f":"IF(OR(Marksheet!BO4=\"_\",Marksheet!BO4=\".\",Marksheet!BO4=\"\"),0,1)","v":0},{"$f":"IF(OR(Marksheet!BP4=\"_\",Marksheet!BP4=\".\",Marksheet!BP4=\"\"),0,1)","v":0},{"$f":"IF(OR(Marksheet!BQ4=\"_\",Marksheet!BQ4=\".\",Marksheet!BQ4=\"\"),0,1)","v":0},{"$f":"IF(OR(Marksheet!BR4=\"_\",Marksheet!BR4=\".\",Marksheet!BR4=\"\"),0,1)","v":0},{"$f":"IF(OR(Marksheet!BS4=\"_\",Marksheet!BS4=\".\",Marksheet!BS4=\"\"),0,1)","v":0},{"$f":"IF(OR(Marksheet!BT4=\"_\",Marksheet!BT4=\".\",Marksheet!BT4=\"\"),0,1)","v":0},{"$f":"IF(OR(Marksheet!BU4=\"_\",Marksheet!BU4=\".\",Marksheet!BU4=\"\"),0,1)","v":0},{"$f":"IF(OR(Marksheet!BV4=\"_\",Marksheet!BV4=\".\",Marksheet!BV4=\"\"),0,1)","v":0}]
[null,null,null,null,null,null,null,2,{"$f":"IF(OR(Marksheet!I5=\"_\",Marksheet!I5=\".\",Marksheet!I5=\"\"),0,1)","v":0},{"$f":"IF(OR(Marksheet!J5=\"_\",Marksheet!J5=\".\",Marksheet!J5=\"\"),0,1)","v":0},{"$f":"IF(OR(Marksheet!K5=\"_\",Marksheet!K5=\".\",Marksheet!K5=\"\"),0,1)","v":0},{"$f":"IF(OR(Marksheet!L5=\"_\",Marksheet!L5=\".\",Marksheet!L5=\"\"),0,1)","v":0},{"$f":"IF(OR(Marksheet!M5=\"_\",Marksheet!M5=\".\",Marksheet!M5=\"\"),0,1)","v":0},{"$f":"IF(OR(Marksheet!N5=\"_\",Marksheet!N5=\".\",Marksheet!N5=\"\"),0,1)","v":0},{"$f":"IF(OR(Marksheet!O5=\"_\",Marksheet!O5=\".\",Marksheet!O5=\"\"),0,1)","v":0},{"$f":"IF(OR(Marksheet!P5=\"_\",Marksheet!P5=\".\",Marksheet!P5=\"\"),0,1)","v":0},{"$f":"IF(OR(Marksheet!Q5=\"_\",Marksheet!Q5=\".\",Marksheet!Q5=\"\"),0,1)","v":0},{"$f":"IF(OR(Marksheet!R5=\"_\",Marksheet!R5=\".\",Marksheet!R5=\"\"),0,1)","v":0},{"$f":"IF(OR(Marksheet!S5=\"_\",Marksheet!S5=\".\",Marksheet!S5=\"\"),0,1)","v":0},{"$f":"IF(OR(Marksheet!T5=\"_\",Marksheet!T5=\".\",Marksheet!T5=\"\"),0,1)","v":0},{"$f":"IF(OR(Marksheet!U5=\"_\",Marksheet!U5=\".\",Marksheet!U5=\"\"),0,1)","v":0},{"$f":"IF(OR(Marksheet!V5=\"_\",Marksheet!V5=\".\",Marksheet!V5=\"\"),0,1)","v":0},{"$f":"IF(OR(Marksheet!W5=\"_\",Marksheet!W5=\".\",Marksheet!W5=\"\"),0,1)","v":0},{"$f":"IF(OR(Marksheet!X5=\"_\",Marksheet!X5=\".\",Marksheet!X5=\"\"),0,1)","v":0},{"$f":"IF(OR(Marksheet!Y5=\"_\",Marksheet!Y5=\".\",Marksheet!Y5=\"\"),0,1)","v":0},{"$f":"IF(OR(Marksheet!Z5=\"_\",Marksheet!Z5=\".\",Marksheet!Z5=\"\"),0,1)","v":0},{"$f":"IF(OR(Marksheet!AA5=\"_\",Marksheet!AA5=\".\",Marksheet!AA5=\"\"),0,1)","v":0},{"$f":"IF(OR(Marksheet!AB5=\"_\",Marksheet!AB5=\".\",Marksheet!AB5=\"\"),0,1)","v":0},{"$f":"IF(OR(Marksheet!AC5=\"_\",Marksheet!AC5=\".\",Marksheet!AC5=\"\"),0,1)","v":0},{"$f":"IF(OR(Marksheet!AD5=\"_\",Marksheet!AD5=\".\",Marksheet!AD5=\"\"),0,1)","v":0},{"$f":"IF(OR(Marksheet!AE5=\"_\",Marksheet!AE5=\".\",Marksheet!AE5=\"\"),0,1)","v":0},{"$f":"IF(OR(Marksheet!AF5=\"_\",Marksheet!AF5=\".\",Marksheet!AF5=\"\"),0,1)","v":0},{"$f":"IF(OR(Marksheet!AG5=\"_\",Marksheet!AG5=\".\",Marksheet!AG5=\"\"),0,1)","v":0},{"$f":"IF(OR(Marksheet!AH5=\"_\",Marksheet!AH5=\".\",Marksheet!AH5=\"\"),0,1)","v":0},{"$f":"IF(OR(Marksheet!AI5=\"_\",Marksheet!AI5=\".\",Marksheet!AI5=\"\"),0,1)","v":0},{"$f":"IF(OR(Marksheet!AJ5=\"_\",Marksheet!AJ5=\".\",Marksheet!AJ5=\"\"),0,1)","v":0},{"$f":"IF(OR(Marksheet!AK5=\"_\",Marksheet!AK5=\".\",Marksheet!AK5=\"\"),0,1)","v":0},{"$f":"IF(OR(Marksheet!AL5=\"_\",Marksheet!AL5=\".\",Marksheet!AL5=\"\"),0,1)","v":0},{"$f":"IF(OR(Marksheet!AM5=\"_\",Marksheet!AM5=\".\",Marksheet!AM5=\"\"),0,1)","v":0},{"$f":"IF(OR(Marksheet!AN5=\"_\",Marksheet!AN5=\".\",Marksheet!AN5=\"\"),0,1)","v":0},{"$f":"IF(OR(Marksheet!AO5=\"_\",Marksheet!AO5=\".\",Marksheet!AO5=\"\"),0,1)","v":0},{"$f":"IF(OR(Marksheet!AP5=\"_\",Marksheet!AP5=\".\",Marksheet!AP5=\"\"),0,1)","v":0},{"$f":"IF(OR(Marksheet!AQ5=\"_\",Marksheet!AQ5=\".\",Marksheet!AQ5=\"\"),0,1)","v":0},{"$f":"IF(OR(Marksheet!AR5=\"_\",Marksheet!AR5=\".\",Marksheet!AR5=\"\"),0,1)","v":0},{"$f":"IF(OR(Marksheet!AS5=\"_\",Marksheet!AS5=\".\",Marksheet!AS5=\"\"),0,1)","v":0},{"$f":"IF(OR(Marksheet!AT5=\"_\",Marksheet!AT5=\".\",Marksheet!AT5=\"\"),0,1)","v":0},{"$f":"IF(OR(Marksheet!AU5=\"_\",Marksheet!AU5=\".\",Marksheet!AU5=\"\"),0,1)","v":0},{"$f":"IF(OR(Marksheet!AV5=\"_\",Marksheet!AV5=\".\",Marksheet!AV5=\"\"),0,1)","v":0},{"$f":"IF(OR(Marksheet!AW5=\"_\",Marksheet!AW5=\".\",Marksheet!AW5=\"\"),0,1)","v":0},{"$f":"IF(OR(Marksheet!AX5=\"_\",Marksheet!AX5=\".\",Marksheet!AX5=\"\"),0,1)","v":0},{"$f":"IF(OR(Marksheet!AY5=\"_\",Marksheet!AY5=\".\",Marksheet!AY5=\"\"),0,1)","v":0},{"$f":"IF(OR(Marksheet!AZ5=\"_\",Marksheet!AZ5=\".\",Marksheet!AZ5=\"\"),0,1)","v":0},{"$f":"IF(OR(Marksheet!BA5=\"_\",Marksheet!BA5=\".\",Marksheet!BA5=\"\"),0,1)","v":0},{"$f":"IF(OR(Marksheet!BB5=\"_\",Marksheet!BB5=\".\",Marksheet!BB5=\"\"),0,1)","v":0},{"$f":"IF(OR(Marksheet!BC5=\"_\",Marksheet!BC5=\".\",Marksheet!BC5=\"\"),0,1)","v":0},{"$f":"IF(OR(Marksheet!BD5=\"_\",Marksheet!BD5=\".\",Marksheet!BD5=\"\"),0,1)","v":0},{"$f":"IF(OR(Marksheet!BE5=\"_\",Marksheet!BE5=\".\",Marksheet!BE5=\"\"),0,1)","v":0},{"$f":"IF(OR(Marksheet!BF5=\"_\",Marksheet!BF5=\".\",Marksheet!BF5=\"\"),0,1)","v":0},{"$f":"IF(OR(Marksheet!BG5=\"_\",Marksheet!BG5=\".\",Marksheet!BG5=\"\"),0,1)","v":0},{"$f":"IF(OR(Marksheet!BH5=\"_\",Marksheet!BH5=\".\",Marksheet!BH5=\"\"),0,1)","v":0},{"$f":"IF(OR(Marksheet!BI5=\"_\",Marksheet!BI5=\".\",Marksheet!BI5=\"\"),0,1)","v":0},{"$f":"IF(OR(Marksheet!BJ5=\"_\",Marksheet!BJ5=\".\",Marksheet!BJ5=\"\"),0,1)","v":0},{"$f":"IF(OR(Marksheet!BK5=\"_\",Marksheet!BK5=\".\",Marksheet!BK5=\"\"),0,1)","v":0},{"$f":"IF(OR(Marksheet!BL5=\"_\",Marksheet!BL5=\".\",Marksheet!BL5=\"\"),0,1)","v":0},{"$f":"IF(OR(Marksheet!BM5=\"_\",Marksheet!BM5=\".\",Marksheet!BM5=\"\"),0,1)","v":0},{"$f":"IF(OR(Marksheet!BN5=\"_\",Marksheet!BN5=\".\",Marksheet!BN5=\"\"),0,1)","v":0},{"$f":"IF(OR(Marksheet!BO5=\"_\",Marksheet!BO5=\".\",Marksheet!BO5=\"\"),0,1)","v":0},{"$f":"IF(OR(Marksheet!BP5=\"_\",Marksheet!BP5=\".\",Marksheet!BP5=\"\"),0,1)","v":0},{"$f":"IF(OR(Marksheet!BQ5=\"_\",Marksheet!BQ5=\".\",Marksheet!BQ5=\"\"),0,1)","v":0},{"$f":"IF(OR(Marksheet!BR5=\"_\",Marksheet!BR5=\".\",Marksheet!BR5=\"\"),0,1)","v":0},{"$f":"IF(OR(Marksheet!BS5=\"_\",Marksheet!BS5=\".\",Marksheet!BS5=\"\"),0,1)","v":0},{"$f":"IF(OR(Marksheet!BT5=\"_\",Marksheet!BT5=\".\",Marksheet!BT5=\"\"),0,1)","v":0},{"$f":"IF(OR(Marksheet!BU5=\"_\",Marksheet!BU5=\".\",Marksheet!BU5=\"\"),0,1)","v":0},{"$f":"IF(OR(Marksheet!BV5=\"_\",Marksheet!BV5=\".\",Marksheet!BV5=\"\"),0,1)","v":0}]
[null,null,null,null,null,null,null,3,{"$f":"IF(OR(Marksheet!I6=\"_\",Marksheet!I6=\".\",Marksheet!I6=\"\"),0,1)","v":0},{"$f":"IF(OR(Marksheet!J6=\"_\",Marksheet!J6=\".\",Marksheet!J6=\"\"),0,1)","v":0},{"$f":"IF(OR(Marksheet!K6=\"_\",Marksheet!K6=\".\",Marksheet!K6=\"\"),0,1)","v":0},{"$f":"IF(OR(Marksheet!L6=\"_\",Marksheet!L6=\".\",Marksheet!L6=\"\"),0,1)","v":0},{"$f":"IF(OR(Marksheet!M6=\"_\",Marksheet!M6=\".\",Marksheet!M6=\"\"),0,1)","v":0},{"$f":"IF(OR(Marksheet!N6=\"_\",Marksheet!N6=\".\",Marksheet!N6=\"\"),0,1)","v":0},{"$f":"IF(OR(Marksheet!O6=\"_\",Marksheet!O6=\".\",Marksheet!O6=\"\"),0,1)","v":0},{"$f":"IF(OR(Marksheet!P6=\"_\",Marksheet!P6=\".\",Marksheet!P6=\"\"),0,1)","v":0},{"$f":"IF(OR(Marksheet!Q6=\"_\",Marksheet!Q6=\".\",Marksheet!Q6=\"\"),0,1)","v":0},{"$f":"IF(OR(Marksheet!R6=\"_\",Marksheet!R6=\".\",Marksheet!R6=\"\"),0,1)","v":0},{"$f":"IF(OR(Marksheet!S6=\"_\",Marksheet!S6=\".\",Marksheet!S6=\"\"),0,1)","v":0},{"$f":"IF(OR(Marksheet!T6=\"_\",Marksheet!T6=\".\",Marksheet!T6=\"\"),0,1)","v":0},{"$f":"IF(OR(Marksheet!U6=\"_\",Marksheet!U6=\".\",Marksheet!U6=\"\"),0,1)","v":0},{"$f":"IF(OR(Marksheet!V6=\"_\",Marksheet!V6=\".\",Marksheet!V6=\"\"),0,1)","v":0},{"$f":"IF(OR(Marksheet!W6=\"_\",Marksheet!W6=\".\",Marksheet!W6=\"\"),0,1)","v":0},{"$f":"IF(OR(Marksheet!X6=\"_\",Marksheet!X6=\".\",Marksheet!X6=\"\"),0,1)","v":0},{"$f":"IF(OR(Marksheet!Y6=\"_\",Marksheet!Y6=\".\",Marksheet!Y6=\"\"),0,1)","v":0},{"$f":"IF(OR(Marksheet!Z6=\"_\",Marksheet!Z6=\".\",Marksheet!Z6=\"\"),0,1)","v":0},{"$f":"IF(OR(Marksheet!AA6=\"_\",Marksheet!AA6=\".\",Marksheet!AA6=\"\"),0,1)","v":0},{"$f":"IF(OR(Marksheet!AB6=\"_\",Marksheet!AB6=\".\",Marksheet!AB6=\"\"),0,1)","v":0},{"$f":"IF(OR(Marksheet!AC6=\"_\",Marksheet!AC6=\".\",Marksheet!AC6=\"\"),0,1)","v":0},{"$f":"IF(OR(Marksheet!AD6=\"_\",Marksheet!AD6=\".\",Marksheet!AD6=\"\"),0,1)","v":0},{"$f":"IF(OR(Marksheet!AE6=\"_\",Marksheet!AE6=\".\",Marksheet!AE6=\"\"),0,1)","v":0},{"$f":"IF(OR(Marksheet!AF6=\"_\",Marksheet!AF6=\".\",Marksheet!AF6=\"\"),0,1)","v":0},{"$f":"IF(OR(Marksheet!AG6=\"_\",Marksheet!AG6=\".\",Marksheet!AG6=\"\"),0,1)","v":0},{"$f":"IF(OR(Marksheet!AH6=\"_\",Marksheet!AH6=\".\",Marksheet!AH6=\"\"),0,1)","v":0},{"$f":"IF(OR(Marksheet!AI6=\"_\",Marksheet!AI6=\".\",Marksheet!AI6=\"\"),0,1)","v":0},{"$f":"IF(OR(Marksheet!AJ6=\"_\",Marksheet!AJ6=\".\",Marksheet!AJ6=\"\"),0,1)","v":0},{"$f":"IF(OR(Marksheet!AK6=\"_\",Marksheet!AK6=\".\",Marksheet!AK6=\"\"),0,1)","v":0},{"$f":"IF(OR(Marksheet!AL6=\"_\",Marksheet!AL6=\".\",Marksheet!AL6=\"\"),0,1)","v":0},{"$f":"IF(OR(Marksheet!AM6=\"_\",Marksheet!AM6=\".\",Marksheet!AM6=\"\"),0,1)","v":0},{"$f":"IF(OR(Marksheet!AN6=\"_\",Marksheet!AN6=\".\",Marksheet!AN6=\"\"),0,1)","v":0},{"$f":"IF(OR(Marksheet!AO6=\"_\",Marksheet!AO6=\".\",Marksheet!AO6=\"\"),0,1)","v":0},{"$f":"IF(OR(Marksheet!AP6=\"_\",Marksheet!AP6=\".\",Marksheet!AP6=\"\"),0,1)","v":0},{"$f":"IF(OR(Marksheet!AQ6=\"_\",Marksheet!AQ6=\".\",Marksheet!AQ6=\"\"),0,1)","v":0},{"$f":"IF(OR(Marksheet!AR6=\"_\",Marksheet!AR6=\".\",Marksheet!AR6=\"\"),0,1)","v":0},{"$f":"IF(OR(Marksheet!AS6=\"_\",Marksheet!AS6=\".\",Marksheet!AS6=\"\"),0,1)","v":0},{"$f":"IF(OR(Marksheet!AT6=\"_\",Marksheet!AT6=\".\",Marksheet!AT6=\"\"),0,1)","v":0},{"$f":"IF(OR(Marksheet!AU6=\"_\",Marksheet!AU6=\".\",Marksheet!AU6=\"\"),0,1)","v":0},{"$f":"IF(OR(Marksheet!AV6=\"_\",Marksheet!AV6=\".\",Marksheet!AV6=\"\"),0,1)","v":0},{"$f":"IF(OR(Marksheet!AW6=\"_\",Marksheet!AW6=\".\",Marksheet!AW6=\"\"),0,1)","v":0},{"$f":"IF(OR(Marksheet!AX6=\"_\",Marksheet!AX6=\".\",Marksheet!AX6=\"\"),0,1)","v":0},{"$f":"IF(OR(Marksheet!AY6=\"_\",Marksheet!AY6=\".\",Marksheet!AY6=\"\"),0,1)","v":0},{"$f":"IF(OR(Marksheet!AZ6=\"_\",Marksheet!AZ6=\".\",Marksheet!AZ6=\"\"),0,1)","v":0},{"$f":"IF(OR(Marksheet!BA6=\"_\",Marksheet!BA6=\".\",Marksheet!BA6=\"\"),0,1)","v":0},{"$f":"IF(OR(Marksheet!BB6=\"_\",Marksheet!BB6=\".\",Marksheet!BB6=\"\"),0,1)","v":0},{"$f":"IF(OR(Marksheet!BC6=\"_\",Marksheet!BC6=\".\",Marksheet!BC6=\"\"),0,1)","v":0},{"$f":"IF(OR(Marksheet!BD6=\"_\",Marksheet!BD6=\".\",Marksheet!BD6=\"\"),0,1)","v":0},{"$f":"IF(OR(Marksheet!BE6=\"_\",Marksheet!BE6=\".\",Marksheet!BE6=\"\"),0,1)","v":0},{"$f":"IF(OR(Marksheet!BF6=\"_\",Marksheet!BF6=\".\",Marksheet!BF6=\"\"),0,1)","v":0},{"$f":"IF(OR(Marksheet!BG6=\"_\",Marksheet!BG6=\".\",Marksheet!BG6=\"\"),0,1)","v":0},{"$f":"IF(OR(Marksheet!BH6=\"_\",Marksheet!BH6=\".\",Marksheet!BH6=\"\"),0,1)","v":0},{"$f":"IF(OR(Marksheet!BI6=\"_\",Marksheet!BI6=\".\",Marksheet!BI6=\"\"),0,1)","v":0},{"$f":"IF(OR(Marksheet!BJ6=\"_\",Marksheet!BJ6=\".\",Marksheet!BJ6=\"\"),0,1)","v":0},{"$f":"IF(OR(Marksheet!BK6=\"_\",Marksheet!BK6=\".\",Marksheet!BK6=\"\"),0,1)","v":0},{"$f":"IF(OR(Marksheet!BL6=\"_\",Marksheet!BL6=\".\",Marksheet!BL6=\"\"),0,1)","v":0},{"$f":"IF(OR(Marksheet!BM6=\"_\",Marksheet!BM6=\".\",Marksheet!BM6=\"\"),0,1)","v":0},{"$f":"IF(OR(Marksheet!BN6=\"_\",Marksheet!BN6=\".\",Marksheet!BN6=\"\"),0,1)","v":0},{"$f":"IF(OR(Marksheet!BO6=\"_\",Marksheet!BO6=\".\",Marksheet!BO6=\"\"),0,1)","v":0},{"$f":"IF(OR(Marksheet!BP6=\"_\",Marksheet!BP6=\".\",Marksheet!BP6=\"\"),0,1)","v":0},{"$f":"IF(OR(Marksheet!BQ6=\"_\",Marksheet!BQ6=\".\",Marksheet!BQ6=\"\"),0,1)","v":0},{"$f":"IF(OR(Marksheet!BR6=\"_\",Marksheet!BR6=\".\",Marksheet!BR6=\"\"),0,1)","v":0},{"$f":"IF(OR(Marksheet!BS6=\"_\",Marksheet!BS6=\".\",Marksheet!BS6=\"\"),0,1)","v":0},{"$f":"IF(OR(Marksheet!BT6=\"_\",Marksheet!BT6=\".\",Marksheet!BT6=\"\"),0,1)","v":0},{"$f":"IF(OR(Marksheet!BU6=\"_\",Marksheet!BU6=\".\",Marksheet!BU6=\"\"),0,1)","v":0},{"$f":"IF(OR(Marksheet!BV6=\"_\",Marksheet!BV6=\".\",Marksheet!BV6=\"\"),0,1)","v":0}]
[null,null,null,null,null,null,null,4,{"$f":"IF(OR(Marksheet!I7=\"_\",Marksheet!I7=\".\",Marksheet!I7=\"\"),0,1)","v":0},{"$f":"IF(OR(Marksheet!J7=\"_\",Marksheet!J7=\".\",Marksheet!J7=\"\"),0,1)","v":0},{"$f":"IF(OR(Marksheet!K7=\"_\",Marksheet!K7=\".\",Marksheet!K7=\"\"),0,1)","v":0},{"$f":"IF(OR(Marksheet!L7=\"_\",Marksheet!L7=\".\",Marksheet!L7=\"\"),0,1)","v":0},{"$f":"IF(OR(Marksheet!M7=\"_\",Marksheet!M7=\".\",Marksheet!M7=\"\"),0,1)","v":0},{"$f":"IF(OR(Marksheet!N7=\"_\",Marksheet!N7=\".\",Marksheet!N7=\"\"),0,1)","v":0},{"$f":"IF(OR(Marksheet!O7=\"_\",Marksheet!O7=\".\",Marksheet!O7=\"\"),0,1)","v":0},{"$f":"IF(OR(Marksheet!P7=\"_\",Marksheet!P7=\".\",Marksheet!P7=\"\"),0,1)","v":0},{"$f":"IF(OR(Marksheet!Q7=\"_\",Marksheet!Q7=\".\",Marksheet!Q7=\"\"),0,1)","v":0},{"$f":"IF(OR(Marksheet!R7=\"_\",Marksheet!R7=\".\",Marksheet!R7=\"\"),0,1)","v":0},{"$f":"IF(OR(Marksheet!S7=\"_\",Marksheet!S7=\".\",Marksheet!S7=\"\"),0,1)","v":0},{"$f":"IF(OR(Marksheet!T7=\"_\",Marksheet!T7=\".\",Marksheet!T7=\"\"),0,1)","v":0},{"$f":"IF(OR(Marksheet!U7=\"_\",Marksheet!U7=\".\",Marksheet!U7=\"\"),0,1)","v":0},{"$f":"IF(OR(Marksheet!V7=\"_\",Marksheet!V7=\".\",Marksheet!V7=\"\"),0,1)","v":0},{"$f":"IF(OR(Marksheet!W7=\"_\",Marksheet!W7=\".\",Marksheet!W7=\"\"),0,1)","v":0},{"$f":"IF(OR(Marksheet!X7=\"_\",Marksheet!X7=\".\",Marksheet!X7=\"\"),0,1)","v":0},{"$f":"IF(OR(Marksheet!Y7=\"_\",Marksheet!Y7=\".\",Marksheet!Y7=\"\"),0,1)","v":0},{"$f":"IF(OR(Marksheet!Z7=\"_\",Marksheet!Z7=\".\",Marksheet!Z7=\"\"),0,1)","v":0},{"$f":"IF(OR(Marksheet!AA7=\"_\",Marksheet!AA7=\".\",Marksheet!AA7=\"\"),0,1)","v":0},{"$f":"IF(OR(Marksheet!AB7=\"_\",Marksheet!AB7=\".\",Marksheet!AB7=\"\"),0,1)","v":0},{"$f":"IF(OR(Marksheet!AC7=\"_\",Marksheet!AC7=\".\",Marksheet!AC7=\"\"),0,1)","v":0},{"$f":"IF(OR(Marksheet!AD7=\"_\",Marksheet!AD7=\".\",Marksheet!AD7=\"\"),0,1)","v":0},{"$f":"IF(OR(Marksheet!AE7=\"_\",Marksheet!AE7=\".\",Marksheet!AE7=\"\"),0,1)","v":0},{"$f":"IF(OR(Marksheet!AF7=\"_\",Marksheet!AF7=\".\",Marksheet!AF7=\"\"),0,1)","v":0},{"$f":"IF(OR(Marksheet!AG7=\"_\",Marksheet!AG7=\".\",Marksheet!AG7=\"\"),0,1)","v":0},{"$f":"IF(OR(Marksheet!AH7=\"_\",Marksheet!AH7=\".\",Marksheet!AH7=\"\"),0,1)","v":0},{"$f":"IF(OR(Marksheet!AI7=\"_\",Marksheet!AI7=\".\",Marksheet!AI7=\"\"),0,1)","v":0},{"$f":"IF(OR(Marksheet!AJ7=\"_\",Marksheet!AJ7=\".\",Marksheet!AJ7=\"\"),0,1)","v":0},{"$f":"IF(OR(Marksheet!AK7=\"_\",Marksheet!AK7=\".\",Marksheet!AK7=\"\"),0,1)","v":0},{"$f":"IF(OR(Marksheet!AL7=\"_\",Marksheet!AL7=\".\",Marksheet!AL7=\"\"),0,1)","v":0},{"$f":"IF(OR(Marksheet!AM7=\"_\",Marksheet!AM7=\".\",Marksheet!AM7=\"\"),0,1)","v":0},{"$f":"IF(OR(Marksheet!AN7=\"_\",Marksheet!AN7=\".\",Marksheet!AN7=\"\"),0,1)","v":0},{"$f":"IF(OR(Marksheet!AO7=\"_\",Marksheet!AO7=\".\",Marksheet!AO7=\"\"),0,1)","v":0},{"$f":"IF(OR(Marksheet!AP7=\"_\",Marksheet!AP7=\".\",Marksheet!AP7=\"\"),0,1)","v":0},{"$f":"IF(OR(Marksheet!AQ7=\"_\",Marksheet!AQ7=\".\",Marksheet!AQ7=\"\"),0,1)","v":0},{"$f":"IF(OR(Marksheet!AR7=\"_\",Marksheet!AR7=\".\",Marksheet!AR7=\"\"),0,1)","v":0},{"$f":"IF(OR(Marksheet!AS7=\"_\",Marksheet!AS7=\".\",Marksheet!AS7=\"\"),0,1)","v":0},{"$f":"IF(OR(Marksheet!AT7=\"_\",Marksheet!AT7=\".\",Marksheet!AT7=\"\"),0,1)","v":0},{"$f":"IF(OR(Marksheet!AU7=\"_\",Marksheet!AU7=\".\",Marksheet!AU7=\"\"),0,1)","v":0},{"$f":"IF(OR(Marksheet!AV7=\"_\",Marksheet!AV7=\".\",Marksheet!AV7=\"\"),0,1)","v":0},{"$f":"IF(OR(Marksheet!AW7=\"_\",Marksheet!AW7=\".\",Marksheet!AW7=\"\"),0,1)","v":0},{"$f":"IF(OR(Marksheet!AX7=\"_\",Marksheet!AX7=\".\",Marksheet!AX7=\"\"),0,1)","v":0},{"$f":"IF(OR(Marksheet!AY7=\"_\",Marksheet!AY7=\".\",Marksheet!AY7=\"\"),0,1)","v":0},{"$f":"IF(OR(Marksheet!AZ7=\"_\",Marksheet!AZ7=\".\",Marksheet!AZ7=\"\"),0,1)","v":0},{"$f":"IF(OR(Marksheet!BA7=\"_\",Marksheet!BA7=\".\",Marksheet!BA7=\"\"),0,1)","v":0},{"$f":"IF(OR(Marksheet!BB7=\"_\",Marksheet!BB7=\".\",Marksheet!BB7=\"\"),0,1)","v":0},{"$f":"IF(OR(Marksheet!BC7=\"_\",Marksheet!BC7=\".\",Marksheet!BC7=\"\"),0,1)","v":0},{"$f":"IF(OR(Marksheet!BD7=\"_\",Marksheet!BD7=\".\",Marksheet!BD7=\"\"),0,1)","v":0},{"$f":"IF(OR(Marksheet!BE7=\"_\",Marksheet!BE7=\".\",Marksheet!BE7=\"\"),0,1)","v":0},{"$f":"IF(OR(Marksheet!BF7=\"_\",Marksheet!BF7=\".\",Marksheet!BF7=\"\"),0,1)","v":0},{"$f":"IF(OR(Marksheet!BG7=\"_\",Marksheet!BG7=\".\",Marksheet!BG7=\"\"),0,1)","v":0},{"$f":"IF(OR(Marksheet!BH7=\"_\",Marksheet!BH7=\".\",Marksheet!BH7=\"\"),0,1)","v":0},{"$f":"IF(OR(Marksheet!BI7=\"_\",Marksheet!BI7=\".\",Marksheet!BI7=\"\"),0,1)","v":0},{"$f":"IF(OR(Marksheet!BJ7=\"_\",Marksheet!BJ7=\".\",Marksheet!BJ7=\"\"),0,1)","v":0},{"$f":"IF(OR(Marksheet!BK7=\"_\",Marksheet!BK7=\".\",Marksheet!BK7=\"\"),0,1)","v":0},{"$f":"IF(OR(Marksheet!BL7=\"_\",Marksheet!BL7=\".\",Marksheet!BL7=\"\"),0,1)","v":0},{"$f":"IF(OR(Marksheet!BM7=\"_\",Marksheet!BM7=\".\",Marksheet!BM7=\"\"),0,1)","v":0},{"$f":"IF(OR(Marksheet!BN7=\"_\",Marksheet!BN7=\".\",Marksheet!BN7=\"\"),0,1)","v":0},{"$f":"IF(OR(Marksheet!BO7=\"_\",Marksheet!BO7=\".\",Marksheet!BO7=\"\"),0,1)","v":0},{"$f":"IF(OR(Marksheet!BP7=\"_\",Marksheet!BP7=\".\",Marksheet!BP7=\"\"),0,1)","v":0},{"$f":"IF(OR(Marksheet!BQ7=\"_\",Marksheet!BQ7=\".\",Marksheet!BQ7=\"\"),0,1)","v":0},{"$f":"IF(OR(Marksheet!BR7=\"_\",Marksheet!BR7=\".\",Marksheet!BR7=\"\"),0,1)","v":0},{"$f":"IF(OR(Marksheet!BS7=\"_\",Marksheet!BS7=\".\",Marksheet!BS7=\"\"),0,1)","v":0},{"$f":"IF(OR(Marksheet!BT7=\"_\",Marksheet!BT7=\".\",Marksheet!BT7=\"\"),0,1)","v":0},{"$f":"IF(OR(Marksheet!BU7=\"_\",Marksheet!BU7=\".\",Marksheet!BU7=\"\"),0,1)","v":0},{"$f":"IF(OR(Marksheet!BV7=\"_\",Marksheet!BV7=\".\",Marksheet!BV7=\"\"),0,1)","v":0}]
[null,null,null,null,null,null,null,5,{"$f":"IF(OR(Marksheet!I8=\"_\",Marksheet!I8=\".\",Marksheet!I8=\"\"),0,1)","v":0},{"$f":"IF(OR(Marksheet!J8=\"_\",Marksheet!J8=\".\",Marksheet!J8=\"\"),0,1)","v":0},{"$f":"IF(OR(Marksheet!K8=\"_\",Marksheet!K8=\".\",Marksheet!K8=\"\"),0,1)","v":0},{"$f":"IF(OR(Marksheet!L8=\"_\",Marksheet!L8=\".\",Marksheet!L8=\"\"),0,1)","v":0},{"$f":"IF(OR(Marksheet!M8=\"_\",Marksheet!M8=\".\",Marksheet!M8=\"\"),0,1)","v":0},{"$f":"IF(OR(Marksheet!N8=\"_\",Marksheet!N8=\".\",Marksheet!N8=\"\"),0,1)","v":0},{"$f":"IF(OR(Marksheet!O8=\"_\",Marksheet!O8=\".\",Marksheet!O8=\"\"),0,1)","v":0},{"$f":"IF(OR(Marksheet!P8=\"_\",Marksheet!P8=\".\",Marksheet!P8=\"\"),0,1)","v":0},{"$f":"IF(OR(Marksheet!Q8=\"_\",Marksheet!Q8=\".\",Marksheet!Q8=\"\"),0,1)","v":0},{"$f":"IF(OR(Marksheet!R8=\"_\",Marksheet!R8=\".\",Marksheet!R8=\"\"),0,1)","v":0},{"$f":"IF(OR(Marksheet!S8=\"_\",Marksheet!S8=\".\",Marksheet!S8=\"\"),0,1)","v":0},{"$f":"IF(OR(Marksheet!T8=\"_\",Marksheet!T8=\".\",Marksheet!T8=\"\"),0,1)","v":0},{"$f":"IF(OR(Marksheet!U8=\"_\",Marksheet!U8=\".\",Marksheet!U8=\"\"),0,1)","v":0},{"$f":"IF(OR(Marksheet!V8=\"_\",Marksheet!V8=\".\",Marksheet!V8=\"\"),0,1)","v":0},{"$f":"IF(OR(Marksheet!W8=\"_\",Marksheet!W8=\".\",Marksheet!W8=\"\"),0,1)","v":0},{"$f":"IF(OR(Marksheet!X8=\"_\",Marksheet!X8=\".\",Marksheet!X8=\"\"),0,1)","v":0},{"$f":"IF(OR(Marksheet!Y8=\"_\",Marksheet!Y8=\".\",Marksheet!Y8=\"\"),0,1)","v":0},{"$f":"IF(OR(Marksheet!Z8=\"_\",Marksheet!Z8=\".\",Marksheet!Z8=\"\"),0,1)","v":0},{"$f":"IF(OR(Marksheet!AA8=\"_\",Marksheet!AA8=\".\",Marksheet!AA8=\"\"),0,1)","v":0},{"$f":"IF(OR(Marksheet!AB8=\"_\",Marksheet!AB8=\".\",Marksheet!AB8=\"\"),0,1)","v":0},{"$f":"IF(OR(Marksheet!AC8=\"_\",Marksheet!AC8=\".\",Marksheet!AC8=\"\"),0,1)","v":0},{"$f":"IF(OR(Marksheet!AD8=\"_\",Marksheet!AD8=\".\",Marksheet!AD8=\"\"),0,1)","v":0},{"$f":"IF(OR(Marksheet!AE8=\"_\",Marksheet!AE8=\".\",Marksheet!AE8=\"\"),0,1)","v":0},{"$f":"IF(OR(Marksheet!AF8=\"_\",Marksheet!AF8=\".\",Marksheet!AF8=\"\"),0,1)","v":0},{"$f":"IF(OR(Marksheet!AG8=\"_\",Marksheet!AG8=\".\",Marksheet!AG8=\"\"),0,1)","v":0},{"$f":"IF(OR(Marksheet!AH8=\"_\",Marksheet!AH8=\".\",Marksheet!AH8=\"\"),0,1)","v":0},{"$f":"IF(OR(Marksheet!AI8=\"_\",Marksheet!AI8=\".\",Marksheet!AI8=\"\"),0,1)","v":0},{"$f":"IF(OR(Marksheet!AJ8=\"_\",Marksheet!AJ8=\".\",Marksheet!AJ8=\"\"),0,1)","v":0},{"$f":"IF(OR(Marksheet!AK8=\"_\",Marksheet!AK8=\".\",Marksheet!AK8=\"\"),0,1)","v":0},{"$f":"IF(OR(Marksheet!AL8=\"_\",Marksheet!AL8=\".\",Marksheet!AL8=\"\"),0,1)","v":0},{"$f":"IF(OR(Marksheet!AM8=\"_\",Marksheet!AM8=\".\",Marksheet!AM8=\"\"),0,1)","v":0},{"$f":"IF(OR(Marksheet!AN8=\"_\",Marksheet!AN8=\".\",Marksheet!AN8=\"\"),0,1)","v":0},{"$f":"IF(OR(Marksheet!AO8=\"_\",Marksheet!AO8=\".\",Marksheet!AO8=\"\"),0,1)","v":0},{"$f":"IF(OR(Marksheet!AP8=\"_\",Marksheet!AP8=\".\",Marksheet!AP8=\"\"),0,1)","v":0},{"$f":"IF(OR(Marksheet!AQ8=\"_\",Marksheet!AQ8=\".\",Marksheet!AQ8=\"\"),0,1)","v":0},{"$f":"IF(OR(Marksheet!AR8=\"_\",Marksheet!AR8=\".\",Marksheet!AR8=\"\"),0,1)","v":0},{"$f":"IF(OR(Marksheet!AS8=\"_\",Marksheet!AS8=\".\",Marksheet!AS8=\"\"),0,1)","v":0},{"$f":"IF(OR(Marksheet!AT8=\"_\",Marksheet!AT8=\".\",Marksheet!AT8=\"\"),0,1)","v":0},{"$f":"IF(OR(Marksheet!AU8=\"_\",Marksheet!AU8=\".\",Marksheet!AU8=\"\"),0,1)","v":0},{"$f":"IF(OR(Marksheet!AV8=\"_\",Marksheet!AV8=\".\",Marksheet!AV8=\"\"),0,1)","v":0},{"$f":"IF(OR(Marksheet!AW8=\"_\",Marksheet!AW8=\".\",Marksheet!AW8=\"\"),0,1)","v":0},{"$f":"IF(OR(Marksheet!AX8=\"_\",Marksheet!AX8=\".\",Marksheet!AX8=\"\"),0,1)","v":0},{"$f":"IF(OR(Marksheet!AY8=\"_\",Marksheet!AY8=\".\",Marksheet!AY8=\"\"),0,1)","v":0},{"$f":"IF(OR(Marksheet!AZ8=\"_\",Marksheet!AZ8=\".\",Marksheet!AZ8=\"\"),0,1)","v":0},{"$f":"IF(OR(Marksheet!BA8=\"_\",Marksheet!BA8=\".\",Marksheet!BA8=\"\"),0,1)","v":0},{"$f":"IF(OR(Marksheet!BB8=\"_\",Marksheet!BB8=\".\",Marksheet!BB8=\"\"),0,1)","v":0},{"$f":"IF(OR(Marksheet!BC8=\"_\",Marksheet!BC8=\".\",Marksheet!BC8=\"\"),0,1)","v":0},{"$f":"IF(OR(Marksheet!BD8=\"_\",Marksheet!BD8=\".\",Marksheet!BD8=\"\"),0,1)","v":0},{"$f":"IF(OR(Marksheet!BE8=\"_\",Marksheet!BE8=\".\",Marksheet!BE8=\"\"),0,1)","v":0},{"$f":"IF(OR(Marksheet!BF8=\"_\",Marksheet!BF8=\".\",Marksheet!BF8=\"\"),0,1)","v":0},{"$f":"IF(OR(Marksheet!BG8=\"_\",Marksheet!BG8=\".\",Marksheet!BG8=\"\"),0,1)","v":0},{"$f":"IF(OR(Marksheet!BH8=\"_\",Marksheet!BH8=\".\",Marksheet!BH8=\"\"),0,1)","v":0},{"$f":"IF(OR(Marksheet!BI8=\"_\",Marksheet!BI8=\".\",Marksheet!BI8=\"\"),0,1)","v":0},{"$f":"IF(OR(Marksheet!BJ8=\"_\",Marksheet!BJ8=\".\",Marksheet!BJ8=\"\"),0,1)","v":0},{"$f":"IF(OR(Marksheet!BK8=\"_\",Marksheet!BK8=\".\",Marksheet!BK8=\"\"),0,1)","v":0},{"$f":"IF(OR(Marksheet!BL8=\"_\",Marksheet!BL8=\".\",Marksheet!BL8=\"\"),0,1)","v":0},{"$f":"IF(OR(Marksheet!BM8=\"_\",Marksheet!BM8=\".\",Marksheet!BM8=\"\"),0,1)","v":0},{"$f":"IF(OR(Marksheet!BN8=\"_\",Marksheet!BN8=\".\",Marksheet!BN8=\"\"),0,1)","v":0},{"$f":"IF(OR(Marksheet!BO8=\"_\",Marksheet!BO8=\".\",Marksheet!BO8=\"\"),0,1)","v":0},{"$f":"IF(OR(Marksheet!BP8=\"_\",Marksheet!BP8=\".\",Marksheet!BP8=\"\"),0,1)","v":0},{"$f":"IF(OR(Marksheet!BQ8=\"_\",Marksheet!BQ8=\".\",Marksheet!BQ8=\"\"),0,1)","v":0},{"$f":"IF(OR(Marksheet!BR8=\"_\",Marksheet!BR8=\".\",Marksheet!BR8=\"\"),0,1)","v":0},{"$f":"IF(OR(Marksheet!BS8=\"_\",Marksheet!BS8=\".\",Marksheet!BS8=\"\"),0,1)","v":0},{"$f":"IF(OR(Marksheet!BT8=\"_\",Marksheet!BT8=\".\",Marksheet!BT8=\"\"),0,1)","v":0},{"$f":"IF(OR(Marksheet!BU8=\"_\",Marksheet!BU8=\".\",Marksheet!BU8=\"\"),0,1)","v":0},{"$f":"IF(OR(Marksheet!BV8=\"_\",Marksheet!BV8=\".\",Marksheet!BV8=\"\"),0,1)","v":0}]
[null,null,null,null,null,null,null,6,{"$f":"IF(OR(Marksheet!I9=\"_\",Marksheet!I9=\".\",Marksheet!I9=\"\"),0,1)","v":0},{"$f":"IF(OR(Marksheet!J9=\"_\",Marksheet!J9=\".\",Marksheet!J9=\"\"),0,1)","v":0},{"$f":"IF(OR(Marksheet!K9=\"_\",Marksheet!K9=\".\",Marksheet!K9=\"\"),0,1)","v":0},{"$f":"IF(OR(Marksheet!L9=\"_\",Marksheet!L9=\".\",Marksheet!L9=\"\"),0,1)","v":0},{"$f":"IF(OR(Marksheet!M9=\"_\",Marksheet!M9=\".\",Marksheet!M9=\"\"),0,1)","v":0},{"$f":"IF(OR(Marksheet!N9=\"_\",Marksheet!N9=\".\",Marksheet!N9=\"\"),0,1)","v":0},{"$f":"IF(OR(Marksheet!O9=\"_\",Marksheet!O9=\".\",Marksheet!O9=\"\"),0,1)","v":0},{"$f":"IF(OR(Marksheet!P9=\"_\",Marksheet!P9=\".\",Marksheet!P9=\"\"),0,1)","v":0},{"$f":"IF(OR(Marksheet!Q9=\"_\",Marksheet!Q9=\".\",Marksheet!Q9=\"\"),0,1)","v":0},{"$f":"IF(OR(Marksheet!R9=\"_\",Marksheet!R9=\".\",Marksheet!R9=\"\"),0,1)","v":0},{"$f":"IF(OR(Marksheet!S9=\"_\",Marksheet!S9=\".\",Marksheet!S9=\"\"),0,1)","v":0},{"$f":"IF(OR(Marksheet!T9=\"_\",Marksheet!T9=\".\",Marksheet!T9=\"\"),0,1)","v":0},{"$f":"IF(OR(Marksheet!U9=\"_\",Marksheet!U9=\".\",Marksheet!U9=\"\"),0,1)","v":0},{"$f":"IF(OR(Marksheet!V9=\"_\",Marksheet!V9=\".\",Marksheet!V9=\"\"),0,1)","v":0},{"$f":"IF(OR(Marksheet!W9=\"_\",Marksheet!W9=\".\",Marksheet!W9=\"\"),0,1)","v":0},{"$f":"IF(OR(Marksheet!X9=\"_\",Marksheet!X9=\".\",Marksheet!X9=\"\"),0,1)","v":0},{"$f":"IF(OR(Marksheet!Y9=\"_\",Marksheet!Y9=\".\",Marksheet!Y9=\"\"),0,1)","v":0},{"$f":"IF(OR(Marksheet!Z9=\"_\",Marksheet!Z9=\".\",Marksheet!Z9=\"\"),0,1)","v":0},{"$f":"IF(OR(Marksheet!AA9=\"_\",Marksheet!AA9=\".\",Marksheet!AA9=\"\"),0,1)","v":0},{"$f":"IF(OR(Marksheet!AB9=\"_\",Marksheet!AB9=\".\",Marksheet!AB9=\"\"),0,1)","v":0},{"$f":"IF(OR(Marksheet!AC9=\"_\",Marksheet!AC9=\".\",Marksheet!AC9=\"\"),0,1)","v":0},{"$f":"IF(OR(Marksheet!AD9=\"_\",Marksheet!AD9=\".\",Marksheet!AD9=\"\"),0,1)","v":0},{"$f":"IF(OR(Marksheet!AE9=\"_\",Marksheet!AE9=\".\",Marksheet!AE9=\"\"),0,1)","v":0},{"$f":"IF(OR(Marksheet!AF9=\"_\",Marksheet!AF9=\".\",Marksheet!AF9=\"\"),0,1)","v":0},{"$f":"IF(OR(Marksheet!AG9=\"_\",Marksheet!AG9=\".\",Marksheet!AG9=\"\"),0,1)","v":0},{"$f":"IF(OR(Marksheet!AH9=\"_\",Marksheet!AH9=\".\",Marksheet!AH9=\"\"),0,1)","v":0},{"$f":"IF(OR(Marksheet!AI9=\"_\",Marksheet!AI9=\".\",Marksheet!AI9=\"\"),0,1)","v":0},{"$f":"IF(OR(Marksheet!AJ9=\"_\",Marksheet!AJ9=\".\",Marksheet!AJ9=\"\"),0,1)","v":0},{"$f":"IF(OR(Marksheet!AK9=\"_\",Marksheet!AK9=\".\",Marksheet!AK9=\"\"),0,1)","v":0},{"$f":"IF(OR(Marksheet!AL9=\"_\",Marksheet!AL9=\".\",Marksheet!AL9=\"\"),0,1)","v":0},{"$f":"IF(OR(Marksheet!AM9=\"_\",Marksheet!AM9=\".\",Marksheet!AM9=\"\"),0,1)","v":0},{"$f":"IF(OR(Marksheet!AN9=\"_\",Marksheet!AN9=\".\",Marksheet!AN9=\"\"),0,1)","v":0},{"$f":"IF(OR(Marksheet!AO9=\"_\",Marksheet!AO9=\".\",Marksheet!AO9=\"\"),0,1)","v":0},{"$f":"IF(OR(Marksheet!AP9=\"_\",Marksheet!AP9=\".\",Marksheet!AP9=\"\"),0,1)","v":0},{"$f":"IF(OR(Marksheet!AQ9=\"_\",Marksheet!AQ9=\".\",Marksheet!AQ9=\"\"),0,1)","v":0},{"$f":"IF(OR(Marksheet!AR9=\"_\",Marksheet!AR9=\".\",Marksheet!AR9=\"\"),0,1)","v":0},{"$f":"IF(OR(Marksheet!AS9=\"_\",Marksheet!AS9=\".\",Marksheet!AS9=\"\"),0,1)","v":0},{"$f":"IF(OR(Marksheet!AT9=\"_\",Marksheet!AT9=\".\",Marksheet!AT9=\"\"),0,1)","v":0},{"$f":"IF(OR(Marksheet!AU9=\"_\",Marksheet!AU9=\".\",Marksheet!AU9=\"\"),0,1)","v":0},{"$f":"IF(OR(Marksheet!AV9=\"_\",Marksheet!AV9=\".\",Marksheet!AV9=\"\"),0,1)","v":0},{"$f":"IF(OR(Marksheet!AW9=\"_\",Marksheet!AW9=\".\",Marksheet!AW9=\"\"),0,1)","v":0},{"$f":"IF(OR(Marksheet!AX9=\"_\",Marksheet!AX9=\".\",Marksheet!AX9=\"\"),0,1)","v":0},{"$f":"IF(OR(Marksheet!AY9=\"_\",Marksheet!AY9=\".\",Marksheet!AY9=\"\"),0,1)","v":0},{"$f":"IF(OR(Marksheet!AZ9=\"_\",Marksheet!AZ9=\".\",Marksheet!AZ9=\"\"),0,1)","v":0},{"$f":"IF(OR(Marksheet!BA9=\"_\",Marksheet!BA9=\".\",Marksheet!BA9=\"\"),0,1)","v":0},{"$f":"IF(OR(Marksheet!BB9=\"_\",Marksheet!BB9=\".\",Marksheet!BB9=\"\"),0,1)","v":0},{"$f":"IF(OR(Marksheet!BC9=\"_\",Marksheet!BC9=\".\",Marksheet!BC9=\"\"),0,1)","v":0},{"$f":"IF(OR(Marksheet!BD9=\"_\",Marksheet!BD9=\".\",Marksheet!BD9=\"\"),0,1)","v":0},{"$f":"IF(OR(Marksheet!BE9=\"_\",Marksheet!BE9=\".\",Marksheet!BE9=\"\"),0,1)","v":0},{"$f":"IF(OR(Marksheet!BF9=\"_\",Marksheet!BF9=\".\",Marksheet!BF9=\"\"),0,1)","v":0},{"$f":"IF(OR(Marksheet!BG9=\"_\",Marksheet!BG9=\".\",Marksheet!BG9=\"\"),0,1)","v":0},{"$f":"IF(OR(Marksheet!BH9=\"_\",Marksheet!BH9=\".\",Marksheet!BH9=\"\"),0,1)","v":0},{"$f":"IF(OR(Marksheet!BI9=\"_\",Marksheet!BI9=\".\",Marksheet!BI9=\"\"),0,1)","v":0},{"$f":"IF(OR(Marksheet!BJ9=\"_\",Marksheet!BJ9=\".\",Marksheet!BJ9=\"\"),0,1)","v":0},{"$f":"IF(OR(Marksheet!BK9=\"_\",Marksheet!BK9=\".\",Marksheet!BK9=\"\"),0,1)","v":0},{"$f":"IF(OR(Marksheet!BL9=\"_\",Marksheet!BL9=\".\",Marksheet!BL9=\"\"),0,1)","v":0},{"$f":"IF(OR(Marksheet!BM9=\"_\",Marksheet!BM9=\".\",Marksheet!BM9=\"\"),0,1)","v":0},{"$f":"IF(OR(Marksheet!BN9=\"_\",Marksheet!BN9=\".\",Marksheet!BN9=\"\"),0,1)","v":0},{"$f":"IF(OR(Marksheet!BO9=\"_\",Marksheet!BO9=\".\",Marksheet!BO9=\"\"),0,1)","v":0},{"$f":"IF(OR(Marksheet!BP9=\"_\",Marksheet!BP9=\".\",Marksheet!BP9=\"\"),0,1)","v":0},{"$f":"IF(OR(Marksheet!BQ9=\"_\",Marksheet!BQ9=\".\",Marksheet!BQ9=\"\"),0,1)","v":0},{"$f":"IF(OR(Marksheet!BR9=\"_\",Marksheet!BR9=\".\",Marksheet!BR9=\"\"),0,1)","v":0},{"$f":"IF(OR(Marksheet!BS9=\"_\",Marksheet!BS9=\".\",Marksheet!BS9=\"\"),0,1)","v":0},{"$f":"IF(OR(Marksheet!BT9=\"_\",Marksheet!BT9=\".\",Marksheet!BT9=\"\"),0,1)","v":0},{"$f":"IF(OR(Marksheet!BU9=\"_\",Marksheet!BU9=\".\",Marksheet!BU9=\"\"),0,1)","v":0},{"$f":"IF(OR(Marksheet!BV9=\"_\",Marksheet!BV9=\".\",Marksheet!BV9=\"\"),0,1)","v":0}]
[null,null,null,null,null,null,null,7,{"$f":"IF(OR(Marksheet!I10=\"_\",Marksheet!I10=\".\",Marksheet!I10=\"\"),0,1)","v":0},{"$f":"IF(OR(Marksheet!J10=\"_\",Marksheet!J10=\".\",Marksheet!J10=\"\"),0,1)","v":0},{"$f":"IF(OR(Marksheet!K10=\"_\",Marksheet!K10=\".\",Marksheet!K10=\"\"),0,1)","v":0},{"$f":"IF(OR(Marksheet!L10=\"_\",Marksheet!L10=\".\",Marksheet!L10=\"\"),0,1)","v":0},{"$f":"IF(OR(Marksheet!M10=\"_\",Marksheet!M10=\".\",Marksheet!M10=\"\"),0,1)","v":0},{"$f":"IF(OR(Marksheet!N10=\"_\",Marksheet!N10=\".\",Marksheet!N10=\"\"),0,1)","v":0},{"$f":"IF(OR(Marksheet!O10=\"_\",Marksheet!O10=\".\",Marksheet!O10=\"\"),0,1)","v":0},{"$f":"IF(OR(Marksheet!P10=\"_\",Marksheet!P10=\".\",Marksheet!P10=\"\"),0,1)","v":0},{"$f":"IF(OR(Marksheet!Q10=\"_\",Marksheet!Q10=\".\",Marksheet!Q10=\"\"),0,1)","v":0},{"$f":"IF(OR(Marksheet!R10=\"_\",Marksheet!R10=\".\",Marksheet!R10=\"\"),0,1)","v":0},{"$f":"IF(OR(Marksheet!S10=\"_\",Marksheet!S10=\".\",Marksheet!S10=\"\"),0,1)","v":0},{"$f":"IF(OR(Marksheet!T10=\"_\",Marksheet!T10=\".\",Marksheet!T10=\"\"),0,1)","v":0},{"$f":"IF(OR(Marksheet!U10=\"_\",Marksheet!U10=\".\",Marksheet!U10=\"\"),0,1)","v":0},{"$f":"IF(OR(Marksheet!V10=\"_\",Marksheet!V10=\".\",Marksheet!V10=\"\"),0,1)","v":0},{"$f":"IF(OR(Marksheet!W10=\"_\",Marksheet!W10=\".\",Marksheet!W10=\"\"),0,1)","v":0},{"$f":"IF(OR(Marksheet!X10=\"_\",Marksheet!X10=\".\",Marksheet!X10=\"\"),0,1)","v":0},{"$f":"IF(OR(Marksheet!Y10=\"_\",Marksheet!Y10=\".\",Marksheet!Y10=\"\"),0,1)","v":0},{"$f":"IF(OR(Marksheet!Z10=\"_\",Marksheet!Z10=\".\",Marksheet!Z10=\"\"),0,1)","v":0},{"$f":"IF(OR(Marksheet!AA10=\"_\",Marksheet!AA10=\".\",Marksheet!AA10=\"\"),0,1)","v":0},{"$f":"IF(OR(Marksheet!AB10=\"_\",Marksheet!AB10=\".\",Marksheet!AB10=\"\"),0,1)","v":0},{"$f":"IF(OR(Marksheet!AC10=\"_\",Marksheet!AC10=\".\",Marksheet!AC10=\"\"),0,1)","v":0},{"$f":"IF(OR(Marksheet!AD10=\"_\",Marksheet!AD10=\".\",Marksheet!AD10=\"\"),0,1)","v":0},{"$f":"IF(OR(Marksheet!AE10=\"_\",Marksheet!AE10=\".\",Marksheet!AE10=\"\"),0,1)","v":0},{"$f":"IF(OR(Marksheet!AF10=\"_\",Marksheet!AF10=\".\",Marksheet!AF10=\"\"),0,1)","v":0},{"$f":"IF(OR(Marksheet!AG10=\"_\",Marksheet!AG10=\".\",Marksheet!AG10=\"\"),0,1)","v":0},{"$f":"IF(OR(Marksheet!AH10=\"_\",Marksheet!AH10=\".\",Marksheet!AH10=\"\"),0,1)","v":0},{"$f":"IF(OR(Marksheet!AI10=\"_\",Marksheet!AI10=\".\",Marksheet!AI10=\"\"),0,1)","v":0},{"$f":"IF(OR(Marksheet!AJ10=\"_\",Marksheet!AJ10=\".\",Marksheet!AJ10=\"\"),0,1)","v":0},{"$f":"IF(OR(Marksheet!AK10=\"_\",Marksheet!AK10=\".\",Marksheet!AK10=\"\"),0,1)","v":0},{"$f":"IF(OR(Marksheet!AL10=\"_\",Marksheet!AL10=\".\",Marksheet!AL10=\"\"),0,1)","v":0},{"$f":"IF(OR(Marksheet!AM10=\"_\",Marksheet!AM10=\".\",Marksheet!AM10=\"\"),0,1)","v":0},{"$f":"IF(OR(Marksheet!AN10=\"_\",Marksheet!AN10=\".\",Marksheet!AN10=\"\"),0,1)","v":0},{"$f":"IF(OR(Marksheet!AO10=\"_\",Marksheet!AO10=\".\",Marksheet!AO10=\"\"),0,1)","v":0},{"$f":"IF(OR(Marksheet!AP10=\"_\",Marksheet!AP10=\".\",Marksheet!AP10=\"\"),0,1)","v":0},{"$f":"IF(OR(Marksheet!AQ10=\"_\",Marksheet!AQ10=\".\",Marksheet!AQ10=\"\"),0,1)","v":0},{"$f":"IF(OR(Marksheet!AR10=\"_\",Marksheet!AR10=\".\",Marksheet!AR10=\"\"),0,1)","v":0},{"$f":"IF(OR(Marksheet!AS10=\"_\",Marksheet!AS10=\".\",Marksheet!AS10=\"\"),0,1)","v":0},{"$f":"IF(OR(Marksheet!AT10=\"_\",Marksheet!AT10=\".\",Marksheet!AT10=\"\"),0,1)","v":0},{"$f":"IF(OR(Marksheet!AU10=\"_\",Marksheet!AU10=\".\",Marksheet!AU10=\"\"),0,1)","v":0},{"$f":"IF(OR(Marksheet!AV10=\"_\",Marksheet!AV10=\".\",Marksheet!AV10=\"\"),0,1)","v":0},{"$f":"IF(OR(Marksheet!AW10=\"_\",Marksheet!AW10=\".\",Marksheet!AW10=\"\"),0,1)","v":0},{"$f":"IF(OR(Marksheet!AX10=\"_\",Marksheet!AX10=\".\",Marksheet!AX10=\"\"),0,1)","v":0},{"$f":"IF(OR(Marksheet!AY10=\"_\",Marksheet!AY10=\".\",Marksheet!AY10=\"\"),0,1)","v":0},{"$f":"IF(OR(Marksheet!AZ10=\"_\",Marksheet!AZ10=\".\",Marksheet!AZ10=\"\"),0,1)","v":0},{"$f":"IF(OR(Marksheet!BA10=\"_\",Marksheet!BA10=\".\",Marksheet!BA10=\"\"),0,1)","v":0},{"$f":"IF(OR(Marksheet!BB10=\"_\",Marksheet!BB10=\".\",Marksheet!BB10=\"\"),0,1)","v":0},{"$f":"IF(OR(Marksheet!BC10=\"_\",Marksheet!BC10=\".\",Marksheet!BC10=\"\"),0,1)","v":0},{"$f":"IF(OR(Marksheet!BD10=\"_\",Marksheet!BD10=\".\",Marksheet!BD10=\"\"),0,1)","v":0},{"$f":"IF(OR(Marksheet!BE10=\"_\",Marksheet!BE10=\".\",Marksheet!BE10=\"\"),0,1)","v":0},{"$f":"IF(OR(Marksheet!BF10=\"_\",Marksheet!BF10=\".\",Marksheet!BF10=\"\"),0,1)","v":0},{"$f":"IF(OR(Marksheet!BG10=\"_\",Marksheet!BG10=\".\",Marksheet!BG10=\"\"),0,1)","v":0},{"$f":"IF(OR(Marksheet!BH10=\"_\",Marksheet!BH10=\".\",Marksheet!BH10=\"\"),0,1)","v":0},{"$f":"IF(OR(Marksheet!BI10=\"_\",Marksheet!BI10=\".\",Marksheet!BI10=\"\"),0,1)","v":0},{"$f":"IF(OR(Marksheet!BJ10=\"_\",Marksheet!BJ10=\".\",Marksheet!BJ10=\"\"),0,1)","v":0},{"$f":"IF(OR(Marksheet!BK10=\"_\",Marksheet!BK10=\".\",Marksheet!BK10=\"\"),0,1)","v":0},{"$f":"IF(OR(Marksheet!BL10=\"_\",Marksheet!BL10=\".\",Marksheet!BL10=\"\"),0,1)","v":0},{"$f":"IF(OR(Marksheet!BM10=\"_\",Marksheet!BM10=\".\",Marksheet!BM10=\"\"),0,1)","v":0},{"$f":"IF(OR(Marksheet!BN10=\"_\",Marksheet!BN10=\".\",Marksheet!BN10=\"\"),0,1)","v":0},{"$f":"IF(OR(Marksheet!BO10=\"_\",Marksheet!BO10=\".\",Marksheet!BO10=\"\"),0,1)","v":0},{"$f":"IF(OR(Marksheet!BP10=\"_\",Marksheet!BP10=\".\",Marksheet!BP10=\"\"),0,1)","v":0},{"$f":"IF(OR(Marksheet!BQ10=\"_\",Marksheet!BQ10=\".\",Marksheet!BQ10=\"\"),0,1)","v":0},{"$f":"IF(OR(Marksheet!BR10=\"_\",Marksheet!BR10=\".\",Marksheet!BR10=\"\"),0,1)","v":0},{"$f":"IF(OR(Marksheet!BS10=\"_\",Marksheet!BS10=\".\",Marksheet!BS10=\"\"),0,1)","v":0},{"$f":"IF(OR(Marksheet!BT10=\"_\",Marksheet!BT10=\".\",Marksheet!BT10=\"\"),0,1)","v":0},{"$f":"IF(OR(Marksheet!BU10=\"_\",Marksheet!BU10=\".\",Marksheet!BU10=\"\"),0,1)","v":0},{"$f":"IF(OR(Marksheet!BV10=\"_\",Marksheet!BV10=\".\",Marksheet!BV10=\"\"),0,1)","v":0}]
[null,null,null,null,null,null,null,8,{"$f":"IF(OR(Marksheet!I11=\"_\",Marksheet!I11=\".\",Marksheet!I11=\"\"),0,1)","v":0},{"$f":"IF(OR(Marksheet!J11=\"_\",Marksheet!J11=\".\",Marksheet!J11=\"\"),0,1)","v":0},{"$f":"IF(OR(Marksheet!K11=\"_\",Marksheet!K11=\".\",Marksheet!K11=\"\"),0,1)","v":0},{"$f":"IF(OR(Marksheet!L11=\"_\",Marksheet!L11=\".\",Marksheet!L11=\"\"),0,1)","v":0},{"$f":"IF(OR(Marksheet!M11=\"_\",Marksheet!M11=\".\",Marksheet!M11=\"\"),0,1)","v":0},{"$f":"IF(OR(Marksheet!N11=\"_\",Marksheet!N11=\".\",Marksheet!N11=\"\"),0,1)","v":0},{"$f":"IF(OR(Marksheet!O11=\"_\",Marksheet!O11=\".\",Marksheet!O11=\"\"),0,1)","v":0},{"$f":"IF(OR(Marksheet!P11=\"_\",Marksheet!P11=\".\",Marksheet!P11=\"\"),0,1)","v":0},{"$f":"IF(OR(Marksheet!Q11=\"_\",Marksheet!Q11=\".\",Marksheet!Q11=\"\"),0,1)","v":0},{"$f":"IF(OR(Marksheet!R11=\"_\",Marksheet!R11=\".\",Marksheet!R11=\"\"),0,1)","v":0},{"$f":"IF(OR(Marksheet!S11=\"_\",Marksheet!S11=\".\",Marksheet!S11=\"\"),0,1)","v":0},{"$f":"IF(OR(Marksheet!T11=\"_\",Marksheet!T11=\".\",Marksheet!T11=\"\"),0,1)","v":0},{"$f":"IF(OR(Marksheet!U11=\"_\",Marksheet!U11=\".\",Marksheet!U11=\"\"),0,1)","v":0},{"$f":"IF(OR(Marksheet!V11=\"_\",Marksheet!V11=\".\",Marksheet!V11=\"\"),0,1)","v":0},{"$f":"IF(OR(Marksheet!W11=\"_\",Marksheet!W11=\".\",Marksheet!W11=\"\"),0,1)","v":0},{"$f":"IF(OR(Marksheet!X11=\"_\",Marksheet!X11=\".\",Marksheet!X11=\"\"),0,1)","v":0},{"$f":"IF(OR(Marksheet!Y11=\"_\",Marksheet!Y11=\".\",Marksheet!Y11=\"\"),0,1)","v":0},{"$f":"IF(OR(Marksheet!Z11=\"_\",Marksheet!Z11=\".\",Marksheet!Z11=\"\"),0,1)","v":0},{"$f":"IF(OR(Marksheet!AA11=\"_\",Marksheet!AA11=\".\",Marksheet!AA11=\"\"),0,1)","v":0},{"$f":"IF(OR(Marksheet!AB11=\"_\",Marksheet!AB11=\".\",Marksheet!AB11=\"\"),0,1)","v":0},{"$f":"IF(OR(Marksheet!AC11=\"_\",Marksheet!AC11=\".\",Marksheet!AC11=\"\"),0,1)","v":0},{"$f":"IF(OR(Marksheet!AD11=\"_\",Marksheet!AD11=\".\",Marksheet!AD11=\"\"),0,1)","v":0},{"$f":"IF(OR(Marksheet!AE11=\"_\",Marksheet!AE11=\".\",Marksheet!AE11=\"\"),0,1)","v":0},{"$f":"IF(OR(Marksheet!AF11=\"_\",Marksheet!AF11=\".\",Marksheet!AF11=\"\"),0,1)","v":0},{"$f":"IF(OR(Marksheet!AG11=\"_\",Marksheet!AG11=\".\",Marksheet!AG11=\"\"),0,1)","v":0},{"$f":"IF(OR(Marksheet!AH11=\"_\",Marksheet!AH11=\".\",Marksheet!AH11=\"\"),0,1)","v":0},{"$f":"IF(OR(Marksheet!AI11=\"_\",Marksheet!AI11=\".\",Marksheet!AI11=\"\"),0,1)","v":0},{"$f":"IF(OR(Marksheet!AJ11=\"_\",Marksheet!AJ11=\".\",Marksheet!AJ11=\"\"),0,1)","v":0},{"$f":"IF(OR(Marksheet!AK11=\"_\",Marksheet!AK11=\".\",Marksheet!AK11=\"\"),0,1)","v":0},{"$f":"IF(OR(Marksheet!AL11=\"_\",Marksheet!AL11=\".\",Marksheet!AL11=\"\"),0,1)","v":0},{"$f":"IF(OR(Marksheet!AM11=\"_\",Marksheet!AM11=\".\",Marksheet!AM11=\"\"),0,1)","v":0},{"$f":"IF(OR(Marksheet!AN11=\"_\",Marksheet!AN11=\".\",Marksheet!AN11=\"\"),0,1)","v":0},{"$f":"IF(OR(Marksheet!AO11=\"_\",Marksheet!AO11=\".\",Marksheet!AO11=\"\"),0,1)","v":0},{"$f":"IF(OR(Marksheet!AP11=\"_\",Marksheet!AP11=\".\",Marksheet!AP11=\"\"),0,1)","v":0},{"$f":"IF(OR(Marksheet!AQ11=\"_\",Marksheet!AQ11=\".\",Marksheet!AQ11=\"\"),0,1)","v":0},{"$f":"IF(OR(Marksheet!AR11=\"_\",Marksheet!AR11=\".\",Marksheet!AR11=\"\"),0,1)","v":0},{"$f":"IF(OR(Marksheet!AS11=\"_\",Marksheet!AS11=\".\",Marksheet!AS11=\"\"),0,1)","v":0},{"$f":"IF(OR(Marksheet!AT11=\"_\",Marksheet!AT11=\".\",Marksheet!AT11=\"\"),0,1)","v":0},{"$f":"IF(OR(Marksheet!AU11=\"_\",Marksheet!AU11=\".\",Marksheet!AU11=\"\"),0,1)","v":0},{"$f":"IF(OR(Marksheet!AV11=\"_\",Marksheet!AV11=\".\",Marksheet!AV11=\"\"),0,1)","v":0},{"$f":"IF(OR(Marksheet!AW11=\"_\",Marksheet!AW11=\".\",Marksheet!AW11=\"\"),0,1)","v":0},{"$f":"IF(OR(Marksheet!AX11=\"_\",Marksheet!AX11=\".\",Marksheet!AX11=\"\"),0,1)","v":0},{"$f":"IF(OR(Marksheet!AY11=\"_\",Marksheet!AY11=\".\",Marksheet!AY11=\"\"),0,1)","v":0},{"$f":"IF(OR(Marksheet!AZ11=\"_\",Marksheet!AZ11=\".\",Marksheet!AZ11=\"\"),0,1)","v":0},{"$f":"IF(OR(Marksheet!BA11=\"_\",Marksheet!BA11=\".\",Marksheet!BA11=\"\"),0,1)","v":0},{"$f":"IF(OR(Marksheet!BB11=\"_\",Marksheet!BB11=\".\",Marksheet!BB11=\"\"),0,1)","v":0},{"$f":"IF(OR(Marksheet!BC11=\"_\",Marksheet!BC11=\".\",Marksheet!BC11=\"\"),0,1)","v":0},{"$f":"IF(OR(Marksheet!BD11=\"_\",Marksheet!BD11=\".\",Marksheet!BD11=\"\"),0,1)","v":0},{"$f":"IF(OR(Marksheet!BE11=\"_\",Marksheet!BE11=\".\",Marksheet!BE11=\"\"),0,1)","v":0},{"$f":"IF(OR(Marksheet!BF11=\"_\",Marksheet!BF11=\".\",Marksheet!BF11=\"\"),0,1)","v":0},{"$f":"IF(OR(Marksheet!BG11=\"_\",Marksheet!BG11=\".\",Marksheet!BG11=\"\"),0,1)","v":0},{"$f":"IF(OR(Marksheet!BH11=\"_\",Marksheet!BH11=\".\",Marksheet!BH11=\"\"),0,1)","v":0},{"$f":"IF(OR(Marksheet!BI11=\"_\",Marksheet!BI11=\".\",Marksheet!BI11=\"\"),0,1)","v":0},{"$f":"IF(OR(Marksheet!BJ11=\"_\",Marksheet!BJ11=\".\",Marksheet!BJ11=\"\"),0,1)","v":0},{"$f":"IF(OR(Marksheet!BK11=\"_\",Marksheet!BK11=\".\",Marksheet!BK11=\"\"),0,1)","v":0},{"$f":"IF(OR(Marksheet!BL11=\"_\",Marksheet!BL11=\".\",Marksheet!BL11=\"\"),0,1)","v":0},{"$f":"IF(OR(Marksheet!BM11=\"_\",Marksheet!BM11=\".\",Marksheet!BM11=\"\"),0,1)","v":0},{"$f":"IF(OR(Marksheet!BN11=\"_\",Marksheet!BN11=\".\",Marksheet!BN11=\"\"),0,1)","v":0},{"$f":"IF(OR(Marksheet!BO11=\"_\",Marksheet!BO11=\".\",Marksheet!BO11=\"\"),0,1)","v":0},{"$f":"IF(OR(Marksheet!BP11=\"_\",Marksheet!BP11=\".\",Marksheet!BP11=\"\"),0,1)","v":0},{"$f":"IF(OR(Marksheet!BQ11=\"_\",Marksheet!BQ11=\".\",Marksheet!BQ11=\"\"),0,1)","v":0},{"$f":"IF(OR(Marksheet!BR11=\"_\",Marksheet!BR11=\".\",Marksheet!BR11=\"\"),0,1)","v":0},{"$f":"IF(OR(Marksheet!BS11=\"_\",Marksheet!BS11=\".\",Marksheet!BS11=\"\"),0,1)","v":0},{"$f":"IF(OR(Marksheet!BT11=\"_\",Marksheet!BT11=\".\",Marksheet!BT11=\"\"),0,1)","v":0},{"$f":"IF(OR(Marksheet!BU11=\"_\",Marksheet!BU11=\".\",Marksheet!BU11=\"\"),0,1)","v":0},{"$f":"IF(OR(Marksheet!BV11=\"_\",Marksheet!BV11=\".\",Marksheet!BV11=\"\"),0,1)","v":0}]
[null,null,null,null,null,null,null,9,{"$f":"IF(OR(Marksheet!I12=\"_\",Marksheet!I12=\".\",Marksheet!I12=\"\"),0,1)","v":0},{"$f":"IF(OR(Marksheet!J12=\"_\",Marksheet!J12=\".\",Marksheet!J12=\"\"),0,1)","v":0},{"$f":"IF(OR(Marksheet!K12=\"_\",Marksheet!K12=\".\",Marksheet!K12=\"\"),0,1)","v":0},{"$f":"IF(OR(Marksheet!L12=\"_\",Marksheet!L12=\".\",Marksheet!L12=\"\"),0,1)","v":0},{"$f":"IF(OR(Marksheet!M12=\"_\",Marksheet!M12=\".\",Marksheet!M12=\"\"),0,1)","v":0},{"$f":"IF(OR(Marksheet!N12=\"_\",Marksheet!N12=\".\",Marksheet!N12=\"\"),0,1)","v":0},{"$f":"IF(OR(Marksheet!O12=\"_\",Marksheet!O12=\".\",Marksheet!O12=\"\"),0,1)","v":0},{"$f":"IF(OR(Marksheet!P12=\"_\",Marksheet!P12=\".\",Marksheet!P12=\"\"),0,1)","v":0},{"$f":"IF(OR(Marksheet!Q12=\"_\",Marksheet!Q12=\".\",Marksheet!Q12=\"\"),0,1)","v":0},{"$f":"IF(OR(Marksheet!R12=\"_\",Marksheet!R12=\".\",Marksheet!R12=\"\"),0,1)","v":0},{"$f":"IF(OR(Marksheet!S12=\"_\",Marksheet!S12=\".\",Marksheet!S12=\"\"),0,1)","v":0},{"$f":"IF(OR(Marksheet!T12=\"_\",Marksheet!T12=\".\",Marksheet!T12=\"\"),0,1)","v":0},{"$f":"IF(OR(Marksheet!U12=\"_\",Marksheet!U12=\".\",Marksheet!U12=\"\"),0,1)","v":0},{"$f":"IF(OR(Marksheet!V12=\"_\",Marksheet!V12=\".\",Marksheet!V12=\"\"),0,1)","v":0},{"$f":"IF(OR(Marksheet!W12=\"_\",Marksheet!W12=\".\",Marksheet!W12=\"\"),0,1)","v":0},{"$f":"IF(OR(Marksheet!X12=\"_\",Marksheet!X12=\".\",Marksheet!X12=\"\"),0,1)","v":0},{"$f":"IF(OR(Marksheet!Y12=\"_\",Marksheet!Y12=\".\",Marksheet!Y12=\"\"),0,1)","v":0},{"$f":"IF(OR(Marksheet!Z12=\"_\",Marksheet!Z12=\".\",Marksheet!Z12=\"\"),0,1)","v":0},{"$f":"IF(OR(Marksheet!AA12=\"_\",Marksheet!AA12=\".\",Marksheet!AA12=\"\"),0,1)","v":0},{"$f":"IF(OR(Marksheet!AB12=\"_\",Marksheet!AB12=\".\",Marksheet!AB12=\"\"),0,1)","v":0},{"$f":"IF(OR(Marksheet!AC12=\"_\",Marksheet!AC12=\".\",Marksheet!AC12=\"\"),0,1)","v":0},{"$f":"IF(OR(Marksheet!AD12=\"_\",Marksheet!AD12=\".\",Marksheet!AD12=\"\"),0,1)","v":0},{"$f":"IF(OR(Marksheet!AE12=\"_\",Marksheet!AE12=\".\",Marksheet!AE12=\"\"),0,1)","v":0},{"$f":"IF(OR(Marksheet!AF12=\"_\",Marksheet!AF12=\".\",Marksheet!AF12=\"\"),0,1)","v":0},{"$f":"IF(OR(Marksheet!AG12=\"_\",Marksheet!AG12=\".\",Marksheet!AG12=\"\"),0,1)","v":0},{"$f":"IF(OR(Marksheet!AH12=\"_\",Marksheet!AH12=\".\",Marksheet!AH12=\"\"),0,1)","v":0},{"$f":"IF(OR(Marksheet!AI12=\"_\",Marksheet!AI12=\".\",Marksheet!AI12=\"\"),0,1)","v":0},{"$f":"IF(OR(Marksheet!AJ12=\"_\",Marksheet!AJ12=\".\",Marksheet!AJ12=\"\"),0,1)","v":0},{"$f":"IF(OR(Marksheet!AK12=\"_\",Marksheet!AK12=\".\",Marksheet!AK12=\"\"),0,1)","v":0},{"$f":"IF(OR(Marksheet!AL12=\"_\",Marksheet!AL12=\".\",Marksheet!AL12=\"\"),0,1)","v":0},{"$f":"IF(OR(Marksheet!AM12=\"_\",Marksheet!AM12=\".\",Marksheet!AM12=\"\"),0,1)","v":0},{"$f":"IF(OR(Marksheet!AN12=\"_\",Marksheet!AN12=\".\",Marksheet!AN12=\"\"),0,1)","v":0},{"$f":"IF(OR(Marksheet!AO12=\"_\",Marksheet!AO12=\".\",Marksheet!AO12=\"\"),0,1)","v":0},{"$f":"IF(OR(Marksheet!AP12=\"_\",Marksheet!AP12=\".\",Marksheet!AP12=\"\"),0,1)","v":0},{"$f":"IF(OR(Marksheet!AQ12=\"_\",Marksheet!AQ12=\".\",Marksheet!AQ12=\"\"),0,1)","v":0},{"$f":"IF(OR(Marksheet!AR12=\"_\",Marksheet!AR12=\".\",Marksheet!AR12=\"\"),0,1)","v":0},{"$f":"IF(OR(Marksheet!AS12=\"_\",Marksheet!AS12=\".\",Marksheet!AS12=\"\"),0,1)","v":0},{"$f":"IF(OR(Marksheet!AT12=\"_\",Marksheet!AT12=\".\",Marksheet!AT12=\"\"),0,1)","v":0},{"$f":"IF(OR(Marksheet!AU12=\"_\",Marksheet!AU12=\".\",Marksheet!AU12=\"\"),0,1)","v":0},{"$f":"IF(OR(Marksheet!AV12=\"_\",Marksheet!AV12=\".\",Marksheet!AV12=\"\"),0,1)","v":0},{"$f":"IF(OR(Marksheet!AW12=\"_\",Marksheet!AW12=\".\",Marksheet!AW12=\"\"),0,1)","v":0},{"$f":"IF(OR(Marksheet!AX12=\"_\",Marksheet!AX12=\".\",Marksheet!AX12=\"\"),0,1)","v":0},{"$f":"IF(OR(Marksheet!AY12=\"_\",Marksheet!AY12=\".\",Marksheet!AY12=\"\"),0,1)","v":0},{"$f":"IF(OR(Marksheet!AZ12=\"_\",Marksheet!AZ12=\".\",Marksheet!AZ12=\"\"),0,1)","v":0},{"$f":"IF(OR(Marksheet!BA12=\"_\",Marksheet!BA12=\".\",Marksheet!BA12=\"\"),0,1)","v":0},{"$f":"IF(OR(Marksheet!BB12=\"_\",Marksheet!BB12=\".\",Marksheet!BB12=\"\"),0,1)","v":0},{"$f":"IF(OR(Marksheet!BC12=\"_\",Marksheet!BC12=\".\",Marksheet!BC12=\"\"),0,1)","v":0},{"$f":"IF(OR(Marksheet!BD12=\"_\",Marksheet!BD12=\".\",Marksheet!BD12=\"\"),0,1)","v":0},{"$f":"IF(OR(Marksheet!BE12=\"_\",Marksheet!BE12=\".\",Marksheet!BE12=\"\"),0,1)","v":0},{"$f":"IF(OR(Marksheet!BF12=\"_\",Marksheet!BF12=\".\",Marksheet!BF12=\"\"),0,1)","v":0},{"$f":"IF(OR(Marksheet!BG12=\"_\",Marksheet!BG12=\".\",Marksheet!BG12=\"\"),0,1)","v":0},{"$f":"IF(OR(Marksheet!BH12=\"_\",Marksheet!BH12=\".\",Marksheet!BH12=\"\"),0,1)","v":0},{"$f":"IF(OR(Marksheet!BI12=\"_\",Marksheet!BI12=\".\",Marksheet!BI12=\"\"),0,1)","v":0},{"$f":"IF(OR(Marksheet!BJ12=\"_\",Marksheet!BJ12=\".\",Marksheet!BJ12=\"\"),0,1)","v":0},{"$f":"IF(OR(Marksheet!BK12=\"_\",Marksheet!BK12=\".\",Marksheet!BK12=\"\"),0,1)","v":0},{"$f":"IF(OR(Marksheet!BL12=\"_\",Marksheet!BL12=\".\",Marksheet!BL12=\"\"),0,1)","v":0},{"$f":"IF(OR(Marksheet!BM12=\"_\",Marksheet!BM12=\".\",Marksheet!BM12=\"\"),0,1)","v":0},{"$f":"IF(OR(Marksheet!BN12=\"_\",Marksheet!BN12=\".\",Marksheet!BN12=\"\"),0,1)","v":0},{"$f":"IF(OR(Marksheet!BO12=\"_\",Marksheet!BO12=\".\",Marksheet!BO12=\"\"),0,1)","v":0},{"$f":"IF(OR(Marksheet!BP12=\"_\",Marksheet!BP12=\".\",Marksheet!BP12=\"\"),0,1)","v":0},{"$f":"IF(OR(Marksheet!BQ12=\"_\",Marksheet!BQ12=\".\",Marksheet!BQ12=\"\"),0,1)","v":0},{"$f":"IF(OR(Marksheet!BR12=\"_\",Marksheet!BR12=\".\",Marksheet!BR12=\"\"),0,1)","v":0},{"$f":"IF(OR(Marksheet!BS12=\"_\",Marksheet!BS12=\".\",Marksheet!BS12=\"\"),0,1)","v":0},{"$f":"IF(OR(Marksheet!BT12=\"_\",Marksheet!BT12=\".\",Marksheet!BT12=\"\"),0,1)","v":0},{"$f":"IF(OR(Marksheet!BU12=\"_\",Marksheet!BU12=\".\",Marksheet!BU12=\"\"),0,1)","v":0},{"$f":"IF(OR(Marksheet!BV12=\"_\",Marksheet!BV12=\".\",Marksheet!BV12=\"\"),0,1)","v":0}]
[null,null,null,null,null,null,null,10,{"$f":"IF(OR(Marksheet!I13=\"_\",Marksheet!I13=\".\",Marksheet!I13=\"\"),0,1)","v":0},{"$f":"IF(OR(Marksheet!J13=\"_\",Marksheet!J13=\".\",Marksheet!J13=\"\"),0,1)","v":0},{"$f":"IF(OR(Marksheet!K13=\"_\",Marksheet!K13=\".\",Marksheet!K13=\"\"),0,1)","v":0},{"$f":"IF(OR(Marksheet!L13=\"_\",Marksheet!L13=\".\",Marksheet!L13=\"\"),0,1)","v":0},{"$f":"IF(OR(Marksheet!M13=\"_\",Marksheet!M13=\".\",Marksheet!M13=\"\"),0,1)","v":0},{"$f":"IF(OR(Marksheet!N13=\"_\",Marksheet!N13=\".\",Marksheet!N13=\"\"),0,1)","v":0},{"$f":"IF(OR(Marksheet!O13=\"_\",Marksheet!O13=\".\",Marksheet!O13=\"\"),0,1)","v":0},{"$f":"IF(OR(Marksheet!P13=\"_\",Marksheet!P13=\".\",Marksheet!P13=\"\"),0,1)","v":0},{"$f":"IF(OR(Marksheet!Q13=\"_\",Marksheet!Q13=\".\",Marksheet!Q13=\"\"),0,1)","v":0},{"$f":"IF(OR(Marksheet!R13=\"_\",Marksheet!R13=\".\",Marksheet!R13=\"\"),0,1)","v":0},{"$f":"IF(OR(Marksheet!S13=\"_\",Marksheet!S13=\".\",Marksheet!S13=\"\"),0,1)","v":0},{"$f":"IF(OR(Marksheet!T13=\"_\",Marksheet!T13=\".\",Marksheet!T13=\"\"),0,1)","v":0},{"$f":"IF(OR(Marksheet!U13=\"_\",Marksheet!U13=\".\",Marksheet!U13=\"\"),0,1)","v":0},{"$f":"IF(OR(Marksheet!V13=\"_\",Marksheet!V13=\".\",Marksheet!V13=\"\"),0,1)","v":0},{"$f":"IF(OR(Marksheet!W13=\"_\",Marksheet!W13=\".\",Marksheet!W13=\"\"),0,1)","v":0},{"$f":"IF(OR(Marksheet!X13=\"_\",Marksheet!X13=\".\",Marksheet!X13=\"\"),0,1)","v":0},{"$f":"IF(OR(Marksheet!Y13=\"_\",Marksheet!Y13=\".\",Marksheet!Y13=\"\"),0,1)","v":0},{"$f":"IF(OR(Marksheet!Z13=\"_\",Marksheet!Z13=\".\",Marksheet!Z13=\"\"),0,1)","v":0},{"$f":"IF(OR(Marksheet!AA13=\"_\",Marksheet!AA13=\".\",Marksheet!AA13=\"\"),0,1)","v":0},{"$f":"IF(OR(Marksheet!AB13=\"_\",Marksheet!AB13=\".\",Marksheet!AB13=\"\"),0,1)","v":0},{"$f":"IF(OR(Marksheet!AC13=\"_\",Marksheet!AC13=\".\",Marksheet!AC13=\"\"),0,1)","v":0},{"$f":"IF(OR(Marksheet!AD13=\"_\",Marksheet!AD13=\".\",Marksheet!AD13=\"\"),0,1)","v":0},{"$f":"IF(OR(Marksheet!AE13=\"_\",Marksheet!AE13=\".\",Marksheet!AE13=\"\"),0,1)","v":0},{"$f":"IF(OR(Marksheet!AF13=\"_\",Marksheet!AF13=\".\",Marksheet!AF13=\"\"),0,1)","v":0},{"$f":"IF(OR(Marksheet!AG13=\"_\",Marksheet!AG13=\".\",Marksheet!AG13=\"\"),0,1)","v":0},{"$f":"IF(OR(Marksheet!AH13=\"_\",Marksheet!AH13=\".\",Marksheet!AH13=\"\"),0,1)","v":0},{"$f":"IF(OR(Marksheet!AI13=\"_\",Marksheet!AI13=\".\",Marksheet!AI13=\"\"),0,1)","v":0},{"$f":"IF(OR(Marksheet!AJ13=\"_\",Marksheet!AJ13=\".\",Marksheet!AJ13=\"\"),0,1)","v":0},{"$f":"IF(OR(Marksheet!AK13=\"_\",Marksheet!AK13=\".\",Marksheet!AK13=\"\"),0,1)","v":0},{"$f":"IF(OR(Marksheet!AL13=\"_\",Marksheet!AL13=\".\",Marksheet!AL13=\"\"),0,1)","v":0},{"$f":"IF(OR(Marksheet!AM13=\"_\",Marksheet!AM13=\".\",Marksheet!AM13=\"\"),0,1)","v":0},{"$f":"IF(OR(Marksheet!AN13=\"_\",Marksheet!AN13=\".\",Marksheet!AN13=\"\"),0,1)","v":0},{"$f":"IF(OR(Marksheet!AO13=\"_\",Marksheet!AO13=\".\",Marksheet!AO13=\"\"),0,1)","v":0},{"$f":"IF(OR(Marksheet!AP13=\"_\",Marksheet!AP13=\".\",Marksheet!AP13=\"\"),0,1)","v":0},{"$f":"IF(OR(Marksheet!AQ13=\"_\",Marksheet!AQ13=\".\",Marksheet!AQ13=\"\"),0,1)","v":0},{"$f":"IF(OR(Marksheet!AR13=\"_\",Marksheet!AR13=\".\",Marksheet!AR13=\"\"),0,1)","v":0},{"$f":"IF(OR(Marksheet!AS13=\"_\",Marksheet!AS13=\".\",Marksheet!AS13=\"\"),0,1)","v":0},{"$f":"IF(OR(Marksheet!AT13=\"_\",Marksheet!AT13=\".\",Marksheet!AT13=\"\"),0,1)","v":0},{"$f":"IF(OR(Marksheet!AU13=\"_\",Marksheet!AU13=\".\",Marksheet!AU13=\"\"),0,1)","v":0},{"$f":"IF(OR(Marksheet!AV13=\"_\",Marksheet!AV13=\".\",Marksheet!AV13=\"\"),0,1)","v":0},{"$f":"IF(OR(Marksheet!AW13=\"_\",Marksheet!AW13=\".\",Marksheet!AW13=\"\"),0,1)","v":0},{"$f":"IF(OR(Marksheet!AX13=\"_\",Marksheet!AX13=\".\",Marksheet!AX13=\"\"),0,1)","v":0},{"$f":"IF(OR(Marksheet!AY13=\"_\",Marksheet!AY13=\".\",Marksheet!AY13=\"\"),0,1)","v":0},{"$f":"IF(OR(Marksheet!AZ13=\"_\",Marksheet!AZ13=\".\",Marksheet!AZ13=\"\"),0,1)","v":0},{"$f":"IF(OR(Marksheet!BA13=\"_\",Marksheet!BA13=\".\",Marksheet!BA13=\"\"),0,1)","v":0},{"$f":"IF(OR(Marksheet!BB13=\"_\",Marksheet!BB13=\".\",Marksheet!BB13=\"\"),0,1)","v":0},{"$f":"IF(OR(Marksheet!BC13=\"_\",Marksheet!BC13=\".\",Marksheet!BC13=\"\"),0,1)","v":0},{"$f":"IF(OR(Marksheet!BD13=\"_\",Marksheet!BD13=\".\",Marksheet!BD13=\"\"),0,1)","v":0},{"$f":"IF(OR(Marksheet!BE13=\"_\",Marksheet!BE13=\".\",Marksheet!BE13=\"\"),0,1)","v":0},{"$f":"IF(OR(Marksheet!BF13=\"_\",Marksheet!BF13=\".\",Marksheet!BF13=\"\"),0,1)","v":0},{"$f":"IF(OR(Marksheet!BG13=\"_\",Marksheet!BG13=\".\",Marksheet!BG13=\"\"),0,1)","v":0},{"$f":"IF(OR(Marksheet!BH13=\"_\",Marksheet!BH13=\".\",Marksheet!BH13=\"\"),0,1)","v":0},{"$f":"IF(OR(Marksheet!BI13=\"_\",Marksheet!BI13=\".\",Marksheet!BI13=\"\"),0,1)","v":0},{"$f":"IF(OR(Marksheet!BJ13=\"_\",Marksheet!BJ13=\".\",Marksheet!BJ13=\"\"),0,1)","v":0},{"$f":"IF(OR(Marksheet!BK13=\"_\",Marksheet!BK13=\".\",Marksheet!BK13=\"\"),0,1)","v":0},{"$f":"IF(OR(Marksheet!BL13=\"_\",Marksheet!BL13=\".\",Marksheet!BL13=\"\"),0,1)","v":0},{"$f":"IF(OR(Marksheet!BM13=\"_\",Marksheet!BM13=\".\",Marksheet!BM13=\"\"),0,1)","v":0},{"$f":"IF(OR(Marksheet!BN13=\"_\",Marksheet!BN13=\".\",Marksheet!BN13=\"\"),0,1)","v":0},{"$f":"IF(OR(Marksheet!BO13=\"_\",Marksheet!BO13=\".\",Marksheet!BO13=\"\"),0,1)","v":0},{"$f":"IF(OR(Marksheet!BP13=\"_\",Marksheet!BP13=\".\",Marksheet!BP13=\"\"),0,1)","v":0},{"$f":"IF(OR(Marksheet!BQ13=\"_\",Marksheet!BQ13=\".\",Marksheet!BQ13=\"\"),0,1)","v":0},{"$f":"IF(OR(Marksheet!BR13=\"_\",Marksheet!BR13=\".\",Marksheet!BR13=\"\"),0,1)","v":0},{"$f":"IF(OR(Marksheet!BS13=\"_\",Marksheet!BS13=\".\",Marksheet!BS13=\"\"),0,1)","v":0},{"$f":"IF(OR(Marksheet!BT13=\"_\",Marksheet!BT13=\".\",Marksheet!BT13=\"\"),0,1)","v":0},{"$f":"IF(OR(Marksheet!BU13=\"_\",Marksheet!BU13=\".\",Marksheet!BU13=\"\"),0,1)","v":0},{"$f":"IF(OR(Marksheet!BV13=\"_\",Marksheet!BV13=\".\",Marksheet!BV13=\"\"),0,1)","v":0}]
[null,null,null,null,null,null,null,11,{"$f":"IF(OR(Marksheet!I14=\"_\",Marksheet!I14=\".\",Marksheet!I14=\"\"),0,1)","v":0},{"$f":"IF(OR(Marksheet!J14=\"_\",Marksheet!J14=\".\",Marksheet!J14=\"\"),0,1)","v":0},{"$f":"IF(OR(Marksheet!K14=\"_\",Marksheet!K14=\".\",Marksheet!K14=\"\"),0,1)","v":0},{"$f":"IF(OR(Marksheet!L14=\"_\",Marksheet!L14=\".\",Marksheet!L14=\"\"),0,1)","v":0},{"$f":"IF(OR(Marksheet!M14=\"_\",Marksheet!M14=\".\",Marksheet!M14=\"\"),0,1)","v":0},{"$f":"IF(OR(Marksheet!N14=\"_\",Marksheet!N14=\".\",Marksheet!N14=\"\"),0,1)","v":0},{"$f":"IF(OR(Marksheet!O14=\"_\",Marksheet!O14=\".\",Marksheet!O14=\"\"),0,1)","v":0},{"$f":"IF(OR(Marksheet!P14=\"_\",Marksheet!P14=\".\",Marksheet!P14=\"\"),0,1)","v":0},{"$f":"IF(OR(Marksheet!Q14=\"_\",Marksheet!Q14=\".\",Marksheet!Q14=\"\"),0,1)","v":0},{"$f":"IF(OR(Marksheet!R14=\"_\",Marksheet!R14=\".\",Marksheet!R14=\"\"),0,1)","v":0},{"$f":"IF(OR(Marksheet!S14=\"_\",Marksheet!S14=\".\",Marksheet!S14=\"\"),0,1)","v":0},{"$f":"IF(OR(Marksheet!T14=\"_\",Marksheet!T14=\".\",Marksheet!T14=\"\"),0,1)","v":0},{"$f":"IF(OR(Marksheet!U14=\"_\",Marksheet!U14=\".\",Marksheet!U14=\"\"),0,1)","v":0},{"$f":"IF(OR(Marksheet!V14=\"_\",Marksheet!V14=\".\",Marksheet!V14=\"\"),0,1)","v":0},{"$f":"IF(OR(Marksheet!W14=\"_\",Marksheet!W14=\".\",Marksheet!W14=\"\"),0,1)","v":0},{"$f":"IF(OR(Marksheet!X14=\"_\",Marksheet!X14=\".\",Marksheet!X14=\"\"),0,1)","v":0},{"$f":"IF(OR(Marksheet!Y14=\"_\",Marksheet!Y14=\".\",Marksheet!Y14=\"\"),0,1)","v":0},{"$f":"IF(OR(Marksheet!Z14=\"_\",Marksheet!Z14=\".\",Marksheet!Z14=\"\"),0,1)","v":0},{"$f":"IF(OR(Marksheet!AA14=\"_\",Marksheet!AA14=\".\",Marksheet!AA14=\"\"),0,1)","v":0},{"$f":"IF(OR(Marksheet!AB14=\"_\",Marksheet!AB14=\".\",Marksheet!AB14=\"\"),0,1)","v":0},{"$f":"IF(OR(Marksheet!AC14=\"_\",Marksheet!AC14=\".\",Marksheet!AC14=\"\"),0,1)","v":0},{"$f":"IF(OR(Marksheet!AD14=\"_\",Marksheet!AD14=\".\",Marksheet!AD14=\"\"),0,1)","v":0},{"$f":"IF(OR(Marksheet!AE14=\"_\",Marksheet!AE14=\".\",Marksheet!AE14=\"\"),0,1)","v":0},{"$f":"IF(OR(Marksheet!AF14=\"_\",Marksheet!AF14=\".\",Marksheet!AF14=\"\"),0,1)","v":0},{"$f":"IF(OR(Marksheet!AG14=\"_\",Marksheet!AG14=\".\",Marksheet!AG14=\"\"),0,1)","v":0},{"$f":"IF(OR(Marksheet!AH14=\"_\",Marksheet!AH14=\".\",Marksheet!AH14=\"\"),0,1)","v":0},{"$f":"IF(OR(Marksheet!AI14=\"_\",Marksheet!AI14=\".\",Marksheet!AI14=\"\"),0,1)","v":0},{"$f":"IF(OR(Marksheet!AJ14=\"_\",Marksheet!AJ14=\".\",Marksheet!AJ14=\"\"),0,1)","v":0},{"$f":"IF(OR(Marksheet!AK14=\"_\",Marksheet!AK14=\".\",Marksheet!AK14=\"\"),0,1)","v":0},{"$f":"IF(OR(Marksheet!AL14=\"_\",Marksheet!AL14=\".\",Marksheet!AL14=\"\"),0,1)","v":0},{"$f":"IF(OR(Marksheet!AM14=\"_\",Marksheet!AM14=\".\",Marksheet!AM14=\"\"),0,1)","v":0},{"$f":"IF(OR(Marksheet!AN14=\"_\",Marksheet!AN14=\".\",Marksheet!AN14=\"\"),0,1)","v":0},{"$f":"IF(OR(Marksheet!AO14=\"_\",Marksheet!AO14=\".\",Marksheet!AO14=\"\"),0,1)","v":0},{"$f":"IF(OR(Marksheet!AP14=\"_\",Marksheet!AP14=\".\",Marksheet!AP14=\"\"),0,1)","v":0},{"$f":"IF(OR(Marksheet!AQ14=\"_\",Marksheet!AQ14=\".\",Marksheet!AQ14=\"\"),0,1)","v":0},{"$f":"IF(OR(Marksheet!AR14=\"_\",Marksheet!AR14=\".\",Marksheet!AR14=\"\"),0,1)","v":0},{"$f":"IF(OR(Marksheet!AS14=\"_\",Marksheet!AS14=\".\",Marksheet!AS14=\"\"),0,1)","v":0},{"$f":"IF(OR(Marksheet!AT14=\"_\",Marksheet!AT14=\".\",Marksheet!AT14=\"\"),0,1)","v":0},{"$f":"IF(OR(Marksheet!AU14=\"_\",Marksheet!AU14=\".\",Marksheet!AU14=\"\"),0,1)","v":0},{"$f":"IF(OR(Marksheet!AV14=\"_\",Marksheet!AV14=\".\",Marksheet!AV14=\"\"),0,1)","v":0},{"$f":"IF(OR(Marksheet!AW14=\"_\",Marksheet!AW14=\".\",Marksheet!AW14=\"\"),0,1)","v":0},{"$f":"IF(OR(Marksheet!AX14=\"_\",Marksheet!AX14=\".\",Marksheet!AX14=\"\"),0,1)","v":0},{"$f":"IF(OR(Marksheet!AY14=\"_\",Marksheet!AY14=\".\",Marksheet!AY14=\"\"),0,1)","v":0},{"$f":"IF(OR(Marksheet!AZ14=\"_\",Marksheet!AZ14=\".\",Marksheet!AZ14=\"\"),0,1)","v":0},{"$f":"IF(OR(Marksheet!BA14=\"_\",Marksheet!BA14=\".\",Marksheet!BA14=\"\"),0,1)","v":0},{"$f":"IF(OR(Marksheet!BB14=\"_\",Marksheet!BB14=\".\",Marksheet!BB14=\"\"),0,1)","v":0},{"$f":"IF(OR(Marksheet!BC14=\"_\",Marksheet!BC14=\".\",Marksheet!BC14=\"\"),0,1)","v":0},{"$f":"IF(OR(Marksheet!BD14=\"_\",Marksheet!BD14=\".\",Marksheet!BD14=\"\"),0,1)","v":0},{"$f":"IF(OR(Marksheet!BE14=\"_\",Marksheet!BE14=\".\",Marksheet!BE14=\"\"),0,1)","v":0},{"$f":"IF(OR(Marksheet!BF14=\"_\",Marksheet!BF14=\".\",Marksheet!BF14=\"\"),0,1)","v":0},{"$f":"IF(OR(Marksheet!BG14=\"_\",Marksheet!BG14=\".\",Marksheet!BG14=\"\"),0,1)","v":0},{"$f":"IF(OR(Marksheet!BH14=\"_\",Marksheet!BH14=\".\",Marksheet!BH14=\"\"),0,1)","v":0},{"$f":"IF(OR(Marksheet!BI14=\"_\",Marksheet!BI14=\".\",Marksheet!BI14=\"\"),0,1)","v":0},{"$f":"IF(OR(Marksheet!BJ14=\"_\",Marksheet!BJ14=\".\",Marksheet!BJ14=\"\"),0,1)","v":0},{"$f":"IF(OR(Marksheet!BK14=\"_\",Marksheet!BK14=\".\",Marksheet!BK14=\"\"),0,1)","v":0},{"$f":"IF(OR(Marksheet!BL14=\"_\",Marksheet!BL14=\".\",Marksheet!BL14=\"\"),0,1)","v":0},{"$f":"IF(OR(Marksheet!BM14=\"_\",Marksheet!BM14=\".\",Marksheet!BM14=\"\"),0,1)","v":0},{"$f":"IF(OR(Marksheet!BN14=\"_\",Marksheet!BN14=\".\",Marksheet!BN14=\"\"),0,1)","v":0},{"$f":"IF(OR(Marksheet!BO14=\"_\",Marksheet!BO14=\".\",Marksheet!BO14=\"\"),0,1)","v":0},{"$f":"IF(OR(Marksheet!BP14=\"_\",Marksheet!BP14=\".\",Marksheet!BP14=\"\"),0,1)","v":0},{"$f":"IF(OR(Marksheet!BQ14=\"_\",Marksheet!BQ14=\".\",Marksheet!BQ14=\"\"),0,1)","v":0},{"$f":"IF(OR(Marksheet!BR14=\"_\",Marksheet!BR14=\".\",Marksheet!BR14=\"\"),0,1)","v":0},{"$f":"IF(OR(Marksheet!BS14=\"_\",Marksheet!BS14=\".\",Marksheet!BS14=\"\"),0,1)","v":0},{"$f":"IF(OR(Marksheet!BT14=\"_\",Marksheet!BT14=\".\",Marksheet!BT14=\"\"),0,1)","v":0},{"$f":"IF(OR(Marksheet!BU14=\"_\",Marksheet!BU14=\".\",Marksheet!BU14=\"\"),0,1)","v":0},{"$f":"IF(OR(Marksheet!BV14=\"_\",Marksheet!BV14=\".\",Marksheet!BV14=\"\"),0,1)","v":0}]
[null,null,null,null,null,null,null,12,{"$f":"IF(OR(Marksheet!I15=\"_\",Marksheet!I15=\".\",Marksheet!I15=\"\"),0,1)","v":0},{"$f":"IF(OR(Marksheet!J15=\"_\",Marksheet!J15=\".\",Marksheet!J15=\"\"),0,1)","v":0},{"$f":"IF(OR(Marksheet!K15=\"_\",Marksheet!K15=\".\",Marksheet!K15=\"\"),0,1)","v":0},{"$f":"IF(OR(Marksheet!L15=\"_\",Marksheet!L15=\".\",Marksheet!L15=\"\"),0,1)","v":0},{"$f":"IF(OR(Marksheet!M15=\"_\",Marksheet!M15=\".\",Marksheet!M15=\"\"),0,1)","v":0},{"$f":"IF(OR(Marksheet!N15=\"_\",Marksheet!N15=\".\",Marksheet!N15=\"\"),0,1)","v":0},{"$f":"IF(OR(Marksheet!O15=\"_\",Marksheet!O15=\".\",Marksheet!O15=\"\"),0,1)","v":0},{"$f":"IF(OR(Marksheet!P15=\"_\",Marksheet!P15=\".\",Marksheet!P15=\"\"),0,1)","v":0},{"$f":"IF(OR(Marksheet!Q15=\"_\",Marksheet!Q15=\".\",Marksheet!Q15=\"\"),0,1)","v":0},{"$f":"IF(OR(Marksheet!R15=\"_\",Marksheet!R15=\".\",Marksheet!R15=\"\"),0,1)","v":0},{"$f":"IF(OR(Marksheet!S15=\"_\",Marksheet!S15=\".\",Marksheet!S15=\"\"),0,1)","v":0},{"$f":"IF(OR(Marksheet!T15=\"_\",Marksheet!T15=\".\",Marksheet!T15=\"\"),0,1)","v":0},{"$f":"IF(OR(Marksheet!U15=\"_\",Marksheet!U15=\".\",Marksheet!U15=\"\"),0,1)","v":0},{"$f":"IF(OR(Marksheet!V15=\"_\",Marksheet!V15=\".\",Marksheet!V15=\"\"),0,1)","v":0},{"$f":"IF(OR(Marksheet!W15=\"_\",Marksheet!W15=\".\",Marksheet!W15=\"\"),0,1)","v":0},{"$f":"IF(OR(Marksheet!X15=\"_\",Marksheet!X15=\".\",Marksheet!X15=\"\"),0,1)","v":0},{"$f":"IF(OR(Marksheet!Y15=\"_\",Marksheet!Y15=\".\",Marksheet!Y15=\"\"),0,1)","v":0},{"$f":"IF(OR(Marksheet!Z15=\"_\",Marksheet!Z15=\".\",Marksheet!Z15=\"\"),0,1)","v":0},{"$f":"IF(OR(Marksheet!AA15=\"_\",Marksheet!AA15=\".\",Marksheet!AA15=\"\"),0,1)","v":0},{"$f":"IF(OR(Marksheet!AB15=\"_\",Marksheet!AB15=\".\",Marksheet!AB15=\"\"),0,1)","v":0},{"$f":"IF(OR(Marksheet!AC15=\"_\",Marksheet!AC15=\".\",Marksheet!AC15=\"\"),0,1)","v":0},{"$f":"IF(OR(Marksheet!AD15=\"_\",Marksheet!AD15=\".\",Marksheet!AD15=\"\"),0,1)","v":0},{"$f":"IF(OR(Marksheet!AE15=\"_\",Marksheet!AE15=\".\",Marksheet!AE15=\"\"),0,1)","v":0},{"$f":"IF(OR(Marksheet!AF15=\"_\",Marksheet!AF15=\".\",Marksheet!AF15=\"\"),0,1)","v":0},{"$f":"IF(OR(Marksheet!AG15=\"_\",Marksheet!AG15=\".\",Marksheet!AG15=\"\"),0,1)","v":0},{"$f":"IF(OR(Marksheet!AH15=\"_\",Marksheet!AH15=\".\",Marksheet!AH15=\"\"),0,1)","v":0},{"$f":"IF(OR(Marksheet!AI15=\"_\",Marksheet!AI15=\".\",Marksheet!AI15=\"\"),0,1)","v":0},{"$f":"IF(OR(Marksheet!AJ15=\"_\",Marksheet!AJ15=\".\",Marksheet!AJ15=\"\"),0,1)","v":0},{"$f":"IF(OR(Marksheet!AK15=\"_\",Marksheet!AK15=\".\",Marksheet!AK15=\"\"),0,1)","v":0},{"$f":"IF(OR(Marksheet!AL15=\"_\",Marksheet!AL15=\".\",Marksheet!AL15=\"\"),0,1)","v":0},{"$f":"IF(OR(Marksheet!AM15=\"_\",Marksheet!AM15=\".\",Marksheet!AM15=\"\"),0,1)","v":0},{"$f":"IF(OR(Marksheet!AN15=\"_\",Marksheet!AN15=\".\",Marksheet!AN15=\"\"),0,1)","v":0},{"$f":"IF(OR(Marksheet!AO15=\"_\",Marksheet!AO15=\".\",Marksheet!AO15=\"\"),0,1)","v":0},{"$f":"IF(OR(Marksheet!AP15=\"_\",Marksheet!AP15=\".\",Marksheet!AP15=\"\"),0,1)","v":0},{"$f":"IF(OR(Marksheet!AQ15=\"_\",Marksheet!AQ15=\".\",Marksheet!AQ15=\"\"),0,1)","v":0},{"$f":"IF(OR(Marksheet!AR15=\"_\",Marksheet!AR15=\".\",Marksheet!AR15=\"\"),0,1)","v":0},{"$f":"IF(OR(Marksheet!AS15=\"_\",Marksheet!AS15=\".\",Marksheet!AS15=\"\"),0,1)","v":0},{"$f":"IF(OR(Marksheet!AT15=\"_\",Marksheet!AT15=\".\",Marksheet!AT15=\"\"),0,1)","v":0},{"$f":"IF(OR(Marksheet!AU15=\"_\",Marksheet!AU15=\".\",Marksheet!AU15=\"\"),0,1)","v":0},{"$f":"IF(OR(Marksheet!AV15=\"_\",Marksheet!AV15=\".\",Marksheet!AV15=\"\"),0,1)","v":0},{"$f":"IF(OR(Marksheet!AW15=\"_\",Marksheet!AW15=\".\",Marksheet!AW15=\"\"),0,1)","v":0},{"$f":"IF(OR(Marksheet!AX15=\"_\",Marksheet!AX15=\".\",Marksheet!AX15=\"\"),0,1)","v":0},{"$f":"IF(OR(Marksheet!AY15=\"_\",Marksheet!AY15=\".\",Marksheet!AY15=\"\"),0,1)","v":0},{"$f":"IF(OR(Marksheet!AZ15=\"_\",Marksheet!AZ15=\".\",Marksheet!AZ15=\"\"),0,1)","v":0},{"$f":"IF(OR(Marksheet!BA15=\"_\",Marksheet!BA15=\".\",Marksheet!BA15=\"\"),0,1)","v":0},{"$f":"IF(OR(Marksheet!BB15=\"_\",Marksheet!BB15=\".\",Marksheet!BB15=\"\"),0,1)","v":0},{"$f":"IF(OR(Marksheet!BC15=\"_\",Marksheet!BC15=\".\",Marksheet!BC15=\"\"),0,1)","v":0},{"$f":"IF(OR(Marksheet!BD15=\"_\",Marksheet!BD15=\".\",Marksheet!BD15=\"\"),0,1)","v":0},{"$f":"IF(OR(Marksheet!BE15=\"_\",Marksheet!BE15=\".\",Marksheet!BE15=\"\"),0,1)","v":0},{"$f":"IF(OR(Marksheet!BF15=\"_\",Marksheet!BF15=\".\",Marksheet!BF15=\"\"),0,1)","v":0},{"$f":"IF(OR(Marksheet!BG15=\"_\",Marksheet!BG15=\".\",Marksheet!BG15=\"\"),0,1)","v":0},{"$f":"IF(OR(Marksheet!BH15=\"_\",Marksheet!BH15=\".\",Marksheet!BH15=\"\"),0,1)","v":0},{"$f":"IF(OR(Marksheet!BI15=\"_\",Marksheet!BI15=\".\",Marksheet!BI15=\"\"),0,1)","v":0},{"$f":"IF(OR(Marksheet!BJ15=\"_\",Marksheet!BJ15=\".\",Marksheet!BJ15=\"\"),0,1)","v":0},{"$f":"IF(OR(Marksheet!BK15=\"_\",Marksheet!BK15=\".\",Marksheet!BK15=\"\"),0,1)","v":0},{"$f":"IF(OR(Marksheet!BL15=\"_\",Marksheet!BL15=\".\",Marksheet!BL15=\"\"),0,1)","v":0},{"$f":"IF(OR(Marksheet!BM15=\"_\",Marksheet!BM15=\".\",Marksheet!BM15=\"\"),0,1)","v":0},{"$f":"IF(OR(Marksheet!BN15=\"_\",Marksheet!BN15=\".\",Marksheet!BN15=\"\"),0,1)","v":0},{"$f":"IF(OR(Marksheet!BO15=\"_\",Marksheet!BO15=\".\",Marksheet!BO15=\"\"),0,1)","v":0},{"$f":"IF(OR(Marksheet!BP15=\"_\",Marksheet!BP15=\".\",Marksheet!BP15=\"\"),0,1)","v":0},{"$f":"IF(OR(Marksheet!BQ15=\"_\",Marksheet!BQ15=\".\",Marksheet!BQ15=\"\"),0,1)","v":0},{"$f":"IF(OR(Marksheet!BR15=\"_\",Marksheet!BR15=\".\",Marksheet!BR15=\"\"),0,1)","v":0},{"$f":"IF(OR(Marksheet!BS15=\"_\",Marksheet!BS15=\".\",Marksheet!BS15=\"\"),0,1)","v":0},{"$f":"IF(OR(Marksheet!BT15=\"_\",Marksheet!BT15=\".\",Marksheet!BT15=\"\"),0,1)","v":0},{"$f":"IF(OR(Marksheet!BU15=\"_\",Marksheet!BU15=\".\",Marksheet!BU15=\"\"),0,1)","v":0},{"$f":"IF(OR(Marksheet!BV15=\"_\",Marksheet!BV15=\".\",Marksheet!BV15=\"\"),0,1)","v":0}]
[null,null,null,null,null,null,null,13,{"$f":"IF(OR(Marksheet!I16=\"_\",Marksheet!I16=\".\",Marksheet!I16=\"\"),0,1)","v":0},{"$f":"IF(OR(Marksheet!J16=\"_\",Marksheet!J16=\".\",Marksheet!J16=\"\"),0,1)","v":0},{"$f":"IF(OR(Marksheet!K16=\"_\",Marksheet!K16=\".\",Marksheet!K16=\"\"),0,1)","v":0},{"$f":"IF(OR(Marksheet!L16=\"_\",Marksheet!L16=\".\",Marksheet!L16=\"\"),0,1)","v":0},{"$f":"IF(OR(Marksheet!M16=\"_\",Marksheet!M16=\".\",Marksheet!M16=\"\"),0,1)","v":0},{"$f":"IF(OR(Marksheet!N16=\"_\",Marksheet!N16=\".\",Marksheet!N16=\"\"),0,1)","v":0},{"$f":"IF(OR(Marksheet!O16=\"_\",Marksheet!O16=\".\",Marksheet!O16=\"\"),0,1)","v":0},{"$f":"IF(OR(Marksheet!P16=\"_\",Marksheet!P16=\".\",Marksheet!P16=\"\"),0,1)","v":0},{"$f":"IF(OR(Marksheet!Q16=\"_\",Marksheet!Q16=\".\",Marksheet!Q16=\"\"),0,1)","v":0},{"$f":"IF(OR(Marksheet!R16=\"_\",Marksheet!R16=\".\",Marksheet!R16=\"\"),0,1)","v":0},{"$f":"IF(OR(Marksheet!S16=\"_\",Marksheet!S16=\".\",Marksheet!S16=\"\"),0,1)","v":0},{"$f":"IF(OR(Marksheet!T16=\"_\",Marksheet!T16=\".\",Marksheet!T16=\"\"),0,1)","v":0},{"$f":"IF(OR(Marksheet!U16=\"_\",Marksheet!U16=\".\",Marksheet!U16=\"\"),0,1)","v":0},{"$f":"IF(OR(Marksheet!V16=\"_\",Marksheet!V16=\".\",Marksheet!V16=\"\"),0,1)","v":0},{"$f":"IF(OR(Marksheet!W16=\"_\",Marksheet!W16=\".\",Marksheet!W16=\"\"),0,1)","v":0},{"$f":"IF(OR(Marksheet!X16=\"_\",Marksheet!X16=\".\",Marksheet!X16=\"\"),0,1)","v":0},{"$f":"IF(OR(Marksheet!Y16=\"_\",Marksheet!Y16=\".\",Marksheet!Y16=\"\"),0,1)","v":0},{"$f":"IF(OR(Marksheet!Z16=\"_\",Marksheet!Z16=\".\",Marksheet!Z16=\"\"),0,1)","v":0},{"$f":"IF(OR(Marksheet!AA16=\"_\",Marksheet!AA16=\".\",Marksheet!AA16=\"\"),0,1)","v":0},{"$f":"IF(OR(Marksheet!AB16=\"_\",Marksheet!AB16=\".\",Marksheet!AB16=\"\"),0,1)","v":0},{"$f":"IF(OR(Marksheet!AC16=\"_\",Marksheet!AC16=\".\",Marksheet!AC16=\"\"),0,1)","v":0},{"$f":"IF(OR(Marksheet!AD16=\"_\",Marksheet!AD16=\".\",Marksheet!AD16=\"\"),0,1)","v":0},{"$f":"IF(OR(Marksheet!AE16=\"_\",Marksheet!AE16=\".\",Marksheet!AE16=\"\"),0,1)","v":0},{"$f":"IF(OR(Marksheet!AF16=\"_\",Marksheet!AF16=\".\",Marksheet!AF16=\"\"),0,1)","v":0},{"$f":"IF(OR(Marksheet!AG16=\"_\",Marksheet!AG16=\".\",Marksheet!AG16=\"\"),0,1)","v":0},{"$f":"IF(OR(Marksheet!AH16=\"_\",Marksheet!AH16=\".\",Marksheet!AH16=\"\"),0,1)","v":0},{"$f":"IF(OR(Marksheet!AI16=\"_\",Marksheet!AI16=\".\",Marksheet!AI16=\"\"),0,1)","v":0},{"$f":"IF(OR(Marksheet!AJ16=\"_\",Marksheet!AJ16=\".\",Marksheet!AJ16=\"\"),0,1)","v":0},{"$f":"IF(OR(Marksheet!AK16=\"_\",Marksheet!AK16=\".\",Marksheet!AK16=\"\"),0,1)","v":0},{"$f":"IF(OR(Marksheet!AL16=\"_\",Marksheet!AL16=\".\",Marksheet!AL16=\"\"),0,1)","v":0},{"$f":"IF(OR(Marksheet!AM16=\"_\",Marksheet!AM16=\".\",Marksheet!AM16=\"\"),0,1)","v":0},{"$f":"IF(OR(Marksheet!AN16=\"_\",Marksheet!AN16=\".\",Marksheet!AN16=\"\"),0,1)","v":0},{"$f":"IF(OR(Marksheet!AO16=\"_\",Marksheet!AO16=\".\",Marksheet!AO16=\"\"),0,1)","v":0},{"$f":"IF(OR(Marksheet!AP16=\"_\",Marksheet!AP16=\".\",Marksheet!AP16=\"\"),0,1)","v":0},{"$f":"IF(OR(Marksheet!AQ16=\"_\",Marksheet!AQ16=\".\",Marksheet!AQ16=\"\"),0,1)","v":0},{"$f":"IF(OR(Marksheet!AR16=\"_\",Marksheet!AR16=\".\",Marksheet!AR16=\"\"),0,1)","v":0},{"$f":"IF(OR(Marksheet!AS16=\"_\",Marksheet!AS16=\".\",Marksheet!AS16=\"\"),0,1)","v":0},{"$f":"IF(OR(Marksheet!AT16=\"_\",Marksheet!AT16=\".\",Marksheet!AT16=\"\"),0,1)","v":0},{"$f":"IF(OR(Marksheet!AU16=\"_\",Marksheet!AU16=\".\",Marksheet!AU16=\"\"),0,1)","v":0},{"$f":"IF(OR(Marksheet!AV16=\"_\",Marksheet!AV16=\".\",Marksheet!AV16=\"\"),0,1)","v":0},{"$f":"IF(OR(Marksheet!AW16=\"_\",Marksheet!AW16=\".\",Marksheet!AW16=\"\"),0,1)","v":0},{"$f":"IF(OR(Marksheet!AX16=\"_\",Marksheet!AX16=\".\",Marksheet!AX16=\"\"),0,1)","v":0},{"$f":"IF(OR(Marksheet!AY16=\"_\",Marksheet!AY16=\".\",Marksheet!AY16=\"\"),0,1)","v":0},{"$f":"IF(OR(Marksheet!AZ16=\"_\",Marksheet!AZ16=\".\",Marksheet!AZ16=\"\"),0,1)","v":0},{"$f":"IF(OR(Marksheet!BA16=\"_\",Marksheet!BA16=\".\",Marksheet!BA16=\"\"),0,1)","v":0},{"$f":"IF(OR(Marksheet!BB16=\"_\",Marksheet!BB16=\".\",Marksheet!BB16=\"\"),0,1)","v":0},{"$f":"IF(OR(Marksheet!BC16=\"_\",Marksheet!BC16=\".\",Marksheet!BC16=\"\"),0,1)","v":0},{"$f":"IF(OR(Marksheet!BD16=\"_\",Marksheet!BD16=\".\",Marksheet!BD16=\"\"),0,1)","v":0},{"$f":"IF(OR(Marksheet!BE16=\"_\",Marksheet!BE16=\".\",Marksheet!BE16=\"\"),0,1)","v":0},{"$f":"IF(OR(Marksheet!BF16=\"_\",Marksheet!BF16=\".\",Marksheet!BF16=\"\"),0,1)","v":0},{"$f":"IF(OR(Marksheet!BG16=\"_\",Marksheet!BG16=\".\",Marksheet!BG16=\"\"),0,1)","v":0},{"$f":"IF(OR(Marksheet!BH16=\"_\",Marksheet!BH16=\".\",Marksheet!BH16=\"\"),0,1)","v":0},{"$f":"IF(OR(Marksheet!BI16=\"_\",Marksheet!BI16=\".\",Marksheet!BI16=\"\"),0,1)","v":0},{"$f":"IF(OR(Marksheet!BJ16=\"_\",Marksheet!BJ16=\".\",Marksheet!BJ16=\"\"),0,1)","v":0},{"$f":"IF(OR(Marksheet!BK16=\"_\",Marksheet!BK16=\".\",Marksheet!BK16=\"\"),0,1)","v":0},{"$f":"IF(OR(Marksheet!BL16=\"_\",Marksheet!BL16=\".\",Marksheet!BL16=\"\"),0,1)","v":0},{"$f":"IF(OR(Marksheet!BM16=\"_\",Marksheet!BM16=\".\",Marksheet!BM16=\"\"),0,1)","v":0},{"$f":"IF(OR(Marksheet!BN16=\"_\",Marksheet!BN16=\".\",Marksheet!BN16=\"\"),0,1)","v":0},{"$f":"IF(OR(Marksheet!BO16=\"_\",Marksheet!BO16=\".\",Marksheet!BO16=\"\"),0,1)","v":0},{"$f":"IF(OR(Marksheet!BP16=\"_\",Marksheet!BP16=\".\",Marksheet!BP16=\"\"),0,1)","v":0},{"$f":"IF(OR(Marksheet!BQ16=\"_\",Marksheet!BQ16=\".\",Marksheet!BQ16=\"\"),0,1)","v":0},{"$f":"IF(OR(Marksheet!BR16=\"_\",Marksheet!BR16=\".\",Marksheet!BR16=\"\"),0,1)","v":0},{"$f":"IF(OR(Marksheet!BS16=\"_\",Marksheet!BS16=\".\",Marksheet!BS16=\"\"),0,1)","v":0},{"$f":"IF(OR(Marksheet!BT16=\"_\",Marksheet!BT16=\".\",Marksheet!BT16=\"\"),0,1)","v":0},{"$f":"IF(OR(Marksheet!BU16=\"_\",Marksheet!BU16=\".\",Marksheet!BU16=\"\"),0,1)","v":0},{"$f":"IF(OR(Marksheet!BV16=\"_\",Marksheet!BV16=\".\",Marksheet!BV16=\"\"),0,1)","v":0}]
[null,null,null,null,null,null,null,14,{"$f":"IF(OR(Marksheet!I17=\"_\",Marksheet!I17=\".\",Marksheet!I17=\"\"),0,1)","v":0},{"$f":"IF(OR(Marksheet!J17=\"_\",Marksheet!J17=\".\",Marksheet!J17=\"\"),0,1)","v":0},{"$f":"IF(OR(Marksheet!K17=\"_\",Marksheet!K17=\".\",Marksheet!K17=\"\"),0,1)","v":0},{"$f":"IF(OR(Marksheet!L17=\"_\",Marksheet!L17=\".\",Marksheet!L17=\"\"),0,1)","v":0},{"$f":"IF(OR(Marksheet!M17=\"_\",Marksheet!M17=\".\",Marksheet!M17=\"\"),0,1)","v":0},{"$f":"IF(OR(Marksheet!N17=\"_\",Marksheet!N17=\".\",Marksheet!N17=\"\"),0,1)","v":0},{"$f":"IF(OR(Marksheet!O17=\"_\",Marksheet!O17=\".\",Marksheet!O17=\"\"),0,1)","v":0},{"$f":"IF(OR(Marksheet!P17=\"_\",Marksheet!P17=\".\",Marksheet!P17=\"\"),0,1)","v":0},{"$f":"IF(OR(Marksheet!Q17=\"_\",Marksheet!Q17=\".\",Marksheet!Q17=\"\"),0,1)","v":0},{"$f":"IF(OR(Marksheet!R17=\"_\",Marksheet!R17=\".\",Marksheet!R17=\"\"),0,1)","v":0},{"$f":"IF(OR(Marksheet!S17=\"_\",Marksheet!S17=\".\",Marksheet!S17=\"\"),0,1)","v":0},{"$f":"IF(OR(Marksheet!T17=\"_\",Marksheet!T17=\".\",Marksheet!T17=\"\"),0,1)","v":0},{"$f":"IF(OR(Marksheet!U17=\"_\",Marksheet!U17=\".\",Marksheet!U17=\"\"),0,1)","v":0},{"$f":"IF(OR(Marksheet!V17=\"_\",Marksheet!V17=\".\",Marksheet!V17=\"\"),0,1)","v":0},{"$f":"IF(OR(Marksheet!W17=\"_\",Marksheet!W17=\".\",Marksheet!W17=\"\"),0,1)","v":0},{"$f":"IF(OR(Marksheet!X17=\"_\",Marksheet!X17=\".\",Marksheet!X17=\"\"),0,1)","v":0},{"$f":"IF(OR(Marksheet!Y17=\"_\",Marksheet!Y17=\".\",Marksheet!Y17=\"\"),0,1)","v":0},{"$f":"IF(OR(Marksheet!Z17=\"_\",Marksheet!Z17=\".\",Marksheet!Z17=\"\"),0,1)","v":0},{"$f":"IF(OR(Marksheet!AA17=\"_\",Marksheet!AA17=\".\",Marksheet!AA17=\"\"),0,1)","v":0},{"$f":"IF(OR(Marksheet!AB17=\"_\",Marksheet!AB17=\".\",Marksheet!AB17=\"\"),0,1)","v":0},{"$f":"IF(OR(Marksheet!AC17=\"_\",Marksheet!AC17=\".\",Marksheet!AC17=\"\"),0,1)","v":0},{"$f":"IF(OR(Marksheet!AD17=\"_\",Marksheet!AD17=\".\",Marksheet!AD17=\"\"),0,1)","v":0},{"$f":"IF(OR(Marksheet!AE17=\"_\",Marksheet!AE17=\".\",Marksheet!AE17=\"\"),0,1)","v":0},{"$f":"IF(OR(Marksheet!AF17=\"_\",Marksheet!AF17=\".\",Marksheet!AF17=\"\"),0,1)","v":0},{"$f":"IF(OR(Marksheet!AG17=\"_\",Marksheet!AG17=\".\",Marksheet!AG17=\"\"),0,1)","v":0},{"$f":"IF(OR(Marksheet!AH17=\"_\",Marksheet!AH17=\".\",Marksheet!AH17=\"\"),0,1)","v":0},{"$f":"IF(OR(Marksheet!AI17=\"_\",Marksheet!AI17=\".\",Marksheet!AI17=\"\"),0,1)","v":0},{"$f":"IF(OR(Marksheet!AJ17=\"_\",Marksheet!AJ17=\".\",Marksheet!AJ17=\"\"),0,1)","v":0},{"$f":"IF(OR(Marksheet!AK17=\"_\",Marksheet!AK17=\".\",Marksheet!AK17=\"\"),0,1)","v":0},{"$f":"IF(OR(Marksheet!AL17=\"_\",Marksheet!AL17=\".\",Marksheet!AL17=\"\"),0,1)","v":0},{"$f":"IF(OR(Marksheet!AM17=\"_\",Marksheet!AM17=\".\",Marksheet!AM17=\"\"),0,1)","v":0},{"$f":"IF(OR(Marksheet!AN17=\"_\",Marksheet!AN17=\".\",Marksheet!AN17=\"\"),0,1)","v":0},{"$f":"IF(OR(Marksheet!AO17=\"_\",Marksheet!AO17=\".\",Marksheet!AO17=\"\"),0,1)","v":0},{"$f":"IF(OR(Marksheet!AP17=\"_\",Marksheet!AP17=\".\",Marksheet!AP17=\"\"),0,1)","v":0},{"$f":"IF(OR(Marksheet!AQ17=\"_\",Marksheet!AQ17=\".\",Marksheet!AQ17=\"\"),0,1)","v":0},{"$f":"IF(OR(Marksheet!AR17=\"_\",Marksheet!AR17=\".\",Marksheet!AR17=\"\"),0,1)","v":0},{"$f":"IF(OR(Marksheet!AS17=\"_\",Marksheet!AS17=\".\",Marksheet!AS17=\"\"),0,1)","v":0},{"$f":"IF(OR(Marksheet!AT17=\"_\",Marksheet!AT17=\".\",Marksheet!AT17=\"\"),0,1)","v":0},{"$f":"IF(OR(Marksheet!AU17=\"_\",Marksheet!AU17=\".\",Marksheet!AU17=\"\"),0,1)","v":0},{"$f":"IF(OR(Marksheet!AV17=\"_\",Marksheet!AV17=\".\",Marksheet!AV17=\"\"),0,1)","v":0},{"$f":"IF(OR(Marksheet!AW17=\"_\",Marksheet!AW17=\".\",Marksheet!AW17=\"\"),0,1)","v":0},{"$f":"IF(OR(Marksheet!AX17=\"_\",Marksheet!AX17=\".\",Marksheet!AX17=\"\"),0,1)","v":0},{"$f":"IF(OR(Marksheet!AY17=\"_\",Marksheet!AY17=\".\",Marksheet!AY17=\"\"),0,1)","v":0},{"$f":"IF(OR(Marksheet!AZ17=\"_\",Marksheet!AZ17=\".\",Marksheet!AZ17=\"\"),0,1)","v":0},{"$f":"IF(OR(Marksheet!BA17=\"_\",Marksheet!BA17=\".\",Marksheet!BA17=\"\"),0,1)","v":0},{"$f":"IF(OR(Marksheet!BB17=\"_\",Marksheet!BB17=\".\",Marksheet!BB17=\"\"),0,1)","v":0},{"$f":"IF(OR(Marksheet!BC17=\"_\",Marksheet!BC17=\".\",Marksheet!BC17=\"\"),0,1)","v":0},{"$f":"IF(OR(Marksheet!BD17=\"_\",Marksheet!BD17=\".\",Marksheet!BD17=\"\"),0,1)","v":0},{"$f":"IF(OR(Marksheet!BE17=\"_\",Marksheet!BE17=\".\",Marksheet!BE17=\"\"),0,1)","v":0},{"$f":"IF(OR(Marksheet!BF17=\"_\",Marksheet!BF17=\".\",Marksheet!BF17=\"\"),0,1)","v":0},{"$f":"IF(OR(Marksheet!BG17=\"_\",Marksheet!BG17=\".\",Marksheet!BG17=\"\"),0,1)","v":0},{"$f":"IF(OR(Marksheet!BH17=\"_\",Marksheet!BH17=\".\",Marksheet!BH17=\"\"),0,1)","v":0},{"$f":"IF(OR(Marksheet!BI17=\"_\",Marksheet!BI17=\".\",Marksheet!BI17=\"\"),0,1)","v":0},{"$f":"IF(OR(Marksheet!BJ17=\"_\",Marksheet!BJ17=\".\",Marksheet!BJ17=\"\"),0,1)","v":0},{"$f":"IF(OR(Marksheet!BK17=\"_\",Marksheet!BK17=\".\",Marksheet!BK17=\"\"),0,1)","v":0},{"$f":"IF(OR(Marksheet!BL17=\"_\",Marksheet!BL17=\".\",Marksheet!BL17=\"\"),0,1)","v":0},{"$f":"IF(OR(Marksheet!BM17=\"_\",Marksheet!BM17=\".\",Marksheet!BM17=\"\"),0,1)","v":0},{"$f":"IF(OR(Marksheet!BN17=\"_\",Marksheet!BN17=\".\",Marksheet!BN17=\"\"),0,1)","v":0},{"$f":"IF(OR(Marksheet!BO17=\"_\",Marksheet!BO17=\".\",Marksheet!BO17=\"\"),0,1)","v":0},{"$f":"IF(OR(Marksheet!BP17=\"_\",Marksheet!BP17=\".\",Marksheet!BP17=\"\"),0,1)","v":0},{"$f":"IF(OR(Marksheet!BQ17=\"_\",Marksheet!BQ17=\".\",Marksheet!BQ17=\"\"),0,1)","v":0},{"$f":"IF(OR(Marksheet!BR17=\"_\",Marksheet!BR17=\".\",Marksheet!BR17=\"\"),0,1)","v":0},{"$f":"IF(OR(Marksheet!BS17=\"_\",Marksheet!BS17=\".\",Marksheet!BS17=\"\"),0,1)","v":0},{"$f":"IF(OR(Marksheet!BT17=\"_\",Marksheet!BT17=\".\",Marksheet!BT17=\"\"),0,1)","v":0},{"$f":"IF(OR(Marksheet!BU17=\"_\",Marksheet!BU17=\".\",Marksheet!BU17=\"\"),0,1)","v":0},{"$f":"IF(OR(Marksheet!BV17=\"_\",Marksheet!BV17=\".\",Marksheet!BV17=\"\"),0,1)","v":0}]
[null,null,null,null,null,null,null,15,{"$f":"IF(OR(Marksheet!I18=\"_\",Marksheet!I18=\".\",Marksheet!I18=\"\"),0,1)","v":0},{"$f":"IF(OR(Marksheet!J18=\"_\",Marksheet!J18=\".\",Marksheet!J18=\"\"),0,1)","v":0},{"$f":"IF(OR(Marksheet!K18=\"_\",Marksheet!K18=\".\",Marksheet!K18=\"\"),0,1)","v":0},{"$f":"IF(OR(Marksheet!L18=\"_\",Marksheet!L18=\".\",Marksheet!L18=\"\"),0,1)","v":0},{"$f":"IF(OR(Marksheet!M18=\"_\",Marksheet!M18=\".\",Marksheet!M18=\"\"),0,1)","v":0},{"$f":"IF(OR(Marksheet!N18=\"_\",Marksheet!N18=\".\",Marksheet!N18=\"\"),0,1)","v":0},{"$f":"IF(OR(Marksheet!O18=\"_\",Marksheet!O18=\".\",Marksheet!O18=\"\"),0,1)","v":0},{"$f":"IF(OR(Marksheet!P18=\"_\",Marksheet!P18=\".\",Marksheet!P18=\"\"),0,1)","v":0},{"$f":"IF(OR(Marksheet!Q18=\"_\",Marksheet!Q18=\".\",Marksheet!Q18=\"\"),0,1)","v":0},{"$f":"IF(OR(Marksheet!R18=\"_\",Marksheet!R18=\".\",Marksheet!R18=\"\"),0,1)","v":0},{"$f":"IF(OR(Marksheet!S18=\"_\",Marksheet!S18=\".\",Marksheet!S18=\"\"),0,1)","v":0},{"$f":"IF(OR(Marksheet!T18=\"_\",Marksheet!T18=\".\",Marksheet!T18=\"\"),0,1)","v":0},{"$f":"IF(OR(Marksheet!U18=\"_\",Marksheet!U18=\".\",Marksheet!U18=\"\"),0,1)","v":0},{"$f":"IF(OR(Marksheet!V18=\"_\",Marksheet!V18=\".\",Marksheet!V18=\"\"),0,1)","v":0},{"$f":"IF(OR(Marksheet!W18=\"_\",Marksheet!W18=\".\",Marksheet!W18=\"\"),0,1)","v":0},{"$f":"IF(OR(Marksheet!X18=\"_\",Marksheet!X18=\".\",Marksheet!X18=\"\"),0,1)","v":0},{"$f":"IF(OR(Marksheet!Y18=\"_\",Marksheet!Y18=\".\",Marksheet!Y18=\"\"),0,1)","v":0},{"$f":"IF(OR(Marksheet!Z18=\"_\",Marksheet!Z18=\".\",Marksheet!Z18=\"\"),0,1)","v":0},{"$f":"IF(OR(Marksheet!AA18=\"_\",Marksheet!AA18=\".\",Marksheet!AA18=\"\"),0,1)","v":0},{"$f":"IF(OR(Marksheet!AB18=\"_\",Marksheet!AB18=\".\",Marksheet!AB18=\"\"),0,1)","v":0},{"$f":"IF(OR(Marksheet!AC18=\"_\",Marksheet!AC18=\".\",Marksheet!AC18=\"\"),0,1)","v":0},{"$f":"IF(OR(Marksheet!AD18=\"_\",Marksheet!AD18=\".\",Marksheet!AD18=\"\"),0,1)","v":0},{"$f":"IF(OR(Marksheet!AE18=\"_\",Marksheet!AE18=\".\",Marksheet!AE18=\"\"),0,1)","v":0},{"$f":"IF(OR(Marksheet!AF18=\"_\",Marksheet!AF18=\".\",Marksheet!AF18=\"\"),0,1)","v":0},{"$f":"IF(OR(Marksheet!AG18=\"_\",Marksheet!AG18=\".\",Marksheet!AG18=\"\"),0,1)","v":0},{"$f":"IF(OR(Marksheet!AH18=\"_\",Marksheet!AH18=\".\",Marksheet!AH18=\"\"),0,1)","v":0},{"$f":"IF(OR(Marksheet!AI18=\"_\",Marksheet!AI18=\".\",Marksheet!AI18=\"\"),0,1)","v":0},{"$f":"IF(OR(Marksheet!AJ18=\"_\",Marksheet!AJ18=\".\",Marksheet!AJ18=\"\"),0,1)","v":0},{"$f":"IF(OR(Marksheet!AK18=\"_\",Marksheet!AK18=\".\",Marksheet!AK18=\"\"),0,1)","v":0},{"$f":"IF(OR(Marksheet!AL18=\"_\",Marksheet!AL18=\".\",Marksheet!AL18=\"\"),0,1)","v":0},{"$f":"IF(OR(Marksheet!AM18=\"_\",Marksheet!AM18=\".\",Marksheet!AM18=\"\"),0,1)","v":0},{"$f":"IF(OR(Marksheet!AN18=\"_\",Marksheet!AN18=\".\",Marksheet!AN18=\"\"),0,1)","v":0},{"$f":"IF(OR(Marksheet!AO18=\"_\",Marksheet!AO18=\".\",Marksheet!AO18=\"\"),0,1)","v":0},{"$f":"IF(OR(Marksheet!AP18=\"_\",Marksheet!AP18=\".\",Marksheet!AP18=\"\"),0,1)","v":0},{"$f":"IF(OR(Marksheet!AQ18=\"_\",Marksheet!AQ18=\".\",Marksheet!AQ18=\"\"),0,1)","v":0},{"$f":"IF(OR(Marksheet!AR18=\"_\",Marksheet!AR18=\".\",Marksheet!AR18=\"\"),0,1)","v":0},{"$f":"IF(OR(Marksheet!AS18=\"_\",Marksheet!AS18=\".\",Marksheet!AS18=\"\"),0,1)","v":0},{"$f":"IF(OR(Marksheet!AT18=\"_\",Marksheet!AT18=\".\",Marksheet!AT18=\"\"),0,1)","v":0},{"$f":"IF(OR(Marksheet!AU18=\"_\",Marksheet!AU18=\".\",Marksheet!AU18=\"\"),0,1)","v":0},{"$f":"IF(OR(Marksheet!AV18=\"_\",Marksheet!AV18=\".\",Marksheet!AV18=\"\"),0,1)","v":0},{"$f":"IF(OR(Marksheet!AW18=\"_\",Marksheet!AW18=\".\",Marksheet!AW18=\"\"),0,1)","v":0},{"$f":"IF(OR(Marksheet!AX18=\"_\",Marksheet!AX18=\".\",Marksheet!AX18=\"\"),0,1)","v":0},{"$f":"IF(OR(Marksheet!AY18=\"_\",Marksheet!AY18=\".\",Marksheet!AY18=\"\"),0,1)","v":0},{"$f":"IF(OR(Marksheet!AZ18=\"_\",Marksheet!AZ18=\".\",Marksheet!AZ18=\"\"),0,1)","v":0},{"$f":"IF(OR(Marksheet!BA18=\"_\",Marksheet!BA18=\".\",Marksheet!BA18=\"\"),0,1)","v":0},{"$f":"IF(OR(Marksheet!BB18=\"_\",Marksheet!BB18=\".\",Marksheet!BB18=\"\"),0,1)","v":0},{"$f":"IF(OR(Marksheet!BC18=\"_\",Marksheet!BC18=\".\",Marksheet!BC18=\"\"),0,1)","v":0},{"$f":"IF(OR(Marksheet!BD18=\"_\",Marksheet!BD18=\".\",Marksheet!BD18=\"\"),0,1)","v":0},{"$f":"IF(OR(Marksheet!BE18=\"_\",Marksheet!BE18=\".\",Marksheet!BE18=\"\"),0,1)","v":0},{"$f":"IF(OR(Marksheet!BF18=\"_\",Marksheet!BF18=\".\",Marksheet!BF18=\"\"),0,1)","v":0},{"$f":"IF(OR(Marksheet!BG18=\"_\",Marksheet!BG18=\".\",Marksheet!BG18=\"\"),0,1)","v":0},{"$f":"IF(OR(Marksheet!BH18=\"_\",Marksheet!BH18=\".\",Marksheet!BH18=\"\"),0,1)","v":0},{"$f":"IF(OR(Marksheet!BI18=\"_\",Marksheet!BI18=\".\",Marksheet!BI18=\"\"),0,1)","v":0},{"$f":"IF(OR(Marksheet!BJ18=\"_\",Marksheet!BJ18=\".\",Marksheet!BJ18=\"\"),0,1)","v":0},{"$f":"IF(OR(Marksheet!BK18=\"_\",Marksheet!BK18=\".\",Marksheet!BK18=\"\"),0,1)","v":0},{"$f":"IF(OR(Marksheet!BL18=\"_\",Marksheet!BL18=\".\",Marksheet!BL18=\"\"),0,1)","v":0},{"$f":"IF(OR(Marksheet!BM18=\"_\",Marksheet!BM18=\".\",Marksheet!BM18=\"\"),0,1)","v":0},{"$f":"IF(OR(Marksheet!BN18=\"_\",Marksheet!BN18=\".\",Marksheet!BN18=\"\"),0,1)","v":0},{"$f":"IF(OR(Marksheet!BO18=\"_\",Marksheet!BO18=\".\",Marksheet!BO18=\"\"),0,1)","v":0},{"$f":"IF(OR(Marksheet!BP18=\"_\",Marksheet!BP18=\".\",Marksheet!BP18=\"\"),0,1)","v":0},{"$f":"IF(OR(Marksheet!BQ18=\"_\",Marksheet!BQ18=\".\",Marksheet!BQ18=\"\"),0,1)","v":0},{"$f":"IF(OR(Marksheet!BR18=\"_\",Marksheet!BR18=\".\",Marksheet!BR18=\"\"),0,1)","v":0},{"$f":"IF(OR(Marksheet!BS18=\"_\",Marksheet!BS18=\".\",Marksheet!BS18=\"\"),0,1)","v":0},{"$f":"IF(OR(Marksheet!BT18=\"_\",Marksheet!BT18=\".\",Marksheet!BT18=\"\"),0,1)","v":0},{"$f":"IF(OR(Marksheet!BU18=\"_\",Marksheet!BU18=\".\",Marksheet!BU18=\"\"),0,1)","v":0},{"$f":"IF(OR(Marksheet!BV18=\"_\",Marksheet!BV18=\".\",Marksheet!BV18=\"\"),0,1)","v":0}]
[null,null,null,null,null,null,null,16,{"$f":"IF(OR(Marksheet!I19=\"_\",Marksheet!I19=\".\",Marksheet!I19=\"\"),0,1)","v":0},{"$f":"IF(OR(Marksheet!J19=\"_\",Marksheet!J19=\".\",Marksheet!J19=\"\"),0,1)","v":0},{"$f":"IF(OR(Marksheet!K19=\"_\",Marksheet!K19=\".\",Marksheet!K19=\"\"),0,1)","v":0},{"$f":"IF(OR(Marksheet!L19=\"_\",Marksheet!L19=\".\",Marksheet!L19=\"\"),0,1)","v":0},{"$f":"IF(OR(Marksheet!M19=\"_\",Marksheet!M19=\".\",Marksheet!M19=\"\"),0,1)","v":0},{"$f":"IF(OR(Marksheet!N19=\"_\",Marksheet!N19=\".\",Marksheet!N19=\"\"),0,1)","v":0},{"$f":"IF(OR(Marksheet!O19=\"_\",Marksheet!O19=\".\",Marksheet!O19=\"\"),0,1)","v":0},{"$f":"IF(OR(Marksheet!P19=\"_\",Marksheet!P19=\".\",Marksheet!P19=\"\"),0,1)","v":0},{"$f":"IF(OR(Marksheet!Q19=\"_\",Marksheet!Q19=\".\",Marksheet!Q19=\"\"),0,1)","v":0},{"$f":"IF(OR(Marksheet!R19=\"_\",Marksheet!R19=\".\",Marksheet!R19=\"\"),0,1)","v":0},{"$f":"IF(OR(Marksheet!S19=\"_\",Marksheet!S19=\".\",Marksheet!S19=\"\"),0,1)","v":0},{"$f":"IF(OR(Marksheet!T19=\"_\",Marksheet!T19=\".\",Marksheet!T19=\"\"),0,1)","v":0},{"$f":"IF(OR(Marksheet!U19=\"_\",Marksheet!U19=\".\",Marksheet!U19=\"\"),0,1)","v":0},{"$f":"IF(OR(Marksheet!V19=\"_\",Marksheet!V19=\".\",Marksheet!V19=\"\"),0,1)","v":0},{"$f":"IF(OR(Marksheet!W19=\"_\",Marksheet!W19=\".\",Marksheet!W19=\"\"),0,1)","v":0},{"$f":"IF(OR(Marksheet!X19=\"_\",Marksheet!X19=\".\",Marksheet!X19=\"\"),0,1)","v":0},{"$f":"IF(OR(Marksheet!Y19=\"_\",Marksheet!Y19=\".\",Marksheet!Y19=\"\"),0,1)","v":0},{"$f":"IF(OR(Marksheet!Z19=\"_\",Marksheet!Z19=\".\",Marksheet!Z19=\"\"),0,1)","v":0},{"$f":"IF(OR(Marksheet!AA19=\"_\",Marksheet!AA19=\".\",Marksheet!AA19=\"\"),0,1)","v":0},{"$f":"IF(OR(Marksheet!AB19=\"_\",Marksheet!AB19=\".\",Marksheet!AB19=\"\"),0,1)","v":0},{"$f":"IF(OR(Marksheet!AC19=\"_\",Marksheet!AC19=\".\",Marksheet!AC19=\"\"),0,1)","v":0},{"$f":"IF(OR(Marksheet!AD19=\"_\",Marksheet!AD19=\".\",Marksheet!AD19=\"\"),0,1)","v":0},{"$f":"IF(OR(Marksheet!AE19=\"_\",Marksheet!AE19=\".\",Marksheet!AE19=\"\"),0,1)","v":0},{"$f":"IF(OR(Marksheet!AF19=\"_\",Marksheet!AF19=\".\",Marksheet!AF19=\"\"),0,1)","v":0},{"$f":"IF(OR(Marksheet!AG19=\"_\",Marksheet!AG19=\".\",Marksheet!AG19=\"\"),0,1)","v":0},{"$f":"IF(OR(Marksheet!AH19=\"_\",Marksheet!AH19=\".\",Marksheet!AH19=\"\"),0,1)","v":0},{"$f":"IF(OR(Marksheet!AI19=\"_\",Marksheet!AI19=\".\",Marksheet!AI19=\"\"),0,1)","v":0},{"$f":"IF(OR(Marksheet!AJ19=\"_\",Marksheet!AJ19=\".\",Marksheet!AJ19=\"\"),0,1)","v":0},{"$f":"IF(OR(Marksheet!AK19=\"_\",Marksheet!AK19=\".\",Marksheet!AK19=\"\"),0,1)","v":0},{"$f":"IF(OR(Marksheet!AL19=\"_\",Marksheet!AL19=\".\",Marksheet!AL19=\"\"),0,1)","v":0},{"$f":"IF(OR(Marksheet!AM19=\"_\",Marksheet!AM19=\".\",Marksheet!AM19=\"\"),0,1)","v":0},{"$f":"IF(OR(Marksheet!AN19=\"_\",Marksheet!AN19=\".\",Marksheet!AN19=\"\"),0,1)","v":0},{"$f":"IF(OR(Marksheet!AO19=\"_\",Marksheet!AO19=\".\",Marksheet!AO19=\"\"),0,1)","v":0},{"$f":"IF(OR(Marksheet!AP19=\"_\",Marksheet!AP19=\".\",Marksheet!AP19=\"\"),0,1)","v":0},{"$f":"IF(OR(Marksheet!AQ19=\"_\",Marksheet!AQ19=\".\",Marksheet!AQ19=\"\"),0,1)","v":0},{"$f":"IF(OR(Marksheet!AR19=\"_\",Marksheet!AR19=\".\",Marksheet!AR19=\"\"),0,1)","v":0},{"$f":"IF(OR(Marksheet!AS19=\"_\",Marksheet!AS19=\".\",Marksheet!AS19=\"\"),0,1)","v":0},{"$f":"IF(OR(Marksheet!AT19=\"_\",Marksheet!AT19=\".\",Marksheet!AT19=\"\"),0,1)","v":0},{"$f":"IF(OR(Marksheet!AU19=\"_\",Marksheet!AU19=\".\",Marksheet!AU19=\"\"),0,1)","v":0},{"$f":"IF(OR(Marksheet!AV19=\"_\",Marksheet!AV19=\".\",Marksheet!AV19=\"\"),0,1)","v":0},{"$f":"IF(OR(Marksheet!AW19=\"_\",Marksheet!AW19=\".\",Marksheet!AW19=\"\"),0,1)","v":0},{"$f":"IF(OR(Marksheet!AX19=\"_\",Marksheet!AX19=\".\",Marksheet!AX19=\"\"),0,1)","v":0},{"$f":"IF(OR(Marksheet!AY19=\"_\",Marksheet!AY19=\".\",Marksheet!AY19=\"\"),0,1)","v":0},{"$f":"IF(OR(Marksheet!AZ19=\"_\",Marksheet!AZ19=\".\",Marksheet!AZ19=\"\"),0,1)","v":0},{"$f":"IF(OR(Marksheet!BA19=\"_\",Marksheet!BA19=\".\",Marksheet!BA19=\"\"),0,1)","v":0},{"$f":"IF(OR(Marksheet!BB19=\"_\",Marksheet!BB19=\".\",Marksheet!BB19=\"\"),0,1)","v":0},{"$f":"IF(OR(Marksheet!BC19=\"_\",Marksheet!BC19=\".\",Marksheet!BC19=\"\"),0,1)","v":0},{"$f":"IF(OR(Marksheet!BD19=\"_\",Marksheet!BD19=\".\",Marksheet!BD19=\"\"),0,1)","v":0},{"$f":"IF(OR(Marksheet!BE19=\"_\",Marksheet!BE19=\".\",Marksheet!BE19=\"\"),0,1)","v":0},{"$f":"IF(OR(Marksheet!BF19=\"_\",Marksheet!BF19=\".\",Marksheet!BF19=\"\"),0,1)","v":0},{"$f":"IF(OR(Marksheet!BG19=\"_\",Marksheet!BG19=\".\",Marksheet!BG19=\"\"),0,1)","v":0},{"$f":"IF(OR(Marksheet!BH19=\"_\",Marksheet!BH19=\".\",Marksheet!BH19=\"\"),0,1)","v":0},{"$f":"IF(OR(Marksheet!BI19=\"_\",Marksheet!BI19=\".\",Marksheet!BI19=\"\"),0,1)","v":0},{"$f":"IF(OR(Marksheet!BJ19=\"_\",Marksheet!BJ19=\".\",Marksheet!BJ19=\"\"),0,1)","v":0},{"$f":"IF(OR(Marksheet!BK19=\"_\",Marksheet!BK19=\".\",Marksheet!BK19=\"\"),0,1)","v":0},{"$f":"IF(OR(Marksheet!BL19=\"_\",Marksheet!BL19=\".\",Marksheet!BL19=\"\"),0,1)","v":0},{"$f":"IF(OR(Marksheet!BM19=\"_\",Marksheet!BM19=\".\",Marksheet!BM19=\"\"),0,1)","v":0},{"$f":"IF(OR(Marksheet!BN19=\"_\",Marksheet!BN19=\".\",Marksheet!BN19=\"\"),0,1)","v":0},{"$f":"IF(OR(Marksheet!BO19=\"_\",Marksheet!BO19=\".\",Marksheet!BO19=\"\"),0,1)","v":0},{"$f":"IF(OR(Marksheet!BP19=\"_\",Marksheet!BP19=\".\",Marksheet!BP19=\"\"),0,1)","v":0},{"$f":"IF(OR(Marksheet!BQ19=\"_\",Marksheet!BQ19=\".\",Marksheet!BQ19=\"\"),0,1)","v":0},{"$f":"IF(OR(Marksheet!BR19=\"_\",Marksheet!BR19=\".\",Marksheet!BR19=\"\"),0,1)","v":0},{"$f":"IF(OR(Marksheet!BS19=\"_\",Marksheet!BS19=\".\",Marksheet!BS19=\"\"),0,1)","v":0},{"$f":"IF(OR(Marksheet!BT19=\"_\",Marksheet!BT19=\".\",Marksheet!BT19=\"\"),0,1)","v":0},{"$f":"IF(OR(Marksheet!BU19=\"_\",Marksheet!BU19=\".\",Marksheet!BU19=\"\"),0,1)","v":0},{"$f":"IF(OR(Marksheet!BV19=\"_\",Marksheet!BV19=\".\",Marksheet!BV19=\"\"),0,1)","v":0}]
[null,null,null,null,null,null,null,17,{"$f":"IF(OR(Marksheet!I20=\"_\",Marksheet!I20=\".\",Marksheet!I20=\"\"),0,1)","v":0},{"$f":"IF(OR(Marksheet!J20=\"_\",Marksheet!J20=\".\",Marksheet!J20=\"\"),0,1)","v":0},{"$f":"IF(OR(Marksheet!K20=\"_\",Marksheet!K20=\".\",Marksheet!K20=\"\"),0,1)","v":0},{"$f":"IF(OR(Marksheet!L20=\"_\",Marksheet!L20=\".\",Marksheet!L20=\"\"),0,1)","v":0},{"$f":"IF(OR(Marksheet!M20=\"_\",Marksheet!M20=\".\",Marksheet!M20=\"\"),0,1)","v":0},{"$f":"IF(OR(Marksheet!N20=\"_\",Marksheet!N20=\".\",Marksheet!N20=\"\"),0,1)","v":0},{"$f":"IF(OR(Marksheet!O20=\"_\",Marksheet!O20=\".\",Marksheet!O20=\"\"),0,1)","v":0},{"$f":"IF(OR(Marksheet!P20=\"_\",Marksheet!P20=\".\",Marksheet!P20=\"\"),0,1)","v":0},{"$f":"IF(OR(Marksheet!Q20=\"_\",Marksheet!Q20=\".\",Marksheet!Q20=\"\"),0,1)","v":0},{"$f":"IF(OR(Marksheet!R20=\"_\",Marksheet!R20=\".\",Marksheet!R20=\"\"),0,1)","v":0},{"$f":"IF(OR(Marksheet!S20=\"_\",Marksheet!S20=\".\",Marksheet!S20=\"\"),0,1)","v":0},{"$f":"IF(OR(Marksheet!T20=\"_\",Marksheet!T20=\".\",Marksheet!T20=\"\"),0,1)","v":0},{"$f":"IF(OR(Marksheet!U20=\"_\",Marksheet!U20=\".\",Marksheet!U20=\"\"),0,1)","v":0},{"$f":"IF(OR(Marksheet!V20=\"_\",Marksheet!V20=\".\",Marksheet!V20=\"\"),0,1)","v":0},{"$f":"IF(OR(Marksheet!W20=\"_\",Marksheet!W20=\".\",Marksheet!W20=\"\"),0,1)","v":0},{"$f":"IF(OR(Marksheet!X20=\"_\",Marksheet!X20=\".\",Marksheet!X20=\"\"),0,1)","v":0},{"$f":"IF(OR(Marksheet!Y20=\"_\",Marksheet!Y20=\".\",Marksheet!Y20=\"\"),0,1)","v":0},{"$f":"IF(OR(Marksheet!Z20=\"_\",Marksheet!Z20=\".\",Marksheet!Z20=\"\"),0,1)","v":0},{"$f":"IF(OR(Marksheet!AA20=\"_\",Marksheet!AA20=\".\",Marksheet!AA20=\"\"),0,1)","v":0},{"$f":"IF(OR(Marksheet!AB20=\"_\",Marksheet!AB20=\".\",Marksheet!AB20=\"\"),0,1)","v":0},{"$f":"IF(OR(Marksheet!AC20=\"_\",Marksheet!AC20=\".\",Marksheet!AC20=\"\"),0,1)","v":0},{"$f":"IF(OR(Marksheet!AD20=\"_\",Marksheet!AD20=\".\",Marksheet!AD20=\"\"),0,1)","v":0},{"$f":"IF(OR(Marksheet!AE20=\"_\",Marksheet!AE20=\".\",Marksheet!AE20=\"\"),0,1)","v":0},{"$f":"IF(OR(Marksheet!AF20=\"_\",Marksheet!AF20=\".\",Marksheet!AF20=\"\"),0,1)","v":0},{"$f":"IF(OR(Marksheet!AG20=\"_\",Marksheet!AG20=\".\",Marksheet!AG20=\"\"),0,1)","v":0},{"$f":"IF(OR(Marksheet!AH20=\"_\",Marksheet!AH20=\".\",Marksheet!AH20=\"\"),0,1)","v":0},{"$f":"IF(OR(Marksheet!AI20=\"_\",Marksheet!AI20=\".\",Marksheet!AI20=\"\"),0,1)","v":0},{"$f":"IF(OR(Marksheet!AJ20=\"_\",Marksheet!AJ20=\".\",Marksheet!AJ20=\"\"),0,1)","v":0},{"$f":"IF(OR(Marksheet!AK20=\"_\",Marksheet!AK20=\".\",Marksheet!AK20=\"\"),0,1)","v":0},{"$f":"IF(OR(Marksheet!AL20=\"_\",Marksheet!AL20=\".\",Marksheet!AL20=\"\"),0,1)","v":0},{"$f":"IF(OR(Marksheet!AM20=\"_\",Marksheet!AM20=\".\",Marksheet!AM20=\"\"),0,1)","v":0},{"$f":"IF(OR(Marksheet!AN20=\"_\",Marksheet!AN20=\".\",Marksheet!AN20=\"\"),0,1)","v":0},{"$f":"IF(OR(Marksheet!AO20=\"_\",Marksheet!AO20=\".\",Marksheet!AO20=\"\"),0,1)","v":0},{"$f":"IF(OR(Marksheet!AP20=\"_\",Marksheet!AP20=\".\",Marksheet!AP20=\"\"),0,1)","v":0},{"$f":"IF(OR(Marksheet!AQ20=\"_\",Marksheet!AQ20=\".\",Marksheet!AQ20=\"\"),0,1)","v":0},{"$f":"IF(OR(Marksheet!AR20=\"_\",Marksheet!AR20=\".\",Marksheet!AR20=\"\"),0,1)","v":0},{"$f":"IF(OR(Marksheet!AS20=\"_\",Marksheet!AS20=\".\",Marksheet!AS20=\"\"),0,1)","v":0},{"$f":"IF(OR(Marksheet!AT20=\"_\",Marksheet!AT20=\".\",Marksheet!AT20=\"\"),0,1)","v":0},{"$f":"IF(OR(Marksheet!AU20=\"_\",Marksheet!AU20=\".\",Marksheet!AU20=\"\"),0,1)","v":0},{"$f":"IF(OR(Marksheet!AV20=\"_\",Marksheet!AV20=\".\",Marksheet!AV20=\"\"),0,1)","v":0},{"$f":"IF(OR(Marksheet!AW20=\"_\",Marksheet!AW20=\".\",Marksheet!AW20=\"\"),0,1)","v":0},{"$f":"IF(OR(Marksheet!AX20=\"_\",Marksheet!AX20=\".\",Marksheet!AX20=\"\"),0,1)","v":0},{"$f":"IF(OR(Marksheet!AY20=\"_\",Marksheet!AY20=\".\",Marksheet!AY20=\"\"),0,1)","v":0},{"$f":"IF(OR(Marksheet!AZ20=\"_\",Marksheet!AZ20=\".\",Marksheet!AZ20=\"\"),0,1)","v":0},{"$f":"IF(OR(Marksheet!BA20=\"_\",Marksheet!BA20=\".\",Marksheet!BA20=\"\"),0,1)","v":0},{"$f":"IF(OR(Marksheet!BB20=\"_\",Marksheet!BB20=\".\",Marksheet!BB20=\"\"),0,1)","v":0},{"$f":"IF(OR(Marksheet!BC20=\"_\",Marksheet!BC20=\".\",Marksheet!BC20=\"\"),0,1)","v":0},{"$f":"IF(OR(Marksheet!BD20=\"_\",Marksheet!BD20=\".\",Marksheet!BD20=\"\"),0,1)","v":0},{"$f":"IF(OR(Marksheet!BE20=\"_\",Marksheet!BE20=\".\",Marksheet!BE20=\"\"),0,1)","v":0},{"$f":"IF(OR(Marksheet!BF20=\"_\",Marksheet!BF20=\".\",Marksheet!BF20=\"\"),0,1)","v":0},{"$f":"IF(OR(Marksheet!BG20=\"_\",Marksheet!BG20=\".\",Marksheet!BG20=\"\"),0,1)","v":0},{"$f":"IF(OR(Marksheet!BH20=\"_\",Marksheet!BH20=\".\",Marksheet!BH20=\"\"),0,1)","v":0},{"$f":"IF(OR(Marksheet!BI20=\"_\",Marksheet!BI20=\".\",Marksheet!BI20=\"\"),0,1)","v":0},{"$f":"IF(OR(Marksheet!BJ20=\"_\",Marksheet!BJ20=\".\",Marksheet!BJ20=\"\"),0,1)","v":0},{"$f":"IF(OR(Marksheet!BK20=\"_\",Marksheet!BK20=\".\",Marksheet!BK20=\"\"),0,1)","v":0},{"$f":"IF(OR(Marksheet!BL20=\"_\",Marksheet!BL20=\".\",Marksheet!BL20=\"\"),0,1)","v":0},{"$f":"IF(OR(Marksheet!BM20=\"_\",Marksheet!BM20=\".\",Marksheet!BM20=\"\"),0,1)","v":0},{"$f":"IF(OR(Marksheet!BN20=\"_\",Marksheet!BN20=\".\",Marksheet!BN20=\"\"),0,1)","v":0},{"$f":"IF(OR(Marksheet!BO20=\"_\",Marksheet!BO20=\".\",Marksheet!BO20=\"\"),0,1)","v":0},{"$f":"IF(OR(Marksheet!BP20=\"_\",Marksheet!BP20=\".\",Marksheet!BP20=\"\"),0,1)","v":0},{"$f":"IF(OR(Marksheet!BQ20=\"_\",Marksheet!BQ20=\".\",Marksheet!BQ20=\"\"),0,1)","v":0},{"$f":"IF(OR(Marksheet!BR20=\"_\",Marksheet!BR20=\".\",Marksheet!BR20=\"\"),0,1)","v":0},{"$f":"IF(OR(Marksheet!BS20=\"_\",Marksheet!BS20=\".\",Marksheet!BS20=\"\"),0,1)","v":0},{"$f":"IF(OR(Marksheet!BT20=\"_\",Marksheet!BT20=\".\",Marksheet!BT20=\"\"),0,1)","v":0},{"$f":"IF(OR(Marksheet!BU20=\"_\",Marksheet!BU20=\".\",Marksheet!BU20=\"\"),0,1)","v":0},{"$f":"IF(OR(Marksheet!BV20=\"_\",Marksheet!BV20=\".\",Marksheet!BV20=\"\"),0,1)","v":0}]
[null,null,null,null,null,null,null,18,{"$f":"IF(OR(Marksheet!I21=\"_\",Marksheet!I21=\".\",Marksheet!I21=\"\"),0,1)","v":0},{"$f":"IF(OR(Marksheet!J21=\"_\",Marksheet!J21=\".\",Marksheet!J21=\"\"),0,1)","v":0},{"$f":"IF(OR(Marksheet!K21=\"_\",Marksheet!K21=\".\",Marksheet!K21=\"\"),0,1)","v":0},{"$f":"IF(OR(Marksheet!L21=\"_\",Marksheet!L21=\".\",Marksheet!L21=\"\"),0,1)","v":0},{"$f":"IF(OR(Marksheet!M21=\"_\",Marksheet!M21=\".\",Marksheet!M21=\"\"),0,1)","v":0},{"$f":"IF(OR(Marksheet!N21=\"_\",Marksheet!N21=\".\",Marksheet!N21=\"\"),0,1)","v":0},{"$f":"IF(OR(Marksheet!O21=\"_\",Marksheet!O21=\".\",Marksheet!O21=\"\"),0,1)","v":0},{"$f":"IF(OR(Marksheet!P21=\"_\",Marksheet!P21=\".\",Marksheet!P21=\"\"),0,1)","v":0},{"$f":"IF(OR(Marksheet!Q21=\"_\",Marksheet!Q21=\".\",Marksheet!Q21=\"\"),0,1)","v":0},{"$f":"IF(OR(Marksheet!R21=\"_\",Marksheet!R21=\".\",Marksheet!R21=\"\"),0,1)","v":0},{"$f":"IF(OR(Marksheet!S21=\"_\",Marksheet!S21=\".\",Marksheet!S21=\"\"),0,1)","v":0},{"$f":"IF(OR(Marksheet!T21=\"_\",Marksheet!T21=\".\",Marksheet!T21=\"\"),0,1)","v":0},{"$f":"IF(OR(Marksheet!U21=\"_\",Marksheet!U21=\".\",Marksheet!U21=\"\"),0,1)","v":0},{"$f":"IF(OR(Marksheet!V21=\"_\",Marksheet!V21=\".\",Marksheet!V21=\"\"),0,1)","v":0},{"$f":"IF(OR(Marksheet!W21=\"_\",Marksheet!W21=\".\",Marksheet!W21=\"\"),0,1)","v":0},{"$f":"IF(OR(Marksheet!X21=\"_\",Marksheet!X21=\".\",Marksheet!X21=\"\"),0,1)","v":0},{"$f":"IF(OR(Marksheet!Y21=\"_\",Marksheet!Y21=\".\",Marksheet!Y21=\"\"),0,1)","v":0},{"$f":"IF(OR(Marksheet!Z21=\"_\",Marksheet!Z21=\".\",Marksheet!Z21=\"\"),0,1)","v":0},{"$f":"IF(OR(Marksheet!AA21=\"_\",Marksheet!AA21=\".\",Marksheet!AA21=\"\"),0,1)","v":0},{"$f":"IF(OR(Marksheet!AB21=\"_\",Marksheet!AB21=\".\",Marksheet!AB21=\"\"),0,1)","v":0},{"$f":"IF(OR(Marksheet!AC21=\"_\",Marksheet!AC21=\".\",Marksheet!AC21=\"\"),0,1)","v":0},{"$f":"IF(OR(Marksheet!AD21=\"_\",Marksheet!AD21=\".\",Marksheet!AD21=\"\"),0,1)","v":0},{"$f":"IF(OR(Marksheet!AE21=\"_\",Marksheet!AE21=\".\",Marksheet!AE21=\"\"),0,1)","v":0},{"$f":"IF(OR(Marksheet!AF21=\"_\",Marksheet!AF21=\".\",Marksheet!AF21=\"\"),0,1)","v":0},{"$f":"IF(OR(Marksheet!AG21=\"_\",Marksheet!AG21=\".\",Marksheet!AG21=\"\"),0,1)","v":0},{"$f":"IF(OR(Marksheet!AH21=\"_\",Marksheet!AH21=\".\",Marksheet!AH21=\"\"),0,1)","v":0},{"$f":"IF(OR(Marksheet!AI21=\"_\",Marksheet!AI21=\".\",Marksheet!AI21=\"\"),0,1)","v":0},{"$f":"IF(OR(Marksheet!AJ21=\"_\",Marksheet!AJ21=\".\",Marksheet!AJ21=\"\"),0,1)","v":0},{"$f":"IF(OR(Marksheet!AK21=\"_\",Marksheet!AK21=\".\",Marksheet!AK21=\"\"),0,1)","v":0},{"$f":"IF(OR(Marksheet!AL21=\"_\",Marksheet!AL21=\".\",Marksheet!AL21=\"\"),0,1)","v":0},{"$f":"IF(OR(Marksheet!AM21=\"_\",Marksheet!AM21=\".\",Marksheet!AM21=\"\"),0,1)","v":0},{"$f":"IF(OR(Marksheet!AN21=\"_\",Marksheet!AN21=\".\",Marksheet!AN21=\"\"),0,1)","v":0},{"$f":"IF(OR(Marksheet!AO21=\"_\",Marksheet!AO21=\".\",Marksheet!AO21=\"\"),0,1)","v":0},{"$f":"IF(OR(Marksheet!AP21=\"_\",Marksheet!AP21=\".\",Marksheet!AP21=\"\"),0,1)","v":0},{"$f":"IF(OR(Marksheet!AQ21=\"_\",Marksheet!AQ21=\".\",Marksheet!AQ21=\"\"),0,1)","v":0},{"$f":"IF(OR(Marksheet!AR21=\"_\",Marksheet!AR21=\".\",Marksheet!AR21=\"\"),0,1)","v":0},{"$f":"IF(OR(Marksheet!AS21=\"_\",Marksheet!AS21=\".\",Marksheet!AS21=\"\"),0,1)","v":0},{"$f":"IF(OR(Marksheet!AT21=\"_\",Marksheet!AT21=\".\",Marksheet!AT21=\"\"),0,1)","v":0},{"$f":"IF(OR(Marksheet!AU21=\"_\",Marksheet!AU21=\".\",Marksheet!AU21=\"\"),0,1)","v":0},{"$f":"IF(OR(Marksheet!AV21=\"_\",Marksheet!AV21=\".\",Marksheet!AV21=\"\"),0,1)","v":0},{"$f":"IF(OR(Marksheet!AW21=\"_\",Marksheet!AW21=\".\",Marksheet!AW21=\"\"),0,1)","v":0},{"$f":"IF(OR(Marksheet!AX21=\"_\",Marksheet!AX21=\".\",Marksheet!AX21=\"\"),0,1)","v":0},{"$f":"IF(OR(Marksheet!AY21=\"_\",Marksheet!AY21=\".\",Marksheet!AY21=\"\"),0,1)","v":0},{"$f":"IF(OR(Marksheet!AZ21=\"_\",Marksheet!AZ21=\".\",Marksheet!AZ21=\"\"),0,1)","v":0},{"$f":"IF(OR(Marksheet!BA21=\"_\",Marksheet!BA21=\".\",Marksheet!BA21=\"\"),0,1)","v":0},{"$f":"IF(OR(Marksheet!BB21=\"_\",Marksheet!BB21=\".\",Marksheet!BB21=\"\"),0,1)","v":0},{"$f":"IF(OR(Marksheet!BC21=\"_\",Marksheet!BC21=\".\",Marksheet!BC21=\"\"),0,1)","v":0},{"$f":"IF(OR(Marksheet!BD21=\"_\",Marksheet!BD21=\".\",Marksheet!BD21=\"\"),0,1)","v":0},{"$f":"IF(OR(Marksheet!BE21=\"_\",Marksheet!BE21=\".\",Marksheet!BE21=\"\"),0,1)","v":0},{"$f":"IF(OR(Marksheet!BF21=\"_\",Marksheet!BF21=\".\",Marksheet!BF21=\"\"),0,1)","v":0},{"$f":"IF(OR(Marksheet!BG21=\"_\",Marksheet!BG21=\".\",Marksheet!BG21=\"\"),0,1)","v":0},{"$f":"IF(OR(Marksheet!BH21=\"_\",Marksheet!BH21=\".\",Marksheet!BH21=\"\"),0,1)","v":0},{"$f":"IF(OR(Marksheet!BI21=\"_\",Marksheet!BI21=\".\",Marksheet!BI21=\"\"),0,1)","v":0},{"$f":"IF(OR(Marksheet!BJ21=\"_\",Marksheet!BJ21=\".\",Marksheet!BJ21=\"\"),0,1)","v":0},{"$f":"IF(OR(Marksheet!BK21=\"_\",Marksheet!BK21=\".\",Marksheet!BK21=\"\"),0,1)","v":0},{"$f":"IF(OR(Marksheet!BL21=\"_\",Marksheet!BL21=\".\",Marksheet!BL21=\"\"),0,1)","v":0},{"$f":"IF(OR(Marksheet!BM21=\"_\",Marksheet!BM21=\".\",Marksheet!BM21=\"\"),0,1)","v":0},{"$f":"IF(OR(Marksheet!BN21=\"_\",Marksheet!BN21=\".\",Marksheet!BN21=\"\"),0,1)","v":0},{"$f":"IF(OR(Marksheet!BO21=\"_\",Marksheet!BO21=\".\",Marksheet!BO21=\"\"),0,1)","v":0},{"$f":"IF(OR(Marksheet!BP21=\"_\",Marksheet!BP21=\".\",Marksheet!BP21=\"\"),0,1)","v":0},{"$f":"IF(OR(Marksheet!BQ21=\"_\",Marksheet!BQ21=\".\",Marksheet!BQ21=\"\"),0,1)","v":0},{"$f":"IF(OR(Marksheet!BR21=\"_\",Marksheet!BR21=\".\",Marksheet!BR21=\"\"),0,1)","v":0},{"$f":"IF(OR(Marksheet!BS21=\"_\",Marksheet!BS21=\".\",Marksheet!BS21=\"\"),0,1)","v":0},{"$f":"IF(OR(Marksheet!BT21=\"_\",Marksheet!BT21=\".\",Marksheet!BT21=\"\"),0,1)","v":0},{"$f":"IF(OR(Marksheet!BU21=\"_\",Marksheet!BU21=\".\",Marksheet!BU21=\"\"),0,1)","v":0},{"$f":"IF(OR(Marksheet!BV21=\"_\",Marksheet!BV21=\".\",Marksheet!BV21=\"\"),0,1)","v":0}]
[null,null,null,null,null,null,null,19,{"$f":"IF(OR(Marksheet!I22=\"_\",Marksheet!I22=\".\",Marksheet!I22=\"\"),0,1)","v":0},{"$f":"IF(OR(Marksheet!J22=\"_\",Marksheet!J22=\".\",Marksheet!J22=\"\"),0,1)","v":0},{"$f":"IF(OR(Marksheet!K22=\"_\",Marksheet!K22=\".\",Marksheet!K22=\"\"),0,1)","v":0},{"$f":"IF(OR(Marksheet!L22=\"_\",Marksheet!L22=\".\",Marksheet!L22=\"\"),0,1)","v":0},{"$f":"IF(OR(Marksheet!M22=\"_\",Marksheet!M22=\".\",Marksheet!M22=\"\"),0,1)","v":0},{"$f":"IF(OR(Marksheet!N22=\"_\",Marksheet!N22=\".\",Marksheet!N22=\"\"),0,1)","v":0},{"$f":"IF(OR(Marksheet!O22=\"_\",Marksheet!O22=\".\",Marksheet!O22=\"\"),0,1)","v":0},{"$f":"IF(OR(Marksheet!P22=\"_\",Marksheet!P22=\".\",Marksheet!P22=\"\"),0,1)","v":0},{"$f":"IF(OR(Marksheet!Q22=\"_\",Marksheet!Q22=\".\",Marksheet!Q22=\"\"),0,1)","v":0},{"$f":"IF(OR(Marksheet!R22=\"_\",Marksheet!R22=\".\",Marksheet!R22=\"\"),0,1)","v":0},{"$f":"IF(OR(Marksheet!S22=\"_\",Marksheet!S22=\".\",Marksheet!S22=\"\"),0,1)","v":0},{"$f":"IF(OR(Marksheet!T22=\"_\",Marksheet!T22=\".\",Marksheet!T22=\"\"),0,1)","v":0},{"$f":"IF(OR(Marksheet!U22=\"_\",Marksheet!U22=\".\",Marksheet!U22=\"\"),0,1)","v":0},{"$f":"IF(OR(Marksheet!V22=\"_\",Marksheet!V22=\".\",Marksheet!V22=\"\"),0,1)","v":0},{"$f":"IF(OR(Marksheet!W22=\"_\",Marksheet!W22=\".\",Marksheet!W22=\"\"),0,1)","v":0},{"$f":"IF(OR(Marksheet!X22=\"_\",Marksheet!X22=\".\",Marksheet!X22=\"\"),0,1)","v":0},{"$f":"IF(OR(Marksheet!Y22=\"_\",Marksheet!Y22=\".\",Marksheet!Y22=\"\"),0,1)","v":0},{"$f":"IF(OR(Marksheet!Z22=\"_\",Marksheet!Z22=\".\",Marksheet!Z22=\"\"),0,1)","v":0},{"$f":"IF(OR(Marksheet!AA22=\"_\",Marksheet!AA22=\".\",Marksheet!AA22=\"\"),0,1)","v":0},{"$f":"IF(OR(Marksheet!AB22=\"_\",Marksheet!AB22=\".\",Marksheet!AB22=\"\"),0,1)","v":0},{"$f":"IF(OR(Marksheet!AC22=\"_\",Marksheet!AC22=\".\",Marksheet!AC22=\"\"),0,1)","v":0},{"$f":"IF(OR(Marksheet!AD22=\"_\",Marksheet!AD22=\".\",Marksheet!AD22=\"\"),0,1)","v":0},{"$f":"IF(OR(Marksheet!AE22=\"_\",Marksheet!AE22=\".\",Marksheet!AE22=\"\"),0,1)","v":0},{"$f":"IF(OR(Marksheet!AF22=\"_\",Marksheet!AF22=\".\",Marksheet!AF22=\"\"),0,1)","v":0},{"$f":"IF(OR(Marksheet!AG22=\"_\",Marksheet!AG22=\".\",Marksheet!AG22=\"\"),0,1)","v":0},{"$f":"IF(OR(Marksheet!AH22=\"_\",Marksheet!AH22=\".\",Marksheet!AH22=\"\"),0,1)","v":0},{"$f":"IF(OR(Marksheet!AI22=\"_\",Marksheet!AI22=\".\",Marksheet!AI22=\"\"),0,1)","v":0},{"$f":"IF(OR(Marksheet!AJ22=\"_\",Marksheet!AJ22=\".\",Marksheet!AJ22=\"\"),0,1)","v":0},{"$f":"IF(OR(Marksheet!AK22=\"_\",Marksheet!AK22=\".\",Marksheet!AK22=\"\"),0,1)","v":0},{"$f":"IF(OR(Marksheet!AL22=\"_\",Marksheet!AL22=\".\",Marksheet!AL22=\"\"),0,1)","v":0},{"$f":"IF(OR(Marksheet!AM22=\"_\",Marksheet!AM22=\".\",Marksheet!AM22=\"\"),0,1)","v":0},{"$f":"IF(OR(Marksheet!AN22=\"_\",Marksheet!AN22=\".\",Marksheet!AN22=\"\"),0,1)","v":0},{"$f":"IF(OR(Marksheet!AO22=\"_\",Marksheet!AO22=\".\",Marksheet!AO22=\"\"),0,1)","v":0},{"$f":"IF(OR(Marksheet!AP22=\"_\",Marksheet!AP22=\".\",Marksheet!AP22=\"\"),0,1)","v":0},{"$f":"IF(OR(Marksheet!AQ22=\"_\",Marksheet!AQ22=\".\",Marksheet!AQ22=\"\"),0,1)","v":0},{"$f":"IF(OR(Marksheet!AR22=\"_\",Marksheet!AR22=\".\",Marksheet!AR22=\"\"),0,1)","v":0},{"$f":"IF(OR(Marksheet!AS22=\"_\",Marksheet!AS22=\".\",Marksheet!AS22=\"\"),0,1)","v":0},{"$f":"IF(OR(Marksheet!AT22=\"_\",Marksheet!AT22=\".\",Marksheet!AT22=\"\"),0,1)","v":0},{"$f":"IF(OR(Marksheet!AU22=\"_\",Marksheet!AU22=\".\",Marksheet!AU22=\"\"),0,1)","v":0},{"$f":"IF(OR(Marksheet!AV22=\"_\",Marksheet!AV22=\".\",Marksheet!AV22=\"\"),0,1)","v":0},{"$f":"IF(OR(Marksheet!AW22=\"_\",Marksheet!AW22=\".\",Marksheet!AW22=\"\"),0,1)","v":0},{"$f":"IF(OR(Marksheet!AX22=\"_\",Marksheet!AX22=\".\",Marksheet!AX22=\"\"),0,1)","v":0},{"$f":"IF(OR(Marksheet!AY22=\"_\",Marksheet!AY22=\".\",Marksheet!AY22=\"\"),0,1)","v":0},{"$f":"IF(OR(Marksheet!AZ22=\"_\",Marksheet!AZ22=\".\",Marksheet!AZ22=\"\"),0,1)","v":0},{"$f":"IF(OR(Marksheet!BA22=\"_\",Marksheet!BA22=\".\",Marksheet!BA22=\"\"),0,1)","v":0},{"$f":"IF(OR(Marksheet!BB22=\"_\",Marksheet!BB22=\".\",Marksheet!BB22=\"\"),0,1)","v":0},{"$f":"IF(OR(Marksheet!BC22=\"_\",Marksheet!BC22=\".\",Marksheet!BC22=\"\"),0,1)","v":0},{"$f":"IF(OR(Marksheet!BD22=\"_\",Marksheet!BD22=\".\",Marksheet!BD22=\"\"),0,1)","v":0},{"$f":"IF(OR(Marksheet!BE22=\"_\",Marksheet!BE22=\".\",Marksheet!BE22=\"\"),0,1)","v":0},{"$f":"IF(OR(Marksheet!BF22=\"_\",Marksheet!BF22=\".\",Marksheet!BF22=\"\"),0,1)","v":0},{"$f":"IF(OR(Marksheet!BG22=\"_\",Marksheet!BG22=\".\",Marksheet!BG22=\"\"),0,1)","v":0},{"$f":"IF(OR(Marksheet!BH22=\"_\",Marksheet!BH22=\".\",Marksheet!BH22=\"\"),0,1)","v":0},{"$f":"IF(OR(Marksheet!BI22=\"_\",Marksheet!BI22=\".\",Marksheet!BI22=\"\"),0,1)","v":0},{"$f":"IF(OR(Marksheet!BJ22=\"_\",Marksheet!BJ22=\".\",Marksheet!BJ22=\"\"),0,1)","v":0},{"$f":"IF(OR(Marksheet!BK22=\"_\",Marksheet!BK22=\".\",Marksheet!BK22=\"\"),0,1)","v":0},{"$f":"IF(OR(Marksheet!BL22=\"_\",Marksheet!BL22=\".\",Marksheet!BL22=\"\"),0,1)","v":0},{"$f":"IF(OR(Marksheet!BM22=\"_\",Marksheet!BM22=\".\",Marksheet!BM22=\"\"),0,1)","v":0},{"$f":"IF(OR(Marksheet!BN22=\"_\",Marksheet!BN22=\".\",Marksheet!BN22=\"\"),0,1)","v":0},{"$f":"IF(OR(Marksheet!BO22=\"_\",Marksheet!BO22=\".\",Marksheet!BO22=\"\"),0,1)","v":0},{"$f":"IF(OR(Marksheet!BP22=\"_\",Marksheet!BP22=\".\",Marksheet!BP22=\"\"),0,1)","v":0},{"$f":"IF(OR(Marksheet!BQ22=\"_\",Marksheet!BQ22=\".\",Marksheet!BQ22=\"\"),0,1)","v":0},{"$f":"IF(OR(Marksheet!BR22=\"_\",Marksheet!BR22=\".\",Marksheet!BR22=\"\"),0,1)","v":0},{"$f":"IF(OR(Marksheet!BS22=\"_\",Marksheet!BS22=\".\",Marksheet!BS22=\"\"),0,1)","v":0},{"$f":"IF(OR(Marksheet!BT22=\"_\",Marksheet!BT22=\".\",Marksheet!BT22=\"\"),0,1)","v":0},{"$f":"IF(OR(Marksheet!BU22=\"_\",Marksheet!BU22=\".\",Marksheet!BU22=\"\"),0,1)","v":0},{"$f":"IF(OR(Marksheet!BV22=\"_\",Marksheet!BV22=\".\",Marksheet!BV22=\"\"),0,1)","v":0}]
[null,null,null,null,null,null,null,20,{"$f":"IF(OR(Marksheet!I23=\"_\",Marksheet!I23=\".\",Marksheet!I23=\"\"),0,1)","v":0},{"$f":"IF(OR(Marksheet!J23=\"_\",Marksheet!J23=\".\",Marksheet!J23=\"\"),0,1)","v":0},{"$f":"IF(OR(Marksheet!K23=\"_\",Marksheet!K23=\".\",Marksheet!K23=\"\"),0,1)","v":0},{"$f":"IF(OR(Marksheet!L23=\"_\",Marksheet!L23=\".\",Marksheet!L23=\"\"),0,1)","v":0},{"$f":"IF(OR(Marksheet!M23=\"_\",Marksheet!M23=\".\",Marksheet!M23=\"\"),0,1)","v":0},{"$f":"IF(OR(Marksheet!N23=\"_\",Marksheet!N23=\".\",Marksheet!N23=\"\"),0,1)","v":0},{"$f":"IF(OR(Marksheet!O23=\"_\",Marksheet!O23=\".\",Marksheet!O23=\"\"),0,1)","v":0},{"$f":"IF(OR(Marksheet!P23=\"_\",Marksheet!P23=\".\",Marksheet!P23=\"\"),0,1)","v":0},{"$f":"IF(OR(Marksheet!Q23=\"_\",Marksheet!Q23=\".\",Marksheet!Q23=\"\"),0,1)","v":0},{"$f":"IF(OR(Marksheet!R23=\"_\",Marksheet!R23=\".\",Marksheet!R23=\"\"),0,1)","v":0},{"$f":"IF(OR(Marksheet!S23=\"_\",Marksheet!S23=\".\",Marksheet!S23=\"\"),0,1)","v":0},{"$f":"IF(OR(Marksheet!T23=\"_\",Marksheet!T23=\".\",Marksheet!T23=\"\"),0,1)","v":0},{"$f":"IF(OR(Marksheet!U23=\"_\",Marksheet!U23=\".\",Marksheet!U23=\"\"),0,1)","v":0},{"$f":"IF(OR(Marksheet!V23=\"_\",Marksheet!V23=\".\",Marksheet!V23=\"\"),0,1)","v":0},{"$f":"IF(OR(Marksheet!W23=\"_\",Marksheet!W23=\".\",Marksheet!W23=\"\"),0,1)","v":0},{"$f":"IF(OR(Marksheet!X23=\"_\",Marksheet!X23=\".\",Marksheet!X23=\"\"),0,1)","v":0},{"$f":"IF(OR(Marksheet!Y23=\"_\",Marksheet!Y23=\".\",Marksheet!Y23=\"\"),0,1)","v":0},{"$f":"IF(OR(Marksheet!Z23=\"_\",Marksheet!Z23=\".\",Marksheet!Z23=\"\"),0,1)","v":0},{"$f":"IF(OR(Marksheet!AA23=\"_\",Marksheet!AA23=\".\",Marksheet!AA23=\"\"),0,1)","v":0},{"$f":"IF(OR(Marksheet!AB23=\"_\",Marksheet!AB23=\".\",Marksheet!AB23=\"\"),0,1)","v":0},{"$f":"IF(OR(Marksheet!AC23=\"_\",Marksheet!AC23=\".\",Marksheet!AC23=\"\"),0,1)","v":0},{"$f":"IF(OR(Marksheet!AD23=\"_\",Marksheet!AD23=\".\",Marksheet!AD23=\"\"),0,1)","v":0},{"$f":"IF(OR(Marksheet!AE23=\"_\",Marksheet!AE23=\".\",Marksheet!AE23=\"\"),0,1)","v":0},{"$f":"IF(OR(Marksheet!AF23=\"_\",Marksheet!AF23=\".\",Marksheet!AF23=\"\"),0,1)","v":0},{"$f":"IF(OR(Marksheet!AG23=\"_\",Marksheet!AG23=\".\",Marksheet!AG23=\"\"),0,1)","v":0},{"$f":"IF(OR(Marksheet!AH23=\"_\",Marksheet!AH23=\".\",Marksheet!AH23=\"\"),0,1)","v":0},{"$f":"IF(OR(Marksheet!AI23=\"_\",Marksheet!AI23=\".\",Marksheet!AI23=\"\"),0,1)","v":0},{"$f":"IF(OR(Marksheet!AJ23=\"_\",Marksheet!AJ23=\".\",Marksheet!AJ23=\"\"),0,1)","v":0},{"$f":"IF(OR(Marksheet!AK23=\"_\",Marksheet!AK23=\".\",Marksheet!AK23=\"\"),0,1)","v":0},{"$f":"IF(OR(Marksheet!AL23=\"_\",Marksheet!AL23=\".\",Marksheet!AL23=\"\"),0,1)","v":0},{"$f":"IF(OR(Marksheet!AM23=\"_\",Marksheet!AM23=\".\",Marksheet!AM23=\"\"),0,1)","v":0},{"$f":"IF(OR(Marksheet!AN23=\"_\",Marksheet!AN23=\".\",Marksheet!AN23=\"\"),0,1)","v":0},{"$f":"IF(OR(Marksheet!AO23=\"_\",Marksheet!AO23=\".\",Marksheet!AO23=\"\"),0,1)","v":0},{"$f":"IF(OR(Marksheet!AP23=\"_\",Marksheet!AP23=\".\",Marksheet!AP23=\"\"),0,1)","v":0},{"$f":"IF(OR(Marksheet!AQ23=\"_\",Marksheet!AQ23=\".\",Marksheet!AQ23=\"\"),0,1)","v":0},{"$f":"IF(OR(Marksheet!AR23=\"_\",Marksheet!AR23=\".\",Marksheet!AR23=\"\"),0,1)","v":0},{"$f":"IF(OR(Marksheet!AS23=\"_\",Marksheet!AS23=\".\",Marksheet!AS23=\"\"),0,1)","v":0},{"$f":"IF(OR(Marksheet!AT23=\"_\",Marksheet!AT23=\".\",Marksheet!AT23=\"\"),0,1)","v":0},{"$f":"IF(OR(Marksheet!AU23=\"_\",Marksheet!AU23=\".\",Marksheet!AU23=\"\"),0,1)","v":0},{"$f":"IF(OR(Marksheet!AV23=\"_\",Marksheet!AV23=\".\",Marksheet!AV23=\"\"),0,1)","v":0},{"$f":"IF(OR(Marksheet!AW23=\"_\",Marksheet!AW23=\".\",Marksheet!AW23=\"\"),0,1)","v":0},{"$f":"IF(OR(Marksheet!AX23=\"_\",Marksheet!AX23=\".\",Marksheet!AX23=\"\"),0,1)","v":0},{"$f":"IF(OR(Marksheet!AY23=\"_\",Marksheet!AY23=\".\",Marksheet!AY23=\"\"),0,1)","v":0},{"$f":"IF(OR(Marksheet!AZ23=\"_\",Marksheet!AZ23=\".\",Marksheet!AZ23=\"\"),0,1)","v":0},{"$f":"IF(OR(Marksheet!BA23=\"_\",Marksheet!BA23=\".\",Marksheet!BA23=\"\"),0,1)","v":0},{"$f":"IF(OR(Marksheet!BB23=\"_\",Marksheet!BB23=\".\",Marksheet!BB23=\"\"),0,1)","v":0},{"$f":"IF(OR(Marksheet!BC23=\"_\",Marksheet!BC23=\".\",Marksheet!BC23=\"\"),0,1)","v":0},{"$f":"IF(OR(Marksheet!BD23=\"_\",Marksheet!BD23=\".\",Marksheet!BD23=\"\"),0,1)","v":0},{"$f":"IF(OR(Marksheet!BE23=\"_\",Marksheet!BE23=\".\",Marksheet!BE23=\"\"),0,1)","v":0},{"$f":"IF(OR(Marksheet!BF23=\"_\",Marksheet!BF23=\".\",Marksheet!BF23=\"\"),0,1)","v":0},{"$f":"IF(OR(Marksheet!BG23=\"_\",Marksheet!BG23=\".\",Marksheet!BG23=\"\"),0,1)","v":0},{"$f":"IF(OR(Marksheet!BH23=\"_\",Marksheet!BH23=\".\",Marksheet!BH23=\"\"),0,1)","v":0},{"$f":"IF(OR(Marksheet!BI23=\"_\",Marksheet!BI23=\".\",Marksheet!BI23=\"\"),0,1)","v":0},{"$f":"IF(OR(Marksheet!BJ23=\"_\",Marksheet!BJ23=\".\",Marksheet!BJ23=\"\"),0,1)","v":0},{"$f":"IF(OR(Marksheet!BK23=\"_\",Marksheet!BK23=\".\",Marksheet!BK23=\"\"),0,1)","v":0},{"$f":"IF(OR(Marksheet!BL23=\"_\",Marksheet!BL23=\".\",Marksheet!BL23=\"\"),0,1)","v":0},{"$f":"IF(OR(Marksheet!BM23=\"_\",Marksheet!BM23=\".\",Marksheet!BM23=\"\"),0,1)","v":0},{"$f":"IF(OR(Marksheet!BN23=\"_\",Marksheet!BN23=\".\",Marksheet!BN23=\"\"),0,1)","v":0},{"$f":"IF(OR(Marksheet!BO23=\"_\",Marksheet!BO23=\".\",Marksheet!BO23=\"\"),0,1)","v":0},{"$f":"IF(OR(Marksheet!BP23=\"_\",Marksheet!BP23=\".\",Marksheet!BP23=\"\"),0,1)","v":0},{"$f":"IF(OR(Marksheet!BQ23=\"_\",Marksheet!BQ23=\".\",Marksheet!BQ23=\"\"),0,1)","v":0},{"$f":"IF(OR(Marksheet!BR23=\"_\",Marksheet!BR23=\".\",Marksheet!BR23=\"\"),0,1)","v":0},{"$f":"IF(OR(Marksheet!BS23=\"_\",Marksheet!BS23=\".\",Marksheet!BS23=\"\"),0,1)","v":0},{"$f":"IF(OR(Marksheet!BT23=\"_\",Marksheet!BT23=\".\",Marksheet!BT23=\"\"),0,1)","v":0},{"$f":"IF(OR(Marksheet!BU23=\"_\",Marksheet!BU23=\".\",Marksheet!BU23=\"\"),0,1)","v":0},{"$f":"IF(OR(Marksheet!BV23=\"_\",Marksheet!BV23=\".\",Marksheet!BV23=\"\"),0,1)","v":0}]
[null,null,null,null,null,null,null,21,{"$f":"IF(OR(Marksheet!I24=\"_\",Marksheet!I24=\".\",Marksheet!I24=\"\"),0,1)","v":0},{"$f":"IF(OR(Marksheet!J24=\"_\",Marksheet!J24=\".\",Marksheet!J24=\"\"),0,1)","v":0},{"$f":"IF(OR(Marksheet!K24=\"_\",Marksheet!K24=\".\",Marksheet!K24=\"\"),0,1)","v":0},{"$f":"IF(OR(Marksheet!L24=\"_\",Marksheet!L24=\".\",Marksheet!L24=\"\"),0,1)","v":0},{"$f":"IF(OR(Marksheet!M24=\"_\",Marksheet!M24=\".\",Marksheet!M24=\"\"),0,1)","v":0},{"$f":"IF(OR(Marksheet!N24=\"_\",Marksheet!N24=\".\",Marksheet!N24=\"\"),0,1)","v":0},{"$f":"IF(OR(Marksheet!O24=\"_\",Marksheet!O24=\".\",Marksheet!O24=\"\"),0,1)","v":0},{"$f":"IF(OR(Marksheet!P24=\"_\",Marksheet!P24=\".\",Marksheet!P24=\"\"),0,1)","v":0},{"$f":"IF(OR(Marksheet!Q24=\"_\",Marksheet!Q24=\".\",Marksheet!Q24=\"\"),0,1)","v":0},{"$f":"IF(OR(Marksheet!R24=\"_\",Marksheet!R24=\".\",Marksheet!R24=\"\"),0,1)","v":0},{"$f":"IF(OR(Marksheet!S24=\"_\",Marksheet!S24=\".\",Marksheet!S24=\"\"),0,1)","v":0},{"$f":"IF(OR(Marksheet!T24=\"_\",Marksheet!T24=\".\",Marksheet!T24=\"\"),0,1)","v":0},{"$f":"IF(OR(Marksheet!U24=\"_\",Marksheet!U24=\".\",Marksheet!U24=\"\"),0,1)","v":0},{"$f":"IF(OR(Marksheet!V24=\"_\",Marksheet!V24=\".\",Marksheet!V24=\"\"),0,1)","v":0},{"$f":"IF(OR(Marksheet!W24=\"_\",Marksheet!W24=\".\",Marksheet!W24=\"\"),0,1)","v":0},{"$f":"IF(OR(Marksheet!X24=\"_\",Marksheet!X24=\".\",Marksheet!X24=\"\"),0,1)","v":0},{"$f":"IF(OR(Marksheet!Y24=\"_\",Marksheet!Y24=\".\",Marksheet!Y24=\"\"),0,1)","v":0},{"$f":"IF(OR(Marksheet!Z24=\"_\",Marksheet!Z24=\".\",Marksheet!Z24=\"\"),0,1)","v":0},{"$f":"IF(OR(Marksheet!AA24=\"_\",Marksheet!AA24=\".\",Marksheet!AA24=\"\"),0,1)","v":0},{"$f":"IF(OR(Marksheet!AB24=\"_\",Marksheet!AB24=\".\",Marksheet!AB24=\"\"),0,1)","v":0},{"$f":"IF(OR(Marksheet!AC24=\"_\",Marksheet!AC24=\".\",Marksheet!AC24=\"\"),0,1)","v":0},{"$f":"IF(OR(Marksheet!AD24=\"_\",Marksheet!AD24=\".\",Marksheet!AD24=\"\"),0,1)","v":0},{"$f":"IF(OR(Marksheet!AE24=\"_\",Marksheet!AE24=\".\",Marksheet!AE24=\"\"),0,1)","v":0},{"$f":"IF(OR(Marksheet!AF24=\"_\",Marksheet!AF24=\".\",Marksheet!AF24=\"\"),0,1)","v":0},{"$f":"IF(OR(Marksheet!AG24=\"_\",Marksheet!AG24=\".\",Marksheet!AG24=\"\"),0,1)","v":0},{"$f":"IF(OR(Marksheet!AH24=\"_\",Marksheet!AH24=\".\",Marksheet!AH24=\"\"),0,1)","v":0},{"$f":"IF(OR(Marksheet!AI24=\"_\",Marksheet!AI24=\".\",Marksheet!AI24=\"\"),0,1)","v":0},{"$f":"IF(OR(Marksheet!AJ24=\"_\",Marksheet!AJ24=\".\",Marksheet!AJ24=\"\"),0,1)","v":0},{"$f":"IF(OR(Marksheet!AK24=\"_\",Marksheet!AK24=\".\",Marksheet!AK24=\"\"),0,1)","v":0},{"$f":"IF(OR(Marksheet!AL24=\"_\",Marksheet!AL24=\".\",Marksheet!AL24=\"\"),0,1)","v":0},{"$f":"IF(OR(Marksheet!AM24=\"_\",Marksheet!AM24=\".\",Marksheet!AM24=\"\"),0,1)","v":0},{"$f":"IF(OR(Marksheet!AN24=\"_\",Marksheet!AN24=\".\",Marksheet!AN24=\"\"),0,1)","v":0},{"$f":"IF(OR(Marksheet!AO24=\"_\",Marksheet!AO24=\".\",Marksheet!AO24=\"\"),0,1)","v":0},{"$f":"IF(OR(Marksheet!AP24=\"_\",Marksheet!AP24=\".\",Marksheet!AP24=\"\"),0,1)","v":0},{"$f":"IF(OR(Marksheet!AQ24=\"_\",Marksheet!AQ24=\".\",Marksheet!AQ24=\"\"),0,1)","v":0},{"$f":"IF(OR(Marksheet!AR24=\"_\",Marksheet!AR24=\".\",Marksheet!AR24=\"\"),0,1)","v":0},{"$f":"IF(OR(Marksheet!AS24=\"_\",Marksheet!AS24=\".\",Marksheet!AS24=\"\"),0,1)","v":0},{"$f":"IF(OR(Marksheet!AT24=\"_\",Marksheet!AT24=\".\",Marksheet!AT24=\"\"),0,1)","v":0},{"$f":"IF(OR(Marksheet!AU24=\"_\",Marksheet!AU24=\".\",Marksheet!AU24=\"\"),0,1)","v":0},{"$f":"IF(OR(Marksheet!AV24=\"_\",Marksheet!AV24=\".\",Marksheet!AV24=\"\"),0,1)","v":0},{"$f":"IF(OR(Marksheet!AW24=\"_\",Marksheet!AW24=\".\",Marksheet!AW24=\"\"),0,1)","v":0},{"$f":"IF(OR(Marksheet!AX24=\"_\",Marksheet!AX24=\".\",Marksheet!AX24=\"\"),0,1)","v":0},{"$f":"IF(OR(Marksheet!AY24=\"_\",Marksheet!AY24=\".\",Marksheet!AY24=\"\"),0,1)","v":0},{"$f":"IF(OR(Marksheet!AZ24=\"_\",Marksheet!AZ24=\".\",Marksheet!AZ24=\"\"),0,1)","v":0},{"$f":"IF(OR(Marksheet!BA24=\"_\",Marksheet!BA24=\".\",Marksheet!BA24=\"\"),0,1)","v":0},{"$f":"IF(OR(Marksheet!BB24=\"_\",Marksheet!BB24=\".\",Marksheet!BB24=\"\"),0,1)","v":0},{"$f":"IF(OR(Marksheet!BC24=\"_\",Marksheet!BC24=\".\",Marksheet!BC24=\"\"),0,1)","v":0},{"$f":"IF(OR(Marksheet!BD24=\"_\",Marksheet!BD24=\".\",Marksheet!BD24=\"\"),0,1)","v":0},{"$f":"IF(OR(Marksheet!BE24=\"_\",Marksheet!BE24=\".\",Marksheet!BE24=\"\"),0,1)","v":0},{"$f":"IF(OR(Marksheet!BF24=\"_\",Marksheet!BF24=\".\",Marksheet!BF24=\"\"),0,1)","v":0},{"$f":"IF(OR(Marksheet!BG24=\"_\",Marksheet!BG24=\".\",Marksheet!BG24=\"\"),0,1)","v":0},{"$f":"IF(OR(Marksheet!BH24=\"_\",Marksheet!BH24=\".\",Marksheet!BH24=\"\"),0,1)","v":0},{"$f":"IF(OR(Marksheet!BI24=\"_\",Marksheet!BI24=\".\",Marksheet!BI24=\"\"),0,1)","v":0},{"$f":"IF(OR(Marksheet!BJ24=\"_\",Marksheet!BJ24=\".\",Marksheet!BJ24=\"\"),0,1)","v":0},{"$f":"IF(OR(Marksheet!BK24=\"_\",Marksheet!BK24=\".\",Marksheet!BK24=\"\"),0,1)","v":0},{"$f":"IF(OR(Marksheet!BL24=\"_\",Marksheet!BL24=\".\",Marksheet!BL24=\"\"),0,1)","v":0},{"$f":"IF(OR(Marksheet!BM24=\"_\",Marksheet!BM24=\".\",Marksheet!BM24=\"\"),0,1)","v":0},{"$f":"IF(OR(Marksheet!BN24=\"_\",Marksheet!BN24=\".\",Marksheet!BN24=\"\"),0,1)","v":0},{"$f":"IF(OR(Marksheet!BO24=\"_\",Marksheet!BO24=\".\",Marksheet!BO24=\"\"),0,1)","v":0},{"$f":"IF(OR(Marksheet!BP24=\"_\",Marksheet!BP24=\".\",Marksheet!BP24=\"\"),0,1)","v":0},{"$f":"IF(OR(Marksheet!BQ24=\"_\",Marksheet!BQ24=\".\",Marksheet!BQ24=\"\"),0,1)","v":0},{"$f":"IF(OR(Marksheet!BR24=\"_\",Marksheet!BR24=\".\",Marksheet!BR24=\"\"),0,1)","v":0},{"$f":"IF(OR(Marksheet!BS24=\"_\",Marksheet!BS24=\".\",Marksheet!BS24=\"\"),0,1)","v":0},{"$f":"IF(OR(Marksheet!BT24=\"_\",Marksheet!BT24=\".\",Marksheet!BT24=\"\"),0,1)","v":0},{"$f":"IF(OR(Marksheet!BU24=\"_\",Marksheet!BU24=\".\",Marksheet!BU24=\"\"),0,1)","v":0},{"$f":"IF(OR(Marksheet!BV24=\"_\",Marksheet!BV24=\".\",Marksheet!BV24=\"\"),0,1)","v":0}]
[null,null,null,null,null,null,null,22,{"$f":"IF(OR(Marksheet!I25=\"_\",Marksheet!I25=\".\",Marksheet!I25=\"\"),0,1)","v":0},{"$f":"IF(OR(Marksheet!J25=\"_\",Marksheet!J25=\".\",Marksheet!J25=\"\"),0,1)","v":0},{"$f":"IF(OR(Marksheet!K25=\"_\",Marksheet!K25=\".\",Marksheet!K25=\"\"),0,1)","v":0},{"$f":"IF(OR(Marksheet!L25=\"_\",Marksheet!L25=\".\",Marksheet!L25=\"\"),0,1)","v":0},{"$f":"IF(OR(Marksheet!M25=\"_\",Marksheet!M25=\".\",Marksheet!M25=\"\"),0,1)","v":0},{"$f":"IF(OR(Marksheet!N25=\"_\",Marksheet!N25=\".\",Marksheet!N25=\"\"),0,1)","v":0},{"$f":"IF(OR(Marksheet!O25=\"_\",Marksheet!O25=\".\",Marksheet!O25=\"\"),0,1)","v":0},{"$f":"IF(OR(Marksheet!P25=\"_\",Marksheet!P25=\".\",Marksheet!P25=\"\"),0,1)","v":0},{"$f":"IF(OR(Marksheet!Q25=\"_\",Marksheet!Q25=\".\",Marksheet!Q25=\"\"),0,1)","v":0},{"$f":"IF(OR(Marksheet!R25=\"_\",Marksheet!R25=\".\",Marksheet!R25=\"\"),0,1)","v":0},{"$f":"IF(OR(Marksheet!S25=\"_\",Marksheet!S25=\".\",Marksheet!S25=\"\"),0,1)","v":0},{"$f":"IF(OR(Marksheet!T25=\"_\",Marksheet!T25=\".\",Marksheet!T25=\"\"),0,1)","v":0},{"$f":"IF(OR(Marksheet!U25=\"_\",Marksheet!U25=\".\",Marksheet!U25=\"\"),0,1)","v":0},{"$f":"IF(OR(Marksheet!V25=\"_\",Marksheet!V25=\".\",Marksheet!V25=\"\"),0,1)","v":0},{"$f":"IF(OR(Marksheet!W25=\"_\",Marksheet!W25=\".\",Marksheet!W25=\"\"),0,1)","v":0},{"$f":"IF(OR(Marksheet!X25=\"_\",Marksheet!X25=\".\",Marksheet!X25=\"\"),0,1)","v":0},{"$f":"IF(OR(Marksheet!Y25=\"_\",Marksheet!Y25=\".\",Marksheet!Y25=\"\"),0,1)","v":0},{"$f":"IF(OR(Marksheet!Z25=\"_\",Marksheet!Z25=\".\",Marksheet!Z25=\"\"),0,1)","v":0},{"$f":"IF(OR(Marksheet!AA25=\"_\",Marksheet!AA25=\".\",Marksheet!AA25=\"\"),0,1)","v":0},{"$f":"IF(OR(Marksheet!AB25=\"_\",Marksheet!AB25=\".\",Marksheet!AB25=\"\"),0,1)","v":0},{"$f":"IF(OR(Marksheet!AC25=\"_\",Marksheet!AC25=\".\",Marksheet!AC25=\"\"),0,1)","v":0},{"$f":"IF(OR(Marksheet!AD25=\"_\",Marksheet!AD25=\".\",Marksheet!AD25=\"\"),0,1)","v":0},{"$f":"IF(OR(Marksheet!AE25=\"_\",Marksheet!AE25=\".\",Marksheet!AE25=\"\"),0,1)","v":0},{"$f":"IF(OR(Marksheet!AF25=\"_\",Marksheet!AF25=\".\",Marksheet!AF25=\"\"),0,1)","v":0},{"$f":"IF(OR(Marksheet!AG25=\"_\",Marksheet!AG25=\".\",Marksheet!AG25=\"\"),0,1)","v":0},{"$f":"IF(OR(Marksheet!AH25=\"_\",Marksheet!AH25=\".\",Marksheet!AH25=\"\"),0,1)","v":0},{"$f":"IF(OR(Marksheet!AI25=\"_\",Marksheet!AI25=\".\",Marksheet!AI25=\"\"),0,1)","v":0},{"$f":"IF(OR(Marksheet!AJ25=\"_\",Marksheet!AJ25=\".\",Marksheet!AJ25=\"\"),0,1)","v":0},{"$f":"IF(OR(Marksheet!AK25=\"_\",Marksheet!AK25=\".\",Marksheet!AK25=\"\"),0,1)","v":0},{"$f":"IF(OR(Marksheet!AL25=\"_\",Marksheet!AL25=\".\",Marksheet!AL25=\"\"),0,1)","v":0},{"$f":"IF(OR(Marksheet!AM25=\"_\",Marksheet!AM25=\".\",Marksheet!AM25=\"\"),0,1)","v":0},{"$f":"IF(OR(Marksheet!AN25=\"_\",Marksheet!AN25=\".\",Marksheet!AN25=\"\"),0,1)","v":0},{"$f":"IF(OR(Marksheet!AO25=\"_\",Marksheet!AO25=\".\",Marksheet!AO25=\"\"),0,1)","v":0},{"$f":"IF(OR(Marksheet!AP25=\"_\",Marksheet!AP25=\".\",Marksheet!AP25=\"\"),0,1)","v":0},{"$f":"IF(OR(Marksheet!AQ25=\"_\",Marksheet!AQ25=\".\",Marksheet!AQ25=\"\"),0,1)","v":0},{"$f":"IF(OR(Marksheet!AR25=\"_\",Marksheet!AR25=\".\",Marksheet!AR25=\"\"),0,1)","v":0},{"$f":"IF(OR(Marksheet!AS25=\"_\",Marksheet!AS25=\".\",Marksheet!AS25=\"\"),0,1)","v":0},{"$f":"IF(OR(Marksheet!AT25=\"_\",Marksheet!AT25=\".\",Marksheet!AT25=\"\"),0,1)","v":0},{"$f":"IF(OR(Marksheet!AU25=\"_\",Marksheet!AU25=\".\",Marksheet!AU25=\"\"),0,1)","v":0},{"$f":"IF(OR(Marksheet!AV25=\"_\",Marksheet!AV25=\".\",Marksheet!AV25=\"\"),0,1)","v":0},{"$f":"IF(OR(Marksheet!AW25=\"_\",Marksheet!AW25=\".\",Marksheet!AW25=\"\"),0,1)","v":0},{"$f":"IF(OR(Marksheet!AX25=\"_\",Marksheet!AX25=\".\",Marksheet!AX25=\"\"),0,1)","v":0},{"$f":"IF(OR(Marksheet!AY25=\"_\",Marksheet!AY25=\".\",Marksheet!AY25=\"\"),0,1)","v":0},{"$f":"IF(OR(Marksheet!AZ25=\"_\",Marksheet!AZ25=\".\",Marksheet!AZ25=\"\"),0,1)","v":0},{"$f":"IF(OR(Marksheet!BA25=\"_\",Marksheet!BA25=\".\",Marksheet!BA25=\"\"),0,1)","v":0},{"$f":"IF(OR(Marksheet!BB25=\"_\",Marksheet!BB25=\".\",Marksheet!BB25=\"\"),0,1)","v":0},{"$f":"IF(OR(Marksheet!BC25=\"_\",Marksheet!BC25=\".\",Marksheet!BC25=\"\"),0,1)","v":0},{"$f":"IF(OR(Marksheet!BD25=\"_\",Marksheet!BD25=\".\",Marksheet!BD25=\"\"),0,1)","v":0},{"$f":"IF(OR(Marksheet!BE25=\"_\",Marksheet!BE25=\".\",Marksheet!BE25=\"\"),0,1)","v":0},{"$f":"IF(OR(Marksheet!BF25=\"_\",Marksheet!BF25=\".\",Marksheet!BF25=\"\"),0,1)","v":0},{"$f":"IF(OR(Marksheet!BG25=\"_\",Marksheet!BG25=\".\",Marksheet!BG25=\"\"),0,1)","v":0},{"$f":"IF(OR(Marksheet!BH25=\"_\",Marksheet!BH25=\".\",Marksheet!BH25=\"\"),0,1)","v":0},{"$f":"IF(OR(Marksheet!BI25=\"_\",Marksheet!BI25=\".\",Marksheet!BI25=\"\"),0,1)","v":0},{"$f":"IF(OR(Marksheet!BJ25=\"_\",Marksheet!BJ25=\".\",Marksheet!BJ25=\"\"),0,1)","v":0},{"$f":"IF(OR(Marksheet!BK25=\"_\",Marksheet!BK25=\".\",Marksheet!BK25=\"\"),0,1)","v":0},{"$f":"IF(OR(Marksheet!BL25=\"_\",Marksheet!BL25=\".\",Marksheet!BL25=\"\"),0,1)","v":0},{"$f":"IF(OR(Marksheet!BM25=\"_\",Marksheet!BM25=\".\",Marksheet!BM25=\"\"),0,1)","v":0},{"$f":"IF(OR(Marksheet!BN25=\"_\",Marksheet!BN25=\".\",Marksheet!BN25=\"\"),0,1)","v":0},{"$f":"IF(OR(Marksheet!BO25=\"_\",Marksheet!BO25=\".\",Marksheet!BO25=\"\"),0,1)","v":0},{"$f":"IF(OR(Marksheet!BP25=\"_\",Marksheet!BP25=\".\",Marksheet!BP25=\"\"),0,1)","v":0},{"$f":"IF(OR(Marksheet!BQ25=\"_\",Marksheet!BQ25=\".\",Marksheet!BQ25=\"\"),0,1)","v":0},{"$f":"IF(OR(Marksheet!BR25=\"_\",Marksheet!BR25=\".\",Marksheet!BR25=\"\"),0,1)","v":0},{"$f":"IF(OR(Marksheet!BS25=\"_\",Marksheet!BS25=\".\",Marksheet!BS25=\"\"),0,1)","v":0},{"$f":"IF(OR(Marksheet!BT25=\"_\",Marksheet!BT25=\".\",Marksheet!BT25=\"\"),0,1)","v":0},{"$f":"IF(OR(Marksheet!BU25=\"_\",Marksheet!BU25=\".\",Marksheet!BU25=\"\"),0,1)","v":0},{"$f":"IF(OR(Marksheet!BV25=\"_\",Marksheet!BV25=\".\",Marksheet!BV25=\"\"),0,1)","v":0}]
[null,null,null,null,null,null,null,23,{"$f":"IF(OR(Marksheet!I26=\"_\",Marksheet!I26=\".\",Marksheet!I26=\"\"),0,1)","v":0},{"$f":"IF(OR(Marksheet!J26=\"_\",Marksheet!J26=\".\",Marksheet!J26=\"\"),0,1)","v":0},{"$f":"IF(OR(Marksheet!K26=\"_\",Marksheet!K26=\".\",Marksheet!K26=\"\"),0,1)","v":0},{"$f":"IF(OR(Marksheet!L26=\"_\",Marksheet!L26=\".\",Marksheet!L26=\"\"),0,1)","v":0},{"$f":"IF(OR(Marksheet!M26=\"_\",Marksheet!M26=\".\",Marksheet!M26=\"\"),0,1)","v":0},{"$f":"IF(OR(Marksheet!N26=\"_\",Marksheet!N26=\".\",Marksheet!N26=\"\"),0,1)","v":0},{"$f":"IF(OR(Marksheet!O26=\"_\",Marksheet!O26=\".\",Marksheet!O26=\"\"),0,1)","v":0},{"$f":"IF(OR(Marksheet!P26=\"_\",Marksheet!P26=\".\",Marksheet!P26=\"\"),0,1)","v":0},{"$f":"IF(OR(Marksheet!Q26=\"_\",Marksheet!Q26=\".\",Marksheet!Q26=\"\"),0,1)","v":0},{"$f":"IF(OR(Marksheet!R26=\"_\",Marksheet!R26=\".\",Marksheet!R26=\"\"),0,1)","v":0},{"$f":"IF(OR(Marksheet!S26=\"_\",Marksheet!S26=\".\",Marksheet!S26=\"\"),0,1)","v":0},{"$f":"IF(OR(Marksheet!T26=\"_\",Marksheet!T26=\".\",Marksheet!T26=\"\"),0,1)","v":0},{"$f":"IF(OR(Marksheet!U26=\"_\",Marksheet!U26=\".\",Marksheet!U26=\"\"),0,1)","v":0},{"$f":"IF(OR(Marksheet!V26=\"_\",Marksheet!V26=\".\",Marksheet!V26=\"\"),0,1)","v":0},{"$f":"IF(OR(Marksheet!W26=\"_\",Marksheet!W26=\".\",Marksheet!W26=\"\"),0,1)","v":0},{"$f":"IF(OR(Marksheet!X26=\"_\",Marksheet!X26=\".\",Marksheet!X26=\"\"),0,1)","v":0},{"$f":"IF(OR(Marksheet!Y26=\"_\",Marksheet!Y26=\".\",Marksheet!Y26=\"\"),0,1)","v":0},{"$f":"IF(OR(Marksheet!Z26=\"_\",Marksheet!Z26=\".\",Marksheet!Z26=\"\"),0,1)","v":0},{"$f":"IF(OR(Marksheet!AA26=\"_\",Marksheet!AA26=\".\",Marksheet!AA26=\"\"),0,1)","v":0},{"$f":"IF(OR(Marksheet!AB26=\"_\",Marksheet!AB26=\".\",Marksheet!AB26=\"\"),0,1)","v":0},{"$f":"IF(OR(Marksheet!AC26=\"_\",Marksheet!AC26=\".\",Marksheet!AC26=\"\"),0,1)","v":0},{"$f":"IF(OR(Marksheet!AD26=\"_\",Marksheet!AD26=\".\",Marksheet!AD26=\"\"),0,1)","v":0},{"$f":"IF(OR(Marksheet!AE26=\"_\",Marksheet!AE26=\".\",Marksheet!AE26=\"\"),0,1)","v":0},{"$f":"IF(OR(Marksheet!AF26=\"_\",Marksheet!AF26=\".\",Marksheet!AF26=\"\"),0,1)","v":0},{"$f":"IF(OR(Marksheet!AG26=\"_\",Marksheet!AG26=\".\",Marksheet!AG26=\"\"),0,1)","v":0},{"$f":"IF(OR(Marksheet!AH26=\"_\",Marksheet!AH26=\".\",Marksheet!AH26=\"\"),0,1)","v":0},{"$f":"IF(OR(Marksheet!AI26=\"_\",Marksheet!AI26=\".\",Marksheet!AI26=\"\"),0,1)","v":0},{"$f":"IF(OR(Marksheet!AJ26=\"_\",Marksheet!AJ26=\".\",Marksheet!AJ26=\"\"),0,1)","v":0},{"$f":"IF(OR(Marksheet!AK26=\"_\",Marksheet!AK26=\".\",Marksheet!AK26=\"\"),0,1)","v":0},{"$f":"IF(OR(Marksheet!AL26=\"_\",Marksheet!AL26=\".\",Marksheet!AL26=\"\"),0,1)","v":0},{"$f":"IF(OR(Marksheet!AM26=\"_\",Marksheet!AM26=\".\",Marksheet!AM26=\"\"),0,1)","v":0},{"$f":"IF(OR(Marksheet!AN26=\"_\",Marksheet!AN26=\".\",Marksheet!AN26=\"\"),0,1)","v":0},{"$f":"IF(OR(Marksheet!AO26=\"_\",Marksheet!AO26=\".\",Marksheet!AO26=\"\"),0,1)","v":0},{"$f":"IF(OR(Marksheet!AP26=\"_\",Marksheet!AP26=\".\",Marksheet!AP26=\"\"),0,1)","v":0},{"$f":"IF(OR(Marksheet!AQ26=\"_\",Marksheet!AQ26=\".\",Marksheet!AQ26=\"\"),0,1)","v":0},{"$f":"IF(OR(Marksheet!AR26=\"_\",Marksheet!AR26=\".\",Marksheet!AR26=\"\"),0,1)","v":0},{"$f":"IF(OR(Marksheet!AS26=\"_\",Marksheet!AS26=\".\",Marksheet!AS26=\"\"),0,1)","v":0},{"$f":"IF(OR(Marksheet!AT26=\"_\",Marksheet!AT26=\".\",Marksheet!AT26=\"\"),0,1)","v":0},{"$f":"IF(OR(Marksheet!AU26=\"_\",Marksheet!AU26=\".\",Marksheet!AU26=\"\"),0,1)","v":0},{"$f":"IF(OR(Marksheet!AV26=\"_\",Marksheet!AV26=\".\",Marksheet!AV26=\"\"),0,1)","v":0},{"$f":"IF(OR(Marksheet!AW26=\"_\",Marksheet!AW26=\".\",Marksheet!AW26=\"\"),0,1)","v":0},{"$f":"IF(OR(Marksheet!AX26=\"_\",Marksheet!AX26=\".\",Marksheet!AX26=\"\"),0,1)","v":0},{"$f":"IF(OR(Marksheet!AY26=\"_\",Marksheet!AY26=\".\",Marksheet!AY26=\"\"),0,1)","v":0},{"$f":"IF(OR(Marksheet!AZ26=\"_\",Marksheet!AZ26=\".\",Marksheet!AZ26=\"\"),0,1)","v":0},{"$f":"IF(OR(Marksheet!BA26=\"_\",Marksheet!BA26=\".\",Marksheet!BA26=\"\"),0,1)","v":0},{"$f":"IF(OR(Marksheet!BB26=\"_\",Marksheet!BB26=\".\",Marksheet!BB26=\"\"),0,1)","v":0},{"$f":"IF(OR(Marksheet!BC26=\"_\",Marksheet!BC26=\".\",Marksheet!BC26=\"\"),0,1)","v":0},{"$f":"IF(OR(Marksheet!BD26=\"_\",Marksheet!BD26=\".\",Marksheet!BD26=\"\"),0,1)","v":0},{"$f":"IF(OR(Marksheet!BE26=\"_\",Marksheet!BE26=\".\",Marksheet!BE26=\"\"),0,1)","v":0},{"$f":"IF(OR(Marksheet!BF26=\"_\",Marksheet!BF26=\".\",Marksheet!BF26=\"\"),0,1)","v":0},{"$f":"IF(OR(Marksheet!BG26=\"_\",Marksheet!BG26=\".\",Marksheet!BG26=\"\"),0,1)","v":0},{"$f":"IF(OR(Marksheet!BH26=\"_\",Marksheet!BH26=\".\",Marksheet!BH26=\"\"),0,1)","v":0},{"$f":"IF(OR(Marksheet!BI26=\"_\",Marksheet!BI26=\".\",Marksheet!BI26=\"\"),0,1)","v":0},{"$f":"IF(OR(Marksheet!BJ26=\"_\",Marksheet!BJ26=\".\",Marksheet!BJ26=\"\"),0,1)","v":0},{"$f":"IF(OR(Marksheet!BK26=\"_\",Marksheet!BK26=\".\",Marksheet!BK26=\"\"),0,1)","v":0},{"$f":"IF(OR(Marksheet!BL26=\"_\",Marksheet!BL26=\".\",Marksheet!BL26=\"\"),0,1)","v":0},{"$f":"IF(OR(Marksheet!BM26=\"_\",Marksheet!BM26=\".\",Marksheet!BM26=\"\"),0,1)","v":0},{"$f":"IF(OR(Marksheet!BN26=\"_\",Marksheet!BN26=\".\",Marksheet!BN26=\"\"),0,1)","v":0},{"$f":"IF(OR(Marksheet!BO26=\"_\",Marksheet!BO26=\".\",Marksheet!BO26=\"\"),0,1)","v":0},{"$f":"IF(OR(Marksheet!BP26=\"_\",Marksheet!BP26=\".\",Marksheet!BP26=\"\"),0,1)","v":0},{"$f":"IF(OR(Marksheet!BQ26=\"_\",Marksheet!BQ26=\".\",Marksheet!BQ26=\"\"),0,1)","v":0},{"$f":"IF(OR(Marksheet!BR26=\"_\",Marksheet!BR26=\".\",Marksheet!BR26=\"\"),0,1)","v":0},{"$f":"IF(OR(Marksheet!BS26=\"_\",Marksheet!BS26=\".\",Marksheet!BS26=\"\"),0,1)","v":0},{"$f":"IF(OR(Marksheet!BT26=\"_\",Marksheet!BT26=\".\",Marksheet!BT26=\"\"),0,1)","v":0},{"$f":"IF(OR(Marksheet!BU26=\"_\",Marksheet!BU26=\".\",Marksheet!BU26=\"\"),0,1)","v":0},{"$f":"IF(OR(Marksheet!BV26=\"_\",Marksheet!BV26=\".\",Marksheet!BV26=\"\"),0,1)","v":0}]
[null,null,null,null,null,null,null,24,{"$f":"IF(OR(Marksheet!I27=\"_\",Marksheet!I27=\".\",Marksheet!I27=\"\"),0,1)","v":0},{"$f":"IF(OR(Marksheet!J27=\"_\",Marksheet!J27=\".\",Marksheet!J27=\"\"),0,1)","v":0},{"$f":"IF(OR(Marksheet!K27=\"_\",Marksheet!K27=\".\",Marksheet!K27=\"\"),0,1)","v":0},{"$f":"IF(OR(Marksheet!L27=\"_\",Marksheet!L27=\".\",Marksheet!L27=\"\"),0,1)","v":0},{"$f":"IF(OR(Marksheet!M27=\"_\",Marksheet!M27=\".\",Marksheet!M27=\"\"),0,1)","v":0},{"$f":"IF(OR(Marksheet!N27=\"_\",Marksheet!N27=\".\",Marksheet!N27=\"\"),0,1)","v":0},{"$f":"IF(OR(Marksheet!O27=\"_\",Marksheet!O27=\".\",Marksheet!O27=\"\"),0,1)","v":0},{"$f":"IF(OR(Marksheet!P27=\"_\",Marksheet!P27=\".\",Marksheet!P27=\"\"),0,1)","v":0},{"$f":"IF(OR(Marksheet!Q27=\"_\",Marksheet!Q27=\".\",Marksheet!Q27=\"\"),0,1)","v":0},{"$f":"IF(OR(Marksheet!R27=\"_\",Marksheet!R27=\".\",Marksheet!R27=\"\"),0,1)","v":0},{"$f":"IF(OR(Marksheet!S27=\"_\",Marksheet!S27=\".\",Marksheet!S27=\"\"),0,1)","v":0},{"$f":"IF(OR(Marksheet!T27=\"_\",Marksheet!T27=\".\",Marksheet!T27=\"\"),0,1)","v":0},{"$f":"IF(OR(Marksheet!U27=\"_\",Marksheet!U27=\".\",Marksheet!U27=\"\"),0,1)","v":0},{"$f":"IF(OR(Marksheet!V27=\"_\",Marksheet!V27=\".\",Marksheet!V27=\"\"),0,1)","v":0},{"$f":"IF(OR(Marksheet!W27=\"_\",Marksheet!W27=\".\",Marksheet!W27=\"\"),0,1)","v":0},{"$f":"IF(OR(Marksheet!X27=\"_\",Marksheet!X27=\".\",Marksheet!X27=\"\"),0,1)","v":0},{"$f":"IF(OR(Marksheet!Y27=\"_\",Marksheet!Y27=\".\",Marksheet!Y27=\"\"),0,1)","v":0},{"$f":"IF(OR(Marksheet!Z27=\"_\",Marksheet!Z27=\".\",Marksheet!Z27=\"\"),0,1)","v":0},{"$f":"IF(OR(Marksheet!AA27=\"_\",Marksheet!AA27=\".\",Marksheet!AA27=\"\"),0,1)","v":0},{"$f":"IF(OR(Marksheet!AB27=\"_\",Marksheet!AB27=\".\",Marksheet!AB27=\"\"),0,1)","v":0},{"$f":"IF(OR(Marksheet!AC27=\"_\",Marksheet!AC27=\".\",Marksheet!AC27=\"\"),0,1)","v":0},{"$f":"IF(OR(Marksheet!AD27=\"_\",Marksheet!AD27=\".\",Marksheet!AD27=\"\"),0,1)","v":0},{"$f":"IF(OR(Marksheet!AE27=\"_\",Marksheet!AE27=\".\",Marksheet!AE27=\"\"),0,1)","v":0},{"$f":"IF(OR(Marksheet!AF27=\"_\",Marksheet!AF27=\".\",Marksheet!AF27=\"\"),0,1)","v":0},{"$f":"IF(OR(Marksheet!AG27=\"_\",Marksheet!AG27=\".\",Marksheet!AG27=\"\"),0,1)","v":0},{"$f":"IF(OR(Marksheet!AH27=\"_\",Marksheet!AH27=\".\",Marksheet!AH27=\"\"),0,1)","v":0},{"$f":"IF(OR(Marksheet!AI27=\"_\",Marksheet!AI27=\".\",Marksheet!AI27=\"\"),0,1)","v":0},{"$f":"IF(OR(Marksheet!AJ27=\"_\",Marksheet!AJ27=\".\",Marksheet!AJ27=\"\"),0,1)","v":0},{"$f":"IF(OR(Marksheet!AK27=\"_\",Marksheet!AK27=\".\",Marksheet!AK27=\"\"),0,1)","v":0},{"$f":"IF(OR(Marksheet!AL27=\"_\",Marksheet!AL27=\".\",Marksheet!AL27=\"\"),0,1)","v":0},{"$f":"IF(OR(Marksheet!AM27=\"_\",Marksheet!AM27=\".\",Marksheet!AM27=\"\"),0,1)","v":0},{"$f":"IF(OR(Marksheet!AN27=\"_\",Marksheet!AN27=\".\",Marksheet!AN27=\"\"),0,1)","v":0},{"$f":"IF(OR(Marksheet!AO27=\"_\",Marksheet!AO27=\".\",Marksheet!AO27=\"\"),0,1)","v":0},{"$f":"IF(OR(Marksheet!AP27=\"_\",Marksheet!AP27=\".\",Marksheet!AP27=\"\"),0,1)","v":0},{"$f":"IF(OR(Marksheet!AQ27=\"_\",Marksheet!AQ27=\".\",Marksheet!AQ27=\"\"),0,1)","v":0},{"$f":"IF(OR(Marksheet!AR27=\"_\",Marksheet!AR27=\".\",Marksheet!AR27=\"\"),0,1)","v":0},{"$f":"IF(OR(Marksheet!AS27=\"_\",Marksheet!AS27=\".\",Marksheet!AS27=\"\"),0,1)","v":0},{"$f":"IF(OR(Marksheet!AT27=\"_\",Marksheet!AT27=\".\",Marksheet!AT27=\"\"),0,1)","v":0},{"$f":"IF(OR(Marksheet!AU27=\"_\",Marksheet!AU27=\".\",Marksheet!AU27=\"\"),0,1)","v":0},{"$f":"IF(OR(Marksheet!AV27=\"_\",Marksheet!AV27=\".\",Marksheet!AV27=\"\"),0,1)","v":0},{"$f":"IF(OR(Marksheet!AW27=\"_\",Marksheet!AW27=\".\",Marksheet!AW27=\"\"),0,1)","v":0},{"$f":"IF(OR(Marksheet!AX27=\"_\",Marksheet!AX27=\".\",Marksheet!AX27=\"\"),0,1)","v":0},{"$f":"IF(OR(Marksheet!AY27=\"_\",Marksheet!AY27=\".\",Marksheet!AY27=\"\"),0,1)","v":0},{"$f":"IF(OR(Marksheet!AZ27=\"_\",Marksheet!AZ27=\".\",Marksheet!AZ27=\"\"),0,1)","v":0},{"$f":"IF(OR(Marksheet!BA27=\"_\",Marksheet!BA27=\".\",Marksheet!BA27=\"\"),0,1)","v":0},{"$f":"IF(OR(Marksheet!BB27=\"_\",Marksheet!BB27=\".\",Marksheet!BB27=\"\"),0,1)","v":0},{"$f":"IF(OR(Marksheet!BC27=\"_\",Marksheet!BC27=\".\",Marksheet!BC27=\"\"),0,1)","v":0},{"$f":"IF(OR(Marksheet!BD27=\"_\",Marksheet!BD27=\".\",Marksheet!BD27=\"\"),0,1)","v":0},{"$f":"IF(OR(Marksheet!BE27=\"_\",Marksheet!BE27=\".\",Marksheet!BE27=\"\"),0,1)","v":0},{"$f":"IF(OR(Marksheet!BF27=\"_\",Marksheet!BF27=\".\",Marksheet!BF27=\"\"),0,1)","v":0},{"$f":"IF(OR(Marksheet!BG27=\"_\",Marksheet!BG27=\".\",Marksheet!BG27=\"\"),0,1)","v":0},{"$f":"IF(OR(Marksheet!BH27=\"_\",Marksheet!BH27=\".\",Marksheet!BH27=\"\"),0,1)","v":0},{"$f":"IF(OR(Marksheet!BI27=\"_\",Marksheet!BI27=\".\",Marksheet!BI27=\"\"),0,1)","v":0},{"$f":"IF(OR(Marksheet!BJ27=\"_\",Marksheet!BJ27=\".\",Marksheet!BJ27=\"\"),0,1)","v":0},{"$f":"IF(OR(Marksheet!BK27=\"_\",Marksheet!BK27=\".\",Marksheet!BK27=\"\"),0,1)","v":0},{"$f":"IF(OR(Marksheet!BL27=\"_\",Marksheet!BL27=\".\",Marksheet!BL27=\"\"),0,1)","v":0},{"$f":"IF(OR(Marksheet!BM27=\"_\",Marksheet!BM27=\".\",Marksheet!BM27=\"\"),0,1)","v":0},{"$f":"IF(OR(Marksheet!BN27=\"_\",Marksheet!BN27=\".\",Marksheet!BN27=\"\"),0,1)","v":0},{"$f":"IF(OR(Marksheet!BO27=\"_\",Marksheet!BO27=\".\",Marksheet!BO27=\"\"),0,1)","v":0},{"$f":"IF(OR(Marksheet!BP27=\"_\",Marksheet!BP27=\".\",Marksheet!BP27=\"\"),0,1)","v":0},{"$f":"IF(OR(Marksheet!BQ27=\"_\",Marksheet!BQ27=\".\",Marksheet!BQ27=\"\"),0,1)","v":0},{"$f":"IF(OR(Marksheet!BR27=\"_\",Marksheet!BR27=\".\",Marksheet!BR27=\"\"),0,1)","v":0},{"$f":"IF(OR(Marksheet!BS27=\"_\",Marksheet!BS27=\".\",Marksheet!BS27=\"\"),0,1)","v":0},{"$f":"IF(OR(Marksheet!BT27=\"_\",Marksheet!BT27=\".\",Marksheet!BT27=\"\"),0,1)","v":0},{"$f":"IF(OR(Marksheet!BU27=\"_\",Marksheet!BU27=\".\",Marksheet!BU27=\"\"),0,1)","v":0},{"$f":"IF(OR(Marksheet!BV27=\"_\",Marksheet!BV27=\".\",Marksheet!BV27=\"\"),0,1)","v":0}]
[null,null,null,null,null,null,null,25,{"$f":"IF(OR(Marksheet!I28=\"_\",Marksheet!I28=\".\",Marksheet!I28=\"\"),0,1)","v":0},{"$f":"IF(OR(Marksheet!J28=\"_\",Marksheet!J28=\".\",Marksheet!J28=\"\"),0,1)","v":0},{"$f":"IF(OR(Marksheet!K28=\"_\",Marksheet!K28=\".\",Marksheet!K28=\"\"),0,1)","v":0},{"$f":"IF(OR(Marksheet!L28=\"_\",Marksheet!L28=\".\",Marksheet!L28=\"\"),0,1)","v":0},{"$f":"IF(OR(Marksheet!M28=\"_\",Marksheet!M28=\".\",Marksheet!M28=\"\"),0,1)","v":0},{"$f":"IF(OR(Marksheet!N28=\"_\",Marksheet!N28=\".\",Marksheet!N28=\"\"),0,1)","v":0},{"$f":"IF(OR(Marksheet!O28=\"_\",Marksheet!O28=\".\",Marksheet!O28=\"\"),0,1)","v":0},{"$f":"IF(OR(Marksheet!P28=\"_\",Marksheet!P28=\".\",Marksheet!P28=\"\"),0,1)","v":0},{"$f":"IF(OR(Marksheet!Q28=\"_\",Marksheet!Q28=\".\",Marksheet!Q28=\"\"),0,1)","v":0},{"$f":"IF(OR(Marksheet!R28=\"_\",Marksheet!R28=\".\",Marksheet!R28=\"\"),0,1)","v":0},{"$f":"IF(OR(Marksheet!S28=\"_\",Marksheet!S28=\".\",Marksheet!S28=\"\"),0,1)","v":0},{"$f":"IF(OR(Marksheet!T28=\"_\",Marksheet!T28=\".\",Marksheet!T28=\"\"),0,1)","v":0},{"$f":"IF(OR(Marksheet!U28=\"_\",Marksheet!U28=\".\",Marksheet!U28=\"\"),0,1)","v":0},{"$f":"IF(OR(Marksheet!V28=\"_\",Marksheet!V28=\".\",Marksheet!V28=\"\"),0,1)","v":0},{"$f":"IF(OR(Marksheet!W28=\"_\",Marksheet!W28=\".\",Marksheet!W28=\"\"),0,1)","v":0},{"$f":"IF(OR(Marksheet!X28=\"_\",Marksheet!X28=\".\",Marksheet!X28=\"\"),0,1)","v":0},{"$f":"IF(OR(Marksheet!Y28=\"_\",Marksheet!Y28=\".\",Marksheet!Y28=\"\"),0,1)","v":0},{"$f":"IF(OR(Marksheet!Z28=\"_\",Marksheet!Z28=\".\",Marksheet!Z28=\"\"),0,1)","v":0},{"$f":"IF(OR(Marksheet!AA28=\"_\",Marksheet!AA28=\".\",Marksheet!AA28=\"\"),0,1)","v":0},{"$f":"IF(OR(Marksheet!AB28=\"_\",Marksheet!AB28=\".\",Marksheet!AB28=\"\"),0,1)","v":0},{"$f":"IF(OR(Marksheet!AC28=\"_\",Marksheet!AC28=\".\",Marksheet!AC28=\"\"),0,1)","v":0},{"$f":"IF(OR(Marksheet!AD28=\"_\",Marksheet!AD28=\".\",Marksheet!AD28=\"\"),0,1)","v":0},{"$f":"IF(OR(Marksheet!AE28=\"_\",Marksheet!AE28=\".\",Marksheet!AE28=\"\"),0,1)","v":0},{"$f":"IF(OR(Marksheet!AF28=\"_\",Marksheet!AF28=\".\",Marksheet!AF28=\"\"),0,1)","v":0},{"$f":"IF(OR(Marksheet!AG28=\"_\",Marksheet!AG28=\".\",Marksheet!AG28=\"\"),0,1)","v":0},{"$f":"IF(OR(Marksheet!AH28=\"_\",Marksheet!AH28=\".\",Marksheet!AH28=\"\"),0,1)","v":0},{"$f":"IF(OR(Marksheet!AI28=\"_\",Marksheet!AI28=\".\",Marksheet!AI28=\"\"),0,1)","v":0},{"$f":"IF(OR(Marksheet!AJ28=\"_\",Marksheet!AJ28=\".\",Marksheet!AJ28=\"\"),0,1)","v":0},{"$f":"IF(OR(Marksheet!AK28=\"_\",Marksheet!AK28=\".\",Marksheet!AK28=\"\"),0,1)","v":0},{"$f":"IF(OR(Marksheet!AL28=\"_\",Marksheet!AL28=\".\",Marksheet!AL28=\"\"),0,1)","v":0},{"$f":"IF(OR(Marksheet!AM28=\"_\",Marksheet!AM28=\".\",Marksheet!AM28=\"\"),0,1)","v":0},{"$f":"IF(OR(Marksheet!AN28=\"_\",Marksheet!AN28=\".\",Marksheet!AN28=\"\"),0,1)","v":0},{"$f":"IF(OR(Marksheet!AO28=\"_\",Marksheet!AO28=\".\",Marksheet!AO28=\"\"),0,1)","v":0},{"$f":"IF(OR(Marksheet!AP28=\"_\",Marksheet!AP28=\".\",Marksheet!AP28=\"\"),0,1)","v":0},{"$f":"IF(OR(Marksheet!AQ28=\"_\",Marksheet!AQ28=\".\",Marksheet!AQ28=\"\"),0,1)","v":0},{"$f":"IF(OR(Marksheet!AR28=\"_\",Marksheet!AR28=\".\",Marksheet!AR28=\"\"),0,1)","v":0},{"$f":"IF(OR(Marksheet!AS28=\"_\",Marksheet!AS28=\".\",Marksheet!AS28=\"\"),0,1)","v":0},{"$f":"IF(OR(Marksheet!AT28=\"_\",Marksheet!AT28=\".\",Marksheet!AT28=\"\"),0,1)","v":0},{"$f":"IF(OR(Marksheet!AU28=\"_\",Marksheet!AU28=\".\",Marksheet!AU28=\"\"),0,1)","v":0},{"$f":"IF(OR(Marksheet!AV28=\"_\",Marksheet!AV28=\".\",Marksheet!AV28=\"\"),0,1)","v":0},{"$f":"IF(OR(Marksheet!AW28=\"_\",Marksheet!AW28=\".\",Marksheet!AW28=\"\"),0,1)","v":0},{"$f":"IF(OR(Marksheet!AX28=\"_\",Marksheet!AX28=\".\",Marksheet!AX28=\"\"),0,1)","v":0},{"$f":"IF(OR(Marksheet!AY28=\"_\",Marksheet!AY28=\".\",Marksheet!AY28=\"\"),0,1)","v":0},{"$f":"IF(OR(Marksheet!AZ28=\"_\",Marksheet!AZ28=\".\",Marksheet!AZ28=\"\"),0,1)","v":0},{"$f":"IF(OR(Marksheet!BA28=\"_\",Marksheet!BA28=\".\",Marksheet!BA28=\"\"),0,1)","v":0},{"$f":"IF(OR(Marksheet!BB28=\"_\",Marksheet!BB28=\".\",Marksheet!BB28=\"\"),0,1)","v":0},{"$f":"IF(OR(Marksheet!BC28=\"_\",Marksheet!BC28=\".\",Marksheet!BC28=\"\"),0,1)","v":0},{"$f":"IF(OR(Marksheet!BD28=\"_\",Marksheet!BD28=\".\",Marksheet!BD28=\"\"),0,1)","v":0},{"$f":"IF(OR(Marksheet!BE28=\"_\",Marksheet!BE28=\".\",Marksheet!BE28=\"\"),0,1)","v":0},{"$f":"IF(OR(Marksheet!BF28=\"_\",Marksheet!BF28=\".\",Marksheet!BF28=\"\"),0,1)","v":0},{"$f":"IF(OR(Marksheet!BG28=\"_\",Marksheet!BG28=\".\",Marksheet!BG28=\"\"),0,1)","v":0},{"$f":"IF(OR(Marksheet!BH28=\"_\",Marksheet!BH28=\".\",Marksheet!BH28=\"\"),0,1)","v":0},{"$f":"IF(OR(Marksheet!BI28=\"_\",Marksheet!BI28=\".\",Marksheet!BI28=\"\"),0,1)","v":0},{"$f":"IF(OR(Marksheet!BJ28=\"_\",Marksheet!BJ28=\".\",Marksheet!BJ28=\"\"),0,1)","v":0},{"$f":"IF(OR(Marksheet!BK28=\"_\",Marksheet!BK28=\".\",Marksheet!BK28=\"\"),0,1)","v":0},{"$f":"IF(OR(Marksheet!BL28=\"_\",Marksheet!BL28=\".\",Marksheet!BL28=\"\"),0,1)","v":0},{"$f":"IF(OR(Marksheet!BM28=\"_\",Marksheet!BM28=\".\",Marksheet!BM28=\"\"),0,1)","v":0},{"$f":"IF(OR(Marksheet!BN28=\"_\",Marksheet!BN28=\".\",Marksheet!BN28=\"\"),0,1)","v":0},{"$f":"IF(OR(Marksheet!BO28=\"_\",Marksheet!BO28=\".\",Marksheet!BO28=\"\"),0,1)","v":0},{"$f":"IF(OR(Marksheet!BP28=\"_\",Marksheet!BP28=\".\",Marksheet!BP28=\"\"),0,1)","v":0},{"$f":"IF(OR(Marksheet!BQ28=\"_\",Marksheet!BQ28=\".\",Marksheet!BQ28=\"\"),0,1)","v":0},{"$f":"IF(OR(Marksheet!BR28=\"_\",Marksheet!BR28=\".\",Marksheet!BR28=\"\"),0,1)","v":0},{"$f":"IF(OR(Marksheet!BS28=\"_\",Marksheet!BS28=\".\",Marksheet!BS28=\"\"),0,1)","v":0},{"$f":"IF(OR(Marksheet!BT28=\"_\",Marksheet!BT28=\".\",Marksheet!BT28=\"\"),0,1)","v":0},{"$f":"IF(OR(Marksheet!BU28=\"_\",Marksheet!BU28=\".\",Marksheet!BU28=\"\"),0,1)","v":0},{"$f":"IF(OR(Marksheet!BV28=\"_\",Marksheet!BV28=\".\",Marksheet!BV28=\"\"),0,1)","v":0}]
[null,null,null,null,null,null,null,26,{"$f":"IF(OR(Marksheet!I29=\"_\",Marksheet!I29=\".\",Marksheet!I29=\"\"),0,1)","v":0},{"$f":"IF(OR(Marksheet!J29=\"_\",Marksheet!J29=\".\",Marksheet!J29=\"\"),0,1)","v":0},{"$f":"IF(OR(Marksheet!K29=\"_\",Marksheet!K29=\".\",Marksheet!K29=\"\"),0,1)","v":0},{"$f":"IF(OR(Marksheet!L29=\"_\",Marksheet!L29=\".\",Marksheet!L29=\"\"),0,1)","v":0},{"$f":"IF(OR(Marksheet!M29=\"_\",Marksheet!M29=\".\",Marksheet!M29=\"\"),0,1)","v":0},{"$f":"IF(OR(Marksheet!N29=\"_\",Marksheet!N29=\".\",Marksheet!N29=\"\"),0,1)","v":0},{"$f":"IF(OR(Marksheet!O29=\"_\",Marksheet!O29=\".\",Marksheet!O29=\"\"),0,1)","v":0},{"$f":"IF(OR(Marksheet!P29=\"_\",Marksheet!P29=\".\",Marksheet!P29=\"\"),0,1)","v":0},{"$f":"IF(OR(Marksheet!Q29=\"_\",Marksheet!Q29=\".\",Marksheet!Q29=\"\"),0,1)","v":0},{"$f":"IF(OR(Marksheet!R29=\"_\",Marksheet!R29=\".\",Marksheet!R29=\"\"),0,1)","v":0},{"$f":"IF(OR(Marksheet!S29=\"_\",Marksheet!S29=\".\",Marksheet!S29=\"\"),0,1)","v":0},{"$f":"IF(OR(Marksheet!T29=\"_\",Marksheet!T29=\".\",Marksheet!T29=\"\"),0,1)","v":0},{"$f":"IF(OR(Marksheet!U29=\"_\",Marksheet!U29=\".\",Marksheet!U29=\"\"),0,1)","v":0},{"$f":"IF(OR(Marksheet!V29=\"_\",Marksheet!V29=\".\",Marksheet!V29=\"\"),0,1)","v":0},{"$f":"IF(OR(Marksheet!W29=\"_\",Marksheet!W29=\".\",Marksheet!W29=\"\"),0,1)","v":0},{"$f":"IF(OR(Marksheet!X29=\"_\",Marksheet!X29=\".\",Marksheet!X29=\"\"),0,1)","v":0},{"$f":"IF(OR(Marksheet!Y29=\"_\",Marksheet!Y29=\".\",Marksheet!Y29=\"\"),0,1)","v":0},{"$f":"IF(OR(Marksheet!Z29=\"_\",Marksheet!Z29=\".\",Marksheet!Z29=\"\"),0,1)","v":0},{"$f":"IF(OR(Marksheet!AA29=\"_\",Marksheet!AA29=\".\",Marksheet!AA29=\"\"),0,1)","v":0},{"$f":"IF(OR(Marksheet!AB29=\"_\",Marksheet!AB29=\".\",Marksheet!AB29=\"\"),0,1)","v":0},{"$f":"IF(OR(Marksheet!AC29=\"_\",Marksheet!AC29=\".\",Marksheet!AC29=\"\"),0,1)","v":0},{"$f":"IF(OR(Marksheet!AD29=\"_\",Marksheet!AD29=\".\",Marksheet!AD29=\"\"),0,1)","v":0},{"$f":"IF(OR(Marksheet!AE29=\"_\",Marksheet!AE29=\".\",Marksheet!AE29=\"\"),0,1)","v":0},{"$f":"IF(OR(Marksheet!AF29=\"_\",Marksheet!AF29=\".\",Marksheet!AF29=\"\"),0,1)","v":0},{"$f":"IF(OR(Marksheet!AG29=\"_\",Marksheet!AG29=\".\",Marksheet!AG29=\"\"),0,1)","v":0},{"$f":"IF(OR(Marksheet!AH29=\"_\",Marksheet!AH29=\".\",Marksheet!AH29=\"\"),0,1)","v":0},{"$f":"IF(OR(Marksheet!AI29=\"_\",Marksheet!AI29=\".\",Marksheet!AI29=\"\"),0,1)","v":0},{"$f":"IF(OR(Marksheet!AJ29=\"_\",Marksheet!AJ29=\".\",Marksheet!AJ29=\"\"),0,1)","v":0},{"$f":"IF(OR(Marksheet!AK29=\"_\",Marksheet!AK29=\".\",Marksheet!AK29=\"\"),0,1)","v":0},{"$f":"IF(OR(Marksheet!AL29=\"_\",Marksheet!AL29=\".\",Marksheet!AL29=\"\"),0,1)","v":0},{"$f":"IF(OR(Marksheet!AM29=\"_\",Marksheet!AM29=\".\",Marksheet!AM29=\"\"),0,1)","v":0},{"$f":"IF(OR(Marksheet!AN29=\"_\",Marksheet!AN29=\".\",Marksheet!AN29=\"\"),0,1)","v":0},{"$f":"IF(OR(Marksheet!AO29=\"_\",Marksheet!AO29=\".\",Marksheet!AO29=\"\"),0,1)","v":0},{"$f":"IF(OR(Marksheet!AP29=\"_\",Marksheet!AP29=\".\",Marksheet!AP29=\"\"),0,1)","v":0},{"$f":"IF(OR(Marksheet!AQ29=\"_\",Marksheet!AQ29=\".\",Marksheet!AQ29=\"\"),0,1)","v":0},{"$f":"IF(OR(Marksheet!AR29=\"_\",Marksheet!AR29=\".\",Marksheet!AR29=\"\"),0,1)","v":0},{"$f":"IF(OR(Marksheet!AS29=\"_\",Marksheet!AS29=\".\",Marksheet!AS29=\"\"),0,1)","v":0},{"$f":"IF(OR(Marksheet!AT29=\"_\",Marksheet!AT29=\".\",Marksheet!AT29=\"\"),0,1)","v":0},{"$f":"IF(OR(Marksheet!AU29=\"_\",Marksheet!AU29=\".\",Marksheet!AU29=\"\"),0,1)","v":0},{"$f":"IF(OR(Marksheet!AV29=\"_\",Marksheet!AV29=\".\",Marksheet!AV29=\"\"),0,1)","v":0},{"$f":"IF(OR(Marksheet!AW29=\"_\",Marksheet!AW29=\".\",Marksheet!AW29=\"\"),0,1)","v":0},{"$f":"IF(OR(Marksheet!AX29=\"_\",Marksheet!AX29=\".\",Marksheet!AX29=\"\"),0,1)","v":0},{"$f":"IF(OR(Marksheet!AY29=\"_\",Marksheet!AY29=\".\",Marksheet!AY29=\"\"),0,1)","v":0},{"$f":"IF(OR(Marksheet!AZ29=\"_\",Marksheet!AZ29=\".\",Marksheet!AZ29=\"\"),0,1)","v":0},{"$f":"IF(OR(Marksheet!BA29=\"_\",Marksheet!BA29=\".\",Marksheet!BA29=\"\"),0,1)","v":0},{"$f":"IF(OR(Marksheet!BB29=\"_\",Marksheet!BB29=\".\",Marksheet!BB29=\"\"),0,1)","v":0},{"$f":"IF(OR(Marksheet!BC29=\"_\",Marksheet!BC29=\".\",Marksheet!BC29=\"\"),0,1)","v":0},{"$f":"IF(OR(Marksheet!BD29=\"_\",Marksheet!BD29=\".\",Marksheet!BD29=\"\"),0,1)","v":0},{"$f":"IF(OR(Marksheet!BE29=\"_\",Marksheet!BE29=\".\",Marksheet!BE29=\"\"),0,1)","v":0},{"$f":"IF(OR(Marksheet!BF29=\"_\",Marksheet!BF29=\".\",Marksheet!BF29=\"\"),0,1)","v":0},{"$f":"IF(OR(Marksheet!BG29=\"_\",Marksheet!BG29=\".\",Marksheet!BG29=\"\"),0,1)","v":0},{"$f":"IF(OR(Marksheet!BH29=\"_\",Marksheet!BH29=\".\",Marksheet!BH29=\"\"),0,1)","v":0},{"$f":"IF(OR(Marksheet!BI29=\"_\",Marksheet!BI29=\".\",Marksheet!BI29=\"\"),0,1)","v":0},{"$f":"IF(OR(Marksheet!BJ29=\"_\",Marksheet!BJ29=\".\",Marksheet!BJ29=\"\"),0,1)","v":0},{"$f":"IF(OR(Marksheet!BK29=\"_\",Marksheet!BK29=\".\",Marksheet!BK29=\"\"),0,1)","v":0},{"$f":"IF(OR(Marksheet!BL29=\"_\",Marksheet!BL29=\".\",Marksheet!BL29=\"\"),0,1)","v":0},{"$f":"IF(OR(Marksheet!BM29=\"_\",Marksheet!BM29=\".\",Marksheet!BM29=\"\"),0,1)","v":0},{"$f":"IF(OR(Marksheet!BN29=\"_\",Marksheet!BN29=\".\",Marksheet!BN29=\"\"),0,1)","v":0},{"$f":"IF(OR(Marksheet!BO29=\"_\",Marksheet!BO29=\".\",Marksheet!BO29=\"\"),0,1)","v":0},{"$f":"IF(OR(Marksheet!BP29=\"_\",Marksheet!BP29=\".\",Marksheet!BP29=\"\"),0,1)","v":0},{"$f":"IF(OR(Marksheet!BQ29=\"_\",Marksheet!BQ29=\".\",Marksheet!BQ29=\"\"),0,1)","v":0},{"$f":"IF(OR(Marksheet!BR29=\"_\",Marksheet!BR29=\".\",Marksheet!BR29=\"\"),0,1)","v":0},{"$f":"IF(OR(Marksheet!BS29=\"_\",Marksheet!BS29=\".\",Marksheet!BS29=\"\"),0,1)","v":0},{"$f":"IF(OR(Marksheet!BT29=\"_\",Marksheet!BT29=\".\",Marksheet!BT29=\"\"),0,1)","v":0},{"$f":"IF(OR(Marksheet!BU29=\"_\",Marksheet!BU29=\".\",Marksheet!BU29=\"\"),0,1)","v":0},{"$f":"IF(OR(Marksheet!BV29=\"_\",Marksheet!BV29=\".\",Marksheet!BV29=\"\"),0,1)","v":0}]
[null,null,null,null,null,null,null,27,{"$f":"IF(OR(Marksheet!I30=\"_\",Marksheet!I30=\".\",Marksheet!I30=\"\"),0,1)","v":0},{"$f":"IF(OR(Marksheet!J30=\"_\",Marksheet!J30=\".\",Marksheet!J30=\"\"),0,1)","v":0},{"$f":"IF(OR(Marksheet!K30=\"_\",Marksheet!K30=\".\",Marksheet!K30=\"\"),0,1)","v":0},{"$f":"IF(OR(Marksheet!L30=\"_\",Marksheet!L30=\".\",Marksheet!L30=\"\"),0,1)","v":0},{"$f":"IF(OR(Marksheet!M30=\"_\",Marksheet!M30=\".\",Marksheet!M30=\"\"),0,1)","v":0},{"$f":"IF(OR(Marksheet!N30=\"_\",Marksheet!N30=\".\",Marksheet!N30=\"\"),0,1)","v":0},{"$f":"IF(OR(Marksheet!O30=\"_\",Marksheet!O30=\".\",Marksheet!O30=\"\"),0,1)","v":0},{"$f":"IF(OR(Marksheet!P30=\"_\",Marksheet!P30=\".\",Marksheet!P30=\"\"),0,1)","v":0},{"$f":"IF(OR(Marksheet!Q30=\"_\",Marksheet!Q30=\".\",Marksheet!Q30=\"\"),0,1)","v":0},{"$f":"IF(OR(Marksheet!R30=\"_\",Marksheet!R30=\".\",Marksheet!R30=\"\"),0,1)","v":0},{"$f":"IF(OR(Marksheet!S30=\"_\",Marksheet!S30=\".\",Marksheet!S30=\"\"),0,1)","v":0},{"$f":"IF(OR(Marksheet!T30=\"_\",Marksheet!T30=\".\",Marksheet!T30=\"\"),0,1)","v":0},{"$f":"IF(OR(Marksheet!U30=\"_\",Marksheet!U30=\".\",Marksheet!U30=\"\"),0,1)","v":0},{"$f":"IF(OR(Marksheet!V30=\"_\",Marksheet!V30=\".\",Marksheet!V30=\"\"),0,1)","v":0},{"$f":"IF(OR(Marksheet!W30=\"_\",Marksheet!W30=\".\",Marksheet!W30=\"\"),0,1)","v":0},{"$f":"IF(OR(Marksheet!X30=\"_\",Marksheet!X30=\".\",Marksheet!X30=\"\"),0,1)","v":0},{"$f":"IF(OR(Marksheet!Y30=\"_\",Marksheet!Y30=\".\",Marksheet!Y30=\"\"),0,1)","v":0},{"$f":"IF(OR(Marksheet!Z30=\"_\",Marksheet!Z30=\".\",Marksheet!Z30=\"\"),0,1)","v":0},{"$f":"IF(OR(Marksheet!AA30=\"_\",Marksheet!AA30=\".\",Marksheet!AA30=\"\"),0,1)","v":0},{"$f":"IF(OR(Marksheet!AB30=\"_\",Marksheet!AB30=\".\",Marksheet!AB30=\"\"),0,1)","v":0},{"$f":"IF(OR(Marksheet!AC30=\"_\",Marksheet!AC30=\".\",Marksheet!AC30=\"\"),0,1)","v":0},{"$f":"IF(OR(Marksheet!AD30=\"_\",Marksheet!AD30=\".\",Marksheet!AD30=\"\"),0,1)","v":0},{"$f":"IF(OR(Marksheet!AE30=\"_\",Marksheet!AE30=\".\",Marksheet!AE30=\"\"),0,1)","v":0},{"$f":"IF(OR(Marksheet!AF30=\"_\",Marksheet!AF30=\".\",Marksheet!AF30=\"\"),0,1)","v":0},{"$f":"IF(OR(Marksheet!AG30=\"_\",Marksheet!AG30=\".\",Marksheet!AG30=\"\"),0,1)","v":0},{"$f":"IF(OR(Marksheet!AH30=\"_\",Marksheet!AH30=\".\",Marksheet!AH30=\"\"),0,1)","v":0},{"$f":"IF(OR(Marksheet!AI30=\"_\",Marksheet!AI30=\".\",Marksheet!AI30=\"\"),0,1)","v":0},{"$f":"IF(OR(Marksheet!AJ30=\"_\",Marksheet!AJ30=\".\",Marksheet!AJ30=\"\"),0,1)","v":0},{"$f":"IF(OR(Marksheet!AK30=\"_\",Marksheet!AK30=\".\",Marksheet!AK30=\"\"),0,1)","v":0},{"$f":"IF(OR(Marksheet!AL30=\"_\",Marksheet!AL30=\".\",Marksheet!AL30=\"\"),0,1)","v":0},{"$f":"IF(OR(Marksheet!AM30=\"_\",Marksheet!AM30=\".\",Marksheet!AM30=\"\"),0,1)","v":0},{"$f":"IF(OR(Marksheet!AN30=\"_\",Marksheet!AN30=\".\",Marksheet!AN30=\"\"),0,1)","v":0},{"$f":"IF(OR(Marksheet!AO30=\"_\",Marksheet!AO30=\".\",Marksheet!AO30=\"\"),0,1)","v":0},{"$f":"IF(OR(Marksheet!AP30=\"_\",Marksheet!AP30=\".\",Marksheet!AP30=\"\"),0,1)","v":0},{"$f":"IF(OR(Marksheet!AQ30=\"_\",Marksheet!AQ30=\".\",Marksheet!AQ30=\"\"),0,1)","v":0},{"$f":"IF(OR(Marksheet!AR30=\"_\",Marksheet!AR30=\".\",Marksheet!AR30=\"\"),0,1)","v":0},{"$f":"IF(OR(Marksheet!AS30=\"_\",Marksheet!AS30=\".\",Marksheet!AS30=\"\"),0,1)","v":0},{"$f":"IF(OR(Marksheet!AT30=\"_\",Marksheet!AT30=\".\",Marksheet!AT30=\"\"),0,1)","v":0},{"$f":"IF(OR(Marksheet!AU30=\"_\",Marksheet!AU30=\".\",Marksheet!AU30=\"\"),0,1)","v":0},{"$f":"IF(OR(Marksheet!AV30=\"_\",Marksheet!AV30=\".\",Marksheet!AV30=\"\"),0,1)","v":0},{"$f":"IF(OR(Marksheet!AW30=\"_\",Marksheet!AW30=\".\",Marksheet!AW30=\"\"),0,1)","v":0},{"$f":"IF(OR(Marksheet!AX30=\"_\",Marksheet!AX30=\".\",Marksheet!AX30=\"\"),0,1)","v":0},{"$f":"IF(OR(Marksheet!AY30=\"_\",Marksheet!AY30=\".\",Marksheet!AY30=\"\"),0,1)","v":0},{"$f":"IF(OR(Marksheet!AZ30=\"_\",Marksheet!AZ30=\".\",Marksheet!AZ30=\"\"),0,1)","v":0},{"$f":"IF(OR(Marksheet!BA30=\"_\",Marksheet!BA30=\".\",Marksheet!BA30=\"\"),0,1)","v":0},{"$f":"IF(OR(Marksheet!BB30=\"_\",Marksheet!BB30=\".\",Marksheet!BB30=\"\"),0,1)","v":0},{"$f":"IF(OR(Marksheet!BC30=\"_\",Marksheet!BC30=\".\",Marksheet!BC30=\"\"),0,1)","v":0},{"$f":"IF(OR(Marksheet!BD30=\"_\",Marksheet!BD30=\".\",Marksheet!BD30=\"\"),0,1)","v":0},{"$f":"IF(OR(Marksheet!BE30=\"_\",Marksheet!BE30=\".\",Marksheet!BE30=\"\"),0,1)","v":0},{"$f":"IF(OR(Marksheet!BF30=\"_\",Marksheet!BF30=\".\",Marksheet!BF30=\"\"),0,1)","v":0},{"$f":"IF(OR(Marksheet!BG30=\"_\",Marksheet!BG30=\".\",Marksheet!BG30=\"\"),0,1)","v":0},{"$f":"IF(OR(Marksheet!BH30=\"_\",Marksheet!BH30=\".\",Marksheet!BH30=\"\"),0,1)","v":0},{"$f":"IF(OR(Marksheet!BI30=\"_\",Marksheet!BI30=\".\",Marksheet!BI30=\"\"),0,1)","v":0},{"$f":"IF(OR(Marksheet!BJ30=\"_\",Marksheet!BJ30=\".\",Marksheet!BJ30=\"\"),0,1)","v":0},{"$f":"IF(OR(Marksheet!BK30=\"_\",Marksheet!BK30=\".\",Marksheet!BK30=\"\"),0,1)","v":0},{"$f":"IF(OR(Marksheet!BL30=\"_\",Marksheet!BL30=\".\",Marksheet!BL30=\"\"),0,1)","v":0},{"$f":"IF(OR(Marksheet!BM30=\"_\",Marksheet!BM30=\".\",Marksheet!BM30=\"\"),0,1)","v":0},{"$f":"IF(OR(Marksheet!BN30=\"_\",Marksheet!BN30=\".\",Marksheet!BN30=\"\"),0,1)","v":0},{"$f":"IF(OR(Marksheet!BO30=\"_\",Marksheet!BO30=\".\",Marksheet!BO30=\"\"),0,1)","v":0},{"$f":"IF(OR(Marksheet!BP30=\"_\",Marksheet!BP30=\".\",Marksheet!BP30=\"\"),0,1)","v":0},{"$f":"IF(OR(Marksheet!BQ30=\"_\",Marksheet!BQ30=\".\",Marksheet!BQ30=\"\"),0,1)","v":0},{"$f":"IF(OR(Marksheet!BR30=\"_\",Marksheet!BR30=\".\",Marksheet!BR30=\"\"),0,1)","v":0},{"$f":"IF(OR(Marksheet!BS30=\"_\",Marksheet!BS30=\".\",Marksheet!BS30=\"\"),0,1)","v":0},{"$f":"IF(OR(Marksheet!BT30=\"_\",Marksheet!BT30=\".\",Marksheet!BT30=\"\"),0,1)","v":0},{"$f":"IF(OR(Marksheet!BU30=\"_\",Marksheet!BU30=\".\",Marksheet!BU30=\"\"),0,1)","v":0},{"$f":"IF(OR(Marksheet!BV30=\"_\",Marksheet!BV30=\".\",Marksheet!BV30=\"\"),0,1)","v":0}]
[null,null,null,null,null,null,null,28,{"$f":"IF(OR(Marksheet!I31=\"_\",Marksheet!I31=\".\",Marksheet!I31=\"\"),0,1)","v":0},{"$f":"IF(OR(Marksheet!J31=\"_\",Marksheet!J31=\".\",Marksheet!J31=\"\"),0,1)","v":0},{"$f":"IF(OR(Marksheet!K31=\"_\",Marksheet!K31=\".\",Marksheet!K31=\"\"),0,1)","v":0},{"$f":"IF(OR(Marksheet!L31=\"_\",Marksheet!L31=\".\",Marksheet!L31=\"\"),0,1)","v":0},{"$f":"IF(OR(Marksheet!M31=\"_\",Marksheet!M31=\".\",Marksheet!M31=\"\"),0,1)","v":0},{"$f":"IF(OR(Marksheet!N31=\"_\",Marksheet!N31=\".\",Marksheet!N31=\"\"),0,1)","v":0},{"$f":"IF(OR(Marksheet!O31=\"_\",Marksheet!O31=\".\",Marksheet!O31=\"\"),0,1)","v":0},{"$f":"IF(OR(Marksheet!P31=\"_\",Marksheet!P31=\".\",Marksheet!P31=\"\"),0,1)","v":0},{"$f":"IF(OR(Marksheet!Q31=\"_\",Marksheet!Q31=\".\",Marksheet!Q31=\"\"),0,1)","v":0},{"$f":"IF(OR(Marksheet!R31=\"_\",Marksheet!R31=\".\",Marksheet!R31=\"\"),0,1)","v":0},{"$f":"IF(OR(Marksheet!S31=\"_\",Marksheet!S31=\".\",Marksheet!S31=\"\"),0,1)","v":0},{"$f":"IF(OR(Marksheet!T31=\"_\",Marksheet!T31=\".\",Marksheet!T31=\"\"),0,1)","v":0},{"$f":"IF(OR(Marksheet!U31=\"_\",Marksheet!U31=\".\",Marksheet!U31=\"\"),0,1)","v":0},{"$f":"IF(OR(Marksheet!V31=\"_\",Marksheet!V31=\".\",Marksheet!V31=\"\"),0,1)","v":0},{"$f":"IF(OR(Marksheet!W31=\"_\",Marksheet!W31=\".\",Marksheet!W31=\"\"),0,1)","v":0},{"$f":"IF(OR(Marksheet!X31=\"_\",Marksheet!X31=\".\",Marksheet!X31=\"\"),0,1)","v":0},{"$f":"IF(OR(Marksheet!Y31=\"_\",Marksheet!Y31=\".\",Marksheet!Y31=\"\"),0,1)","v":0},{"$f":"IF(OR(Marksheet!Z31=\"_\",Marksheet!Z31=\".\",Marksheet!Z31=\"\"),0,1)","v":0},{"$f":"IF(OR(Marksheet!AA31=\"_\",Marksheet!AA31=\".\",Marksheet!AA31=\"\"),0,1)","v":0},{"$f":"IF(OR(Marksheet!AB31=\"_\",Marksheet!AB31=\".\",Marksheet!AB31=\"\"),0,1)","v":0},{"$f":"IF(OR(Marksheet!AC31=\"_\",Marksheet!AC31=\".\",Marksheet!AC31=\"\"),0,1)","v":0},{"$f":"IF(OR(Marksheet!AD31=\"_\",Marksheet!AD31=\".\",Marksheet!AD31=\"\"),0,1)","v":0},{"$f":"IF(OR(Marksheet!AE31=\"_\",Marksheet!AE31=\".\",Marksheet!AE31=\"\"),0,1)","v":0},{"$f":"IF(OR(Marksheet!AF31=\"_\",Marksheet!AF31=\".\",Marksheet!AF31=\"\"),0,1)","v":0},{"$f":"IF(OR(Marksheet!AG31=\"_\",Marksheet!AG31=\".\",Marksheet!AG31=\"\"),0,1)","v":0},{"$f":"IF(OR(Marksheet!AH31=\"_\",Marksheet!AH31=\".\",Marksheet!AH31=\"\"),0,1)","v":0},{"$f":"IF(OR(Marksheet!AI31=\"_\",Marksheet!AI31=\".\",Marksheet!AI31=\"\"),0,1)","v":0},{"$f":"IF(OR(Marksheet!AJ31=\"_\",Marksheet!AJ31=\".\",Marksheet!AJ31=\"\"),0,1)","v":0},{"$f":"IF(OR(Marksheet!AK31=\"_\",Marksheet!AK31=\".\",Marksheet!AK31=\"\"),0,1)","v":0},{"$f":"IF(OR(Marksheet!AL31=\"_\",Marksheet!AL31=\".\",Marksheet!AL31=\"\"),0,1)","v":0},{"$f":"IF(OR(Marksheet!AM31=\"_\",Marksheet!AM31=\".\",Marksheet!AM31=\"\"),0,1)","v":0},{"$f":"IF(OR(Marksheet!AN31=\"_\",Marksheet!AN31=\".\",Marksheet!AN31=\"\"),0,1)","v":0},{"$f":"IF(OR(Marksheet!AO31=\"_\",Marksheet!AO31=\".\",Marksheet!AO31=\"\"),0,1)","v":0},{"$f":"IF(OR(Marksheet!AP31=\"_\",Marksheet!AP31=\".\",Marksheet!AP31=\"\"),0,1)","v":0},{"$f":"IF(OR(Marksheet!AQ31=\"_\",Marksheet!AQ31=\".\",Marksheet!AQ31=\"\"),0,1)","v":0},{"$f":"IF(OR(Marksheet!AR31=\"_\",Marksheet!AR31=\".\",Marksheet!AR31=\"\"),0,1)","v":0},{"$f":"IF(OR(Marksheet!AS31=\"_\",Marksheet!AS31=\".\",Marksheet!AS31=\"\"),0,1)","v":0},{"$f":"IF(OR(Marksheet!AT31=\"_\",Marksheet!AT31=\".\",Marksheet!AT31=\"\"),0,1)","v":0},{"$f":"IF(OR(Marksheet!AU31=\"_\",Marksheet!AU31=\".\",Marksheet!AU31=\"\"),0,1)","v":0},{"$f":"IF(OR(Marksheet!AV31=\"_\",Marksheet!AV31=\".\",Marksheet!AV31=\"\"),0,1)","v":0},{"$f":"IF(OR(Marksheet!AW31=\"_\",Marksheet!AW31=\".\",Marksheet!AW31=\"\"),0,1)","v":0},{"$f":"IF(OR(Marksheet!AX31=\"_\",Marksheet!AX31=\".\",Marksheet!AX31=\"\"),0,1)","v":0},{"$f":"IF(OR(Marksheet!AY31=\"_\",Marksheet!AY31=\".\",Marksheet!AY31=\"\"),0,1)","v":0},{"$f":"IF(OR(Marksheet!AZ31=\"_\",Marksheet!AZ31=\".\",Marksheet!AZ31=\"\"),0,1)","v":0},{"$f":"IF(OR(Marksheet!BA31=\"_\",Marksheet!BA31=\".\",Marksheet!BA31=\"\"),0,1)","v":0},{"$f":"IF(OR(Marksheet!BB31=\"_\",Marksheet!BB31=\".\",Marksheet!BB31=\"\"),0,1)","v":0},{"$f":"IF(OR(Marksheet!BC31=\"_\",Marksheet!BC31=\".\",Marksheet!BC31=\"\"),0,1)","v":0},{"$f":"IF(OR(Marksheet!BD31=\"_\",Marksheet!BD31=\".\",Marksheet!BD31=\"\"),0,1)","v":0},{"$f":"IF(OR(Marksheet!BE31=\"_\",Marksheet!BE31=\".\",Marksheet!BE31=\"\"),0,1)","v":0},{"$f":"IF(OR(Marksheet!BF31=\"_\",Marksheet!BF31=\".\",Marksheet!BF31=\"\"),0,1)","v":0},{"$f":"IF(OR(Marksheet!BG31=\"_\",Marksheet!BG31=\".\",Marksheet!BG31=\"\"),0,1)","v":0},{"$f":"IF(OR(Marksheet!BH31=\"_\",Marksheet!BH31=\".\",Marksheet!BH31=\"\"),0,1)","v":0},{"$f":"IF(OR(Marksheet!BI31=\"_\",Marksheet!BI31=\".\",Marksheet!BI31=\"\"),0,1)","v":0},{"$f":"IF(OR(Marksheet!BJ31=\"_\",Marksheet!BJ31=\".\",Marksheet!BJ31=\"\"),0,1)","v":0},{"$f":"IF(OR(Marksheet!BK31=\"_\",Marksheet!BK31=\".\",Marksheet!BK31=\"\"),0,1)","v":0},{"$f":"IF(OR(Marksheet!BL31=\"_\",Marksheet!BL31=\".\",Marksheet!BL31=\"\"),0,1)","v":0},{"$f":"IF(OR(Marksheet!BM31=\"_\",Marksheet!BM31=\".\",Marksheet!BM31=\"\"),0,1)","v":0},{"$f":"IF(OR(Marksheet!BN31=\"_\",Marksheet!BN31=\".\",Marksheet!BN31=\"\"),0,1)","v":0},{"$f":"IF(OR(Marksheet!BO31=\"_\",Marksheet!BO31=\".\",Marksheet!BO31=\"\"),0,1)","v":0},{"$f":"IF(OR(Marksheet!BP31=\"_\",Marksheet!BP31=\".\",Marksheet!BP31=\"\"),0,1)","v":0},{"$f":"IF(OR(Marksheet!BQ31=\"_\",Marksheet!BQ31=\".\",Marksheet!BQ31=\"\"),0,1)","v":0},{"$f":"IF(OR(Marksheet!BR31=\"_\",Marksheet!BR31=\".\",Marksheet!BR31=\"\"),0,1)","v":0},{"$f":"IF(OR(Marksheet!BS31=\"_\",Marksheet!BS31=\".\",Marksheet!BS31=\"\"),0,1)","v":0},{"$f":"IF(OR(Marksheet!BT31=\"_\",Marksheet!BT31=\".\",Marksheet!BT31=\"\"),0,1)","v":0},{"$f":"IF(OR(Marksheet!BU31=\"_\",Marksheet!BU31=\".\",Marksheet!BU31=\"\"),0,1)","v":0},{"$f":"IF(OR(Marksheet!BV31=\"_\",Marksheet!BV31=\".\",Marksheet!BV31=\"\"),0,1)","v":0}]
[null,null,null,null,null,null,null,29,{"$f":"IF(OR(Marksheet!I32=\"_\",Marksheet!I32=\".\",Marksheet!I32=\"\"),0,1)","v":0},{"$f":"IF(OR(Marksheet!J32=\"_\",Marksheet!J32=\".\",Marksheet!J32=\"\"),0,1)","v":0},{"$f":"IF(OR(Marksheet!K32=\"_\",Marksheet!K32=\".\",Marksheet!K32=\"\"),0,1)","v":0},{"$f":"IF(OR(Marksheet!L32=\"_\",Marksheet!L32=\".\",Marksheet!L32=\"\"),0,1)","v":0},{"$f":"IF(OR(Marksheet!M32=\"_\",Marksheet!M32=\".\",Marksheet!M32=\"\"),0,1)","v":0},{"$f":"IF(OR(Marksheet!N32=\"_\",Marksheet!N32=\".\",Marksheet!N32=\"\"),0,1)","v":0},{"$f":"IF(OR(Marksheet!O32=\"_\",Marksheet!O32=\".\",Marksheet!O32=\"\"),0,1)","v":0},{"$f":"IF(OR(Marksheet!P32=\"_\",Marksheet!P32=\".\",Marksheet!P32=\"\"),0,1)","v":0},{"$f":"IF(OR(Marksheet!Q32=\"_\",Marksheet!Q32=\".\",Marksheet!Q32=\"\"),0,1)","v":0},{"$f":"IF(OR(Marksheet!R32=\"_\",Marksheet!R32=\".\",Marksheet!R32=\"\"),0,1)","v":0},{"$f":"IF(OR(Marksheet!S32=\"_\",Marksheet!S32=\".\",Marksheet!S32=\"\"),0,1)","v":0},{"$f":"IF(OR(Marksheet!T32=\"_\",Marksheet!T32=\".\",Marksheet!T32=\"\"),0,1)","v":0},{"$f":"IF(OR(Marksheet!U32=\"_\",Marksheet!U32=\".\",Marksheet!U32=\"\"),0,1)","v":0},{"$f":"IF(OR(Marksheet!V32=\"_\",Marksheet!V32=\".\",Marksheet!V32=\"\"),0,1)","v":0},{"$f":"IF(OR(Marksheet!W32=\"_\",Marksheet!W32=\".\",Marksheet!W32=\"\"),0,1)","v":0},{"$f":"IF(OR(Marksheet!X32=\"_\",Marksheet!X32=\".\",Marksheet!X32=\"\"),0,1)","v":0},{"$f":"IF(OR(Marksheet!Y32=\"_\",Marksheet!Y32=\".\",Marksheet!Y32=\"\"),0,1)","v":0},{"$f":"IF(OR(Marksheet!Z32=\"_\",Marksheet!Z32=\".\",Marksheet!Z32=\"\"),0,1)","v":0},{"$f":"IF(OR(Marksheet!AA32=\"_\",Marksheet!AA32=\".\",Marksheet!AA32=\"\"),0,1)","v":0},{"$f":"IF(OR(Marksheet!AB32=\"_\",Marksheet!AB32=\".\",Marksheet!AB32=\"\"),0,1)","v":0},{"$f":"IF(OR(Marksheet!AC32=\"_\",Marksheet!AC32=\".\",Marksheet!AC32=\"\"),0,1)","v":0},{"$f":"IF(OR(Marksheet!AD32=\"_\",Marksheet!AD32=\".\",Marksheet!AD32=\"\"),0,1)","v":0},{"$f":"IF(OR(Marksheet!AE32=\"_\",Marksheet!AE32=\".\",Marksheet!AE32=\"\"),0,1)","v":0},{"$f":"IF(OR(Marksheet!AF32=\"_\",Marksheet!AF32=\".\",Marksheet!AF32=\"\"),0,1)","v":0},{"$f":"IF(OR(Marksheet!AG32=\"_\",Marksheet!AG32=\".\",Marksheet!AG32=\"\"),0,1)","v":0},{"$f":"IF(OR(Marksheet!AH32=\"_\",Marksheet!AH32=\".\",Marksheet!AH32=\"\"),0,1)","v":0},{"$f":"IF(OR(Marksheet!AI32=\"_\",Marksheet!AI32=\".\",Marksheet!AI32=\"\"),0,1)","v":0},{"$f":"IF(OR(Marksheet!AJ32=\"_\",Marksheet!AJ32=\".\",Marksheet!AJ32=\"\"),0,1)","v":0},{"$f":"IF(OR(Marksheet!AK32=\"_\",Marksheet!AK32=\".\",Marksheet!AK32=\"\"),0,1)","v":0},{"$f":"IF(OR(Marksheet!AL32=\"_\",Marksheet!AL32=\".\",Marksheet!AL32=\"\"),0,1)","v":0},{"$f":"IF(OR(Marksheet!AM32=\"_\",Marksheet!AM32=\".\",Marksheet!AM32=\"\"),0,1)","v":0},{"$f":"IF(OR(Marksheet!AN32=\"_\",Marksheet!AN32=\".\",Marksheet!AN32=\"\"),0,1)","v":0},{"$f":"IF(OR(Marksheet!AO32=\"_\",Marksheet!AO32=\".\",Marksheet!AO32=\"\"),0,1)","v":0},{"$f":"IF(OR(Marksheet!AP32=\"_\",Marksheet!AP32=\".\",Marksheet!AP32=\"\"),0,1)","v":0},{"$f":"IF(OR(Marksheet!AQ32=\"_\",Marksheet!AQ32=\".\",Marksheet!AQ32=\"\"),0,1)","v":0},{"$f":"IF(OR(Marksheet!AR32=\"_\",Marksheet!AR32=\".\",Marksheet!AR32=\"\"),0,1)","v":0},{"$f":"IF(OR(Marksheet!AS32=\"_\",Marksheet!AS32=\".\",Marksheet!AS32=\"\"),0,1)","v":0},{"$f":"IF(OR(Marksheet!AT32=\"_\",Marksheet!AT32=\".\",Marksheet!AT32=\"\"),0,1)","v":0},{"$f":"IF(OR(Marksheet!AU32=\"_\",Marksheet!AU32=\".\",Marksheet!AU32=\"\"),0,1)","v":0},{"$f":"IF(OR(Marksheet!AV32=\"_\",Marksheet!AV32=\".\",Marksheet!AV32=\"\"),0,1)","v":0},{"$f":"IF(OR(Marksheet!AW32=\"_\",Marksheet!AW32=\".\",Marksheet!AW32=\"\"),0,1)","v":0},{"$f":"IF(OR(Marksheet!AX32=\"_\",Marksheet!AX32=\".\",Marksheet!AX32=\"\"),0,1)","v":0},{"$f":"IF(OR(Marksheet!AY32=\"_\",Marksheet!AY32=\".\",Marksheet!AY32=\"\"),0,1)","v":0},{"$f":"IF(OR(Marksheet!AZ32=\"_\",Marksheet!AZ32=\".\",Marksheet!AZ32=\"\"),0,1)","v":0},{"$f":"IF(OR(Marksheet!BA32=\"_\",Marksheet!BA32=\".\",Marksheet!BA32=\"\"),0,1)","v":0},{"$f":"IF(OR(Marksheet!BB32=\"_\",Marksheet!BB32=\".\",Marksheet!BB32=\"\"),0,1)","v":0},{"$f":"IF(OR(Marksheet!BC32=\"_\",Marksheet!BC32=\".\",Marksheet!BC32=\"\"),0,1)","v":0},{"$f":"IF(OR(Marksheet!BD32=\"_\",Marksheet!BD32=\".\",Marksheet!BD32=\"\"),0,1)","v":0},{"$f":"IF(OR(Marksheet!BE32=\"_\",Marksheet!BE32=\".\",Marksheet!BE32=\"\"),0,1)","v":0},{"$f":"IF(OR(Marksheet!BF32=\"_\",Marksheet!BF32=\".\",Marksheet!BF32=\"\"),0,1)","v":0},{"$f":"IF(OR(Marksheet!BG32=\"_\",Marksheet!BG32=\".\",Marksheet!BG32=\"\"),0,1)","v":0},{"$f":"IF(OR(Marksheet!BH32=\"_\",Marksheet!BH32=\".\",Marksheet!BH32=\"\"),0,1)","v":0},{"$f":"IF(OR(Marksheet!BI32=\"_\",Marksheet!BI32=\".\",Marksheet!BI32=\"\"),0,1)","v":0},{"$f":"IF(OR(Marksheet!BJ32=\"_\",Marksheet!BJ32=\".\",Marksheet!BJ32=\"\"),0,1)","v":0},{"$f":"IF(OR(Marksheet!BK32=\"_\",Marksheet!BK32=\".\",Marksheet!BK32=\"\"),0,1)","v":0},{"$f":"IF(OR(Marksheet!BL32=\"_\",Marksheet!BL32=\".\",Marksheet!BL32=\"\"),0,1)","v":0},{"$f":"IF(OR(Marksheet!BM32=\"_\",Marksheet!BM32=\".\",Marksheet!BM32=\"\"),0,1)","v":0},{"$f":"IF(OR(Marksheet!BN32=\"_\",Marksheet!BN32=\".\",Marksheet!BN32=\"\"),0,1)","v":0},{"$f":"IF(OR(Marksheet!BO32=\"_\",Marksheet!BO32=\".\",Marksheet!BO32=\"\"),0,1)","v":0},{"$f":"IF(OR(Marksheet!BP32=\"_\",Marksheet!BP32=\".\",Marksheet!BP32=\"\"),0,1)","v":0},{"$f":"IF(OR(Marksheet!BQ32=\"_\",Marksheet!BQ32=\".\",Marksheet!BQ32=\"\"),0,1)","v":0},{"$f":"IF(OR(Marksheet!BR32=\"_\",Marksheet!BR32=\".\",Marksheet!BR32=\"\"),0,1)","v":0},{"$f":"IF(OR(Marksheet!BS32=\"_\",Marksheet!BS32=\".\",Marksheet!BS32=\"\"),0,1)","v":0},{"$f":"IF(OR(Marksheet!BT32=\"_\",Marksheet!BT32=\".\",Marksheet!BT32=\"\"),0,1)","v":0},{"$f":"IF(OR(Marksheet!BU32=\"_\",Marksheet!BU32=\".\",Marksheet!BU32=\"\"),0,1)","v":0},{"$f":"IF(OR(Marksheet!BV32=\"_\",Marksheet!BV32=\".\",Marksheet!BV32=\"\"),0,1)","v":0}]
[null,null,null,null,null,null,null,30,{"$f":"IF(OR(Marksheet!I33=\"_\",Marksheet!I33=\".\",Marksheet!I33=\"\"),0,1)","v":0},{"$f":"IF(OR(Marksheet!J33=\"_\",Marksheet!J33=\".\",Marksheet!J33=\"\"),0,1)","v":0},{"$f":"IF(OR(Marksheet!K33=\"_\",Marksheet!K33=\".\",Marksheet!K33=\"\"),0,1)","v":0},{"$f":"IF(OR(Marksheet!L33=\"_\",Marksheet!L33=\".\",Marksheet!L33=\"\"),0,1)","v":0},{"$f":"IF(OR(Marksheet!M33=\"_\",Marksheet!M33=\".\",Marksheet!M33=\"\"),0,1)","v":0},{"$f":"IF(OR(Marksheet!N33=\"_\",Marksheet!N33=\".\",Marksheet!N33=\"\"),0,1)","v":0},{"$f":"IF(OR(Marksheet!O33=\"_\",Marksheet!O33=\".\",Marksheet!O33=\"\"),0,1)","v":0},{"$f":"IF(OR(Marksheet!P33=\"_\",Marksheet!P33=\".\",Marksheet!P33=\"\"),0,1)","v":0},{"$f":"IF(OR(Marksheet!Q33=\"_\",Marksheet!Q33=\".\",Marksheet!Q33=\"\"),0,1)","v":0},{"$f":"IF(OR(Marksheet!R33=\"_\",Marksheet!R33=\".\",Marksheet!R33=\"\"),0,1)","v":0},{"$f":"IF(OR(Marksheet!S33=\"_\",Marksheet!S33=\".\",Marksheet!S33=\"\"),0,1)","v":0},{"$f":"IF(OR(Marksheet!T33=\"_\",Marksheet!T33=\".\",Marksheet!T33=\"\"),0,1)","v":0},{"$f":"IF(OR(Marksheet!U33=\"_\",Marksheet!U33=\".\",Marksheet!U33=\"\"),0,1)","v":0},{"$f":"IF(OR(Marksheet!V33=\"_\",Marksheet!V33=\".\",Marksheet!V33=\"\"),0,1)","v":0},{"$f":"IF(OR(Marksheet!W33=\"_\",Marksheet!W33=\".\",Marksheet!W33=\"\"),0,1)","v":0},{"$f":"IF(OR(Marksheet!X33=\"_\",Marksheet!X33=\".\",Marksheet!X33=\"\"),0,1)","v":0},{"$f":"IF(OR(Marksheet!Y33=\"_\",Marksheet!Y33=\".\",Marksheet!Y33=\"\"),0,1)","v":0},{"$f":"IF(OR(Marksheet!Z33=\"_\",Marksheet!Z33=\".\",Marksheet!Z33=\"\"),0,1)","v":0},{"$f":"IF(OR(Marksheet!AA33=\"_\",Marksheet!AA33=\".\",Marksheet!AA33=\"\"),0,1)","v":0},{"$f":"IF(OR(Marksheet!AB33=\"_\",Marksheet!AB33=\".\",Marksheet!AB33=\"\"),0,1)","v":0},{"$f":"IF(OR(Marksheet!AC33=\"_\",Marksheet!AC33=\".\",Marksheet!AC33=\"\"),0,1)","v":0},{"$f":"IF(OR(Marksheet!AD33=\"_\",Marksheet!AD33=\".\",Marksheet!AD33=\"\"),0,1)","v":0},{"$f":"IF(OR(Marksheet!AE33=\"_\",Marksheet!AE33=\".\",Marksheet!AE33=\"\"),0,1)","v":0},{"$f":"IF(OR(Marksheet!AF33=\"_\",Marksheet!AF33=\".\",Marksheet!AF33=\"\"),0,1)","v":0},{"$f":"IF(OR(Marksheet!AG33=\"_\",Marksheet!AG33=\".\",Marksheet!AG33=\"\"),0,1)","v":0},{"$f":"IF(OR(Marksheet!AH33=\"_\",Marksheet!AH33=\".\",Marksheet!AH33=\"\"),0,1)","v":0},{"$f":"IF(OR(Marksheet!AI33=\"_\",Marksheet!AI33=\".\",Marksheet!AI33=\"\"),0,1)","v":0},{"$f":"IF(OR(Marksheet!AJ33=\"_\",Marksheet!AJ33=\".\",Marksheet!AJ33=\"\"),0,1)","v":0},{"$f":"IF(OR(Marksheet!AK33=\"_\",Marksheet!AK33=\".\",Marksheet!AK33=\"\"),0,1)","v":0},{"$f":"IF(OR(Marksheet!AL33=\"_\",Marksheet!AL33=\".\",Marksheet!AL33=\"\"),0,1)","v":0},{"$f":"IF(OR(Marksheet!AM33=\"_\",Marksheet!AM33=\".\",Marksheet!AM33=\"\"),0,1)","v":0},{"$f":"IF(OR(Marksheet!AN33=\"_\",Marksheet!AN33=\".\",Marksheet!AN33=\"\"),0,1)","v":0},{"$f":"IF(OR(Marksheet!AO33=\"_\",Marksheet!AO33=\".\",Marksheet!AO33=\"\"),0,1)","v":0},{"$f":"IF(OR(Marksheet!AP33=\"_\",Marksheet!AP33=\".\",Marksheet!AP33=\"\"),0,1)","v":0},{"$f":"IF(OR(Marksheet!AQ33=\"_\",Marksheet!AQ33=\".\",Marksheet!AQ33=\"\"),0,1)","v":0},{"$f":"IF(OR(Marksheet!AR33=\"_\",Marksheet!AR33=\".\",Marksheet!AR33=\"\"),0,1)","v":0},{"$f":"IF(OR(Marksheet!AS33=\"_\",Marksheet!AS33=\".\",Marksheet!AS33=\"\"),0,1)","v":0},{"$f":"IF(OR(Marksheet!AT33=\"_\",Marksheet!AT33=\".\",Marksheet!AT33=\"\"),0,1)","v":0},{"$f":"IF(OR(Marksheet!AU33=\"_\",Marksheet!AU33=\".\",Marksheet!AU33=\"\"),0,1)","v":0},{"$f":"IF(OR(Marksheet!AV33=\"_\",Marksheet!AV33=\".\",Marksheet!AV33=\"\"),0,1)","v":0},{"$f":"IF(OR(Marksheet!AW33=\"_\",Marksheet!AW33=\".\",Marksheet!AW33=\"\"),0,1)","v":0},{"$f":"IF(OR(Marksheet!AX33=\"_\",Marksheet!AX33=\".\",Marksheet!AX33=\"\"),0,1)","v":0},{"$f":"IF(OR(Marksheet!AY33=\"_\",Marksheet!AY33=\".\",Marksheet!AY33=\"\"),0,1)","v":0},{"$f":"IF(OR(Marksheet!AZ33=\"_\",Marksheet!AZ33=\".\",Marksheet!AZ33=\"\"),0,1)","v":0},{"$f":"IF(OR(Marksheet!BA33=\"_\",Marksheet!BA33=\".\",Marksheet!BA33=\"\"),0,1)","v":0},{"$f":"IF(OR(Marksheet!BB33=\"_\",Marksheet!BB33=\".\",Marksheet!BB33=\"\"),0,1)","v":0},{"$f":"IF(OR(Marksheet!BC33=\"_\",Marksheet!BC33=\".\",Marksheet!BC33=\"\"),0,1)","v":0},{"$f":"IF(OR(Marksheet!BD33=\"_\",Marksheet!BD33=\".\",Marksheet!BD33=\"\"),0,1)","v":0},{"$f":"IF(OR(Marksheet!BE33=\"_\",Marksheet!BE33=\".\",Marksheet!BE33=\"\"),0,1)","v":0},{"$f":"IF(OR(Marksheet!BF33=\"_\",Marksheet!BF33=\".\",Marksheet!BF33=\"\"),0,1)","v":0},{"$f":"IF(OR(Marksheet!BG33=\"_\",Marksheet!BG33=\".\",Marksheet!BG33=\"\"),0,1)","v":0},{"$f":"IF(OR(Marksheet!BH33=\"_\",Marksheet!BH33=\".\",Marksheet!BH33=\"\"),0,1)","v":0},{"$f":"IF(OR(Marksheet!BI33=\"_\",Marksheet!BI33=\".\",Marksheet!BI33=\"\"),0,1)","v":0},{"$f":"IF(OR(Marksheet!BJ33=\"_\",Marksheet!BJ33=\".\",Marksheet!BJ33=\"\"),0,1)","v":0},{"$f":"IF(OR(Marksheet!BK33=\"_\",Marksheet!BK33=\".\",Marksheet!BK33=\"\"),0,1)","v":0},{"$f":"IF(OR(Marksheet!BL33=\"_\",Marksheet!BL33=\".\",Marksheet!BL33=\"\"),0,1)","v":0},{"$f":"IF(OR(Marksheet!BM33=\"_\",Marksheet!BM33=\".\",Marksheet!BM33=\"\"),0,1)","v":0},{"$f":"IF(OR(Marksheet!BN33=\"_\",Marksheet!BN33=\".\",Marksheet!BN33=\"\"),0,1)","v":0},{"$f":"IF(OR(Marksheet!BO33=\"_\",Marksheet!BO33=\".\",Marksheet!BO33=\"\"),0,1)","v":0},{"$f":"IF(OR(Marksheet!BP33=\"_\",Marksheet!BP33=\".\",Marksheet!BP33=\"\"),0,1)","v":0},{"$f":"IF(OR(Marksheet!BQ33=\"_\",Marksheet!BQ33=\".\",Marksheet!BQ33=\"\"),0,1)","v":0},{"$f":"IF(OR(Marksheet!BR33=\"_\",Marksheet!BR33=\".\",Marksheet!BR33=\"\"),0,1)","v":0},{"$f":"IF(OR(Marksheet!BS33=\"_\",Marksheet!BS33=\".\",Marksheet!BS33=\"\"),0,1)","v":0},{"$f":"IF(OR(Marksheet!BT33=\"_\",Marksheet!BT33=\".\",Marksheet!BT33=\"\"),0,1)","v":0},{"$f":"IF(OR(Marksheet!BU33=\"_\",Marksheet!BU33=\".\",Marksheet!BU33=\"\"),0,1)","v":0},{"$f":"IF(OR(Marksheet!BV33=\"_\",Marksheet!BV33=\".\",Marksheet!BV33=\"\"),0,1)","v":0}]
[null,null,null,null,null,null,null,null,0,0,0,0,0,0,0,0,0,0,0,0,0,0,0,0,0,0,0,0,0,0,0,0,0,0,0,0,0,0,0,0,0,0,0,0,0,0,0,0,0,0,0,0,0,0,0,0,0,0,0,0,0,0,0,0,0,0,0,0,0,0,0,0,0,0]